Workbook

Sheet Listado de Activida
A1: ITEM | B1: UM | C1: CANTIDAD | D1: DESCRIPCIÓN | E1: Precio Unit | F1: Precio Total
A2: SUBPROYECTO A1 (OPCION A)
A3: 01 | D3: DEFENSAS RIBEREÑAS
A4: 01.01 | D4: OBRAS PRELIMINARES
A5: 01.01.01 | B5: und | C5: 1 | D5: CARTEL DE IDENTIFICACIÓN OBRA 4.80 x 3.60 m.
A6: 01.01.02 | B6: glb | C6: 1 | D6: INSTALACIONES PROVISIONALES PARA LA OBRA
A7: 01.01.03 | B7: mes | C7: 6.5 | D7: MANTENIMIENTO DE TRÁNSITO Y SEGURIDAD VIAL
A8: 01.02 | D8: TRABAJOS PRELIMINARES
A9: 01.02.01 | B9: glb | C9: 1 | D9: MOVILIZACION Y DESMOVILIZACION DE EQUIPOS
A10: 01.02.02 | B10: mes | C10: 5.77 | D10: TOPOGRAFÍA Y GEOREFERENCIACIÓN
A11: 01.03 | D11: DIQUES DE TIERRA COMPACTADA CON ENROCADO
A12: 01.03.01 | D12: DIQUE DE TIERRA COMPACTADA A1-D-01
A13: 01.03.01.01 | B13: m3 | C13: 9732.59 | D13: COLOCACION Y ACOMODO DE ROCA EN UÑA DE DIQUE
A14: 01.03.01.02 | B14: m3 | C14: 6302.55 | D14: COLOCACION Y ACOMODO DE ROCA EN TALUD DE DIQUE
A15: 01.03.02 | D15: DIQUE DE TIERRA COMPACTADA A1-I-01
A16: 01.03.02.01 | B16: m3 | C16: 2987.11 | D16: CONFORMACIÓN DE MATERIAL GRANULAR EN CORONA DE DIQUE
A17: 01.03.02.02 | B17: m3 | C17: 10578.95 | D17: COLOCACION Y ACOMODO DE ROCA EN UÑA DE DIQUE
A18: 01.03.02.03 | B18: m3 | C18: 7088.07 | D18: COLOCACION Y ACOMODO DE ROCA EN TALUD DE DIQUE
A19: 01.03.03 | D19: DIQUE DE TIERRA COMPACTADA A1-D-02
A20: 01.03.03.01 | B20: m3 | C20: 234.1 | D20: CONFORMACIÓN DE MATERIAL GRANULAR EN CORONA DE DIQUE
A21: 01.03.03.02 | B21: m3 | C21: 1338 | D21: COLOCACION Y ACOMODO DE ROCA EN UÑA DE DIQUE
A22: 01.03.03.03 | B22: m3 | C22: 957.34 | D22: COLOCACION Y ACOMODO DE ROCA EN TALUD DE DIQUE
A23: 01.03.04 | D23: DIQUE DE TIERRA COMPACTADA A1-I-02
A24: 01.03.04.01 | B24: m3 | C24: 228.24 | D24: CONFORMACIÓN DE MATERIAL GRANULAR EN CORONA DE DIQUE
A25: 01.03.04.02 | B25: m3 | C25: 1337.24 | D25: COLOCACION Y ACOMODO DE ROCA EN UÑA DE DIQUE
A26: 01.03.04.03 | B26: m3 | C26: 960.14 | D26: COLOCACION Y ACOMODO DE ROCA EN TALUD DE DIQUE
A27: 02.01.02 | D27: OBRAS DE ARTE (REBOSES)
A28: 02.01.02 | D28: ESTRUCTURA DE REBOSE
A29: 02.01.02 | D29: OBRAS DE CONCRETO
A30: 02.01.02.01 | B30: m3 | C30: =+'[1]Estructura de rebose'!$N$88 -> 8.719 | D30: CONCRETO F'C=100 Kg/cm2
A31: 02.01.02.02 | B31: m3 | C31: =+'[1]Estructura de rebose'!$N$109 -> 71.73 | D31: CONCRETO F'C=280 Kg/cm2
A32: 02.01.02.03 | B32: m2 | C32: =+'[1]Estructura de rebose'!$P$178 -> 335.0388 | D32: ENCOFRADO Y DESENCOFRADO RECTO
A33: 02.01.02.04 | B33: kg | C33: =+'[1]Estructura de rebose'!$M$352 -> 5897.718 | D33: ACERO DE REFUERZO Fy=4200 Kg/cm2
A34: 02.01.03 | D34: TUBERÍAS
A35: 02.01.03.01 | B35: m | C35: =+'[1]Estructura de rebose'!$N$362 -> 23.9 | D35: SUMINISTRO E INSTALACIÓN DE TUBERÍA HDPE DN800 mm
A36: 02.01.03.02 | B36: m | C36: =+'[1]Estructura de rebose'!$N$363 -> 77.94 | D36: SUMINISTRO E INSTALACIÓN DE TUBERÍA HDPE DN1000 mm
A37: 05. | D37: INTERFERENCIAS
A38: 05.01 | D38: CANAL A REPONER DE SECCIÓN RECTANGULAR
A39: 05.01.02 | D39: OBRAS DE CONCRETO
A40: 05.01.02.01 | B40: m2 | C40: =+'[2]Reposición de canales'!$E9 -> 1428.804 | D40: ENCOFRADO Y DESENCOFRADO RECTO
...

Sheet Prelim
E4: PLANILLA DE CANTIDADES
E8: PROYECTO | H8: DEFENSAS RIBEREÑAS DEL RÍO LACRAMARCA
E9: SUBPROYECTO | H9: A1
E10: UBICACIÓN | H10: Río Lacramarca | O10: Fecha
E12: Partida: | G12: 01.01 | J12: OBRAS PRELIMINARES
E13: Partida: | G13: 01.01.01 | J13: CARTEL DE IDENTIFICACIÓN OBRA 4.80 x 3.60 m.
J15: Unid. | L15: METRADO
J16: Und | L16: 1
J17: Total | L17: =+L16 -> 1
E19: Partida: | G19: 01.01.02 | J19: INSTALACIONES PROVISIONALES PARA LA OBRA
J21: Unid. | L21: METRADO
J22: glb | L22: 1
J23: Total | L23: =+L22 -> 1
E25: Partida: | G25: 01.01.03 | J25: MANTENIMIENTO DE TRÁNSITO Y SEGURIDAD VIAL
J27: Unid. | L27: METRADO
J28: mes | L28: 2
J29: Total | L29: =+L28 -> 2
E32: Partida: | G32: 01.02 | J32: TRABAJOS PRELIMINARES
E33: Partida: | G33: 01.02.01 | J33: MOVILIZACIÓN Y DESMOVILIZACIÓN DE EQUIPOS
J36: Unid. | L36: METRADO
J37: glb | L37: 1
J38: Total | L38: =+L37 -> 1
E41: Partida: | G41: 01.02.02 | J41: TOPOGRAFÍA Y GEORREFERENCIACIÓN
J43: Unid. | L43: METRADO
J44: Mes | L44: 2
J45: Total | L45: =+L44 -> 2

Sheet Transporte
E4: PLANILLA DE CANTIDADES
E8: PROYECTO | H8: DEFENSAS RIBEREÑAS DEL RÍO LACRAMARCA
E9: SUBPROYECTO | H9: A1
E10: UBICACIÓN | H10: RÍO LACRAMARCA | O10: Fecha
E12: Partida: | G12: 03 | I12: TRANSPORTE DE MATERIAL
E13: Partida: | G13: 03.01 | I13: Transporte de material granular para distancias < 1km
E15: Cantera: Principe
G16: Descripción | P16: Volumen (m3)
G17: CONFORMACIÓN DEL CUERPO DE DIQUE A1-D-01 | P17: =+'Listado de Activida'!C79 -> 23733.99
G18: CONFORMACIÓN DEL CUERPO DE DIQUE A1-I-01 | P18: =+'Listado de Activida'!C89 -> 24298.28
G19: CONFORMACIÓN DEL CUERPO DE DIQUE A1-D-02 | P19: =+'Listado de Activida'!C98 -> 4807.3
G20: CONFORMACIÓN DEL CUERPO DE DIQUE A1-I-02 | P20: =+'Listado de Activida'!C107 -> 4853.15
G21: CONFORMACIÓN MAT.GRANULAR CORONA DE DIQUE A1-D-01 | P21: =+'Listado de Activida'!C81 -> 2780.02
G22: CONFORMACIÓN MAT.GRANULAR CORONA DE DIQUE A1-I-01 | P22: =+'Listado de Activida'!C16 -> 2987.11
G23: CONFORMACIÓN MAT.GRANULAR CORONA DE DIQUE A1-D-02 | P23: =+'Listado de Activida'!C20 -> 234.1
G24: CONFORMACIÓN MAT.GRANULAR CORONA DE DIQUE A1-I-02 | P24: =+'Listado de Activida'!C24 -> 228.24
G25: CONFORMACIÓN DE CUERPO DE RAMPA | P25: 857.85
G26: CONF. MAT. GRANULAR CORONA RAMPA | P26: 329.99
G27: OTRAS INFRAESTRUCTURAS | P27: 677.81
G28: DIQUE NATURALIZADO | P28: 34873.553
G29: DIQUE NATURALIZADO CORONACIÓN | P29: 7115.87
G30: GRAVAS (#16 Y 6) DIQUE A1-D-01 | P30: =+'Listado de Activida'!C77+'Listado de Activida'!C78 -> 22636.44
G31: GRAVAS (#16 Y 6) DIQUE A1-I-01 | P31: =+'Listado de Activida'!C87+'Listado de Activida'!C88 -> 23654.21
G32: GRAVAS (#16 Y 6) DIQUE A1-D-02 | P32: =+'Listado de Activida'!C96+'Listado de Activida'!C97 -> 5003.35
G33: GRAVAS (#16 Y 6) DIQUE A1-I-02 | P33: =+'Listado de Activida'!C105+'Listado de Activida'!C106 -> 5361.82
G34: Total | P34: =SUM(P17:R33) -> 164433.08
F36: Volumen (m3) | I36: m3 x km
F37: =+P34 -> 164433.08 | I37: 146813.76
F38: Total | I38: =+I37 -> 146813.76
E56: Partida: | G56: 03.02 | I56: Transporte de material granular para distancias > 1km
E58: Cantera: Principe
G59: Descripción | P59: Volumen (m3)
G60: CONFORMACIÓN DEL CUERPO DE DIQUE A2-D-01 | P60: =+P17 -> 23733.99
G61: =+G18 -> CONFORMACIÓN DEL CUERPO DE DIQUE A1-I-01 | P61: =+P18 -> 24298.28
G62: =+G19 -> CONFORMACIÓN DEL CUERPO DE DIQUE A1-D-02 | P62: =+P19 -> 4807.3
G63: =+G20 -> CONFORMACIÓN DEL CUERPO DE DIQUE A1-I-02 | P63: =+P20 -> 4853.15
G64: =+G21 -> CONFORMACIÓN MAT.GRANULAR CORONA DE DIQUE A1-D-01 | P64: =+P21 -> 2780.02
G65: =+G22 -> CONFORMACIÓN MAT.GRANULAR CORONA DE DIQUE A1-I-01 | P65: =+P22 -> 2987.11
G66: =+G23 -> CONFORMACIÓN MAT.GRANULAR CORONA DE DIQUE A1-D-02 | P66: =+P23 -> 234.1
G67: =+G24 -> CONFORMACIÓN MAT.GRANULAR CORONA DE DIQUE A1-I-02 | P67: =+P24 -> 228.24
...
