Workbook

Sheet Metrados
A6: Metrados - Quebrada Pampa del Toro
A8: Proyecto : | B8: DEFENSAS RIBEREÑAS DEL RIO LACRAMARCA - PAQUETE R-07
A9: Subproyecto : | B9: SECTOR 2 QUEBRADA PAMPA DEL TORO
A10: Ubicación : | B10: ANCASH - SANTA - CHIMBOTE
A12: Item | B12: Descripción | K12: unidad | L12: Metrado | N12: P.U. (S/.) | O12: Parcial (S/.) | P12: Sub Total (S/.)
A13: 01.01 | B13: OBRAS PROVISIONALES | P13: =SUM(O14:O19) -> #REF!
A14: 01.01.01 | B14: CARTEL DE IDENTIFICACIÓN DE OBRA 4.8 m x 3.60 m | K14: und | L14: 1 | N14: =+#REF! -> #REF! | O14: =+L14*N14 -> #REF!
A15: 01.01.02 | B15: INSTALACIONES PROVISIONALES PARA LA OBRA | K15: glb | L15: 1 | N15: =+#REF! -> #REF! | O15: =+L15*N15 -> #REF!
A16: 01.01.03 | B16: MANTENIMIENTO DE TRANSITO Y SEGURIDAD VIAL | K16: mes | L16: 1 | N16: 3.41 | O16: =+L16*N16 -> 3.41
A17: 01.02 | B17: TRABAJOS PRELIMINARES | N17: =+#REF! -> #REF! | O17: =+L17*N17 -> #REF!
A18: 01.02.01 | B18: MOVILIZACION Y DESMOVILIZACION DE EQUIPOS | K18: glb | L18: 1 | N18: =+#REF! -> #REF! | O18: =+L18*N18 -> #REF!
A19: 01.02.02 | B19: TRAZO Y REPLANTEO DE OBRA | K19: m2 | L19: ='PD_A4.2-2-MI'!D5+'PD_A4.2-1-MD'!D5+'D_A4.2-1-MD'!D5+'D_A4.2-2-MD'!D5+'PC_A4.2-1'!D5+'CAMINO PROY'!D5 -> 6820.555 | N19: 1200000 | O19: =L19*N19 -> 8184666000
A20: 01.03 | B20: DIQUES Y PROTECCIÓN DE CAUCE CON ENROCADO | P20: =SUM(O21:O34) -> 0
A21: 01.03.01 | B21: DIQUE DE TIERRA COMPACTADA | N21: =SUM([1]Tabla!AZ4:AZ2765) -> 66585015 | O21: =+L21*N21 -> 0
A22: 1.03.01.01 | B22: DESBROCE Y LIMPIEZA EN ZONA NO BOSCOSA | K22: m2 | L22: ='D_A4.2-1-MD'!D11+'D_A4.2-2-MD'!D11 -> 3665.0845
A23: 1.03.01.02 | B23: EXCAVACIÓN EN MATERIAL SUELTO CON EQUIPO | K23: m3 | L23: ='D_A4.2-1-MD'!D30+'D_A4.2-2-MD'!D37 -> 2391.2757
A24: 1.03.01.03 | B24: PERFILADO Y COMPACTACIÓN EN ZONA DE CORTE | K24: m2 | L24: ='D_A4.2-1-MD'!D49+'D_A4.2-2-MD'!D63 -> 3003.6527
A25: 1.03.01.04 | B25: CONFORMACIÓN DE CUERPO DEL DIQUE | K25: m3 | L25: ='D_A4.2-1-MD'!D68+'D_A4.2-2-MD'!D89 -> 3660.3463
A26: 1.03.01.05 | B26: CONFORMACIÓN DE MATERIAL GRANULAR EN CORONA DEL DIQUE | K26: m3 | L26: ='D_A4.2-1-MD'!D87+'D_A4.2-2-MD'!D115 -> 416.1075
A27: 01.03.02 | B27: ENROCADO CON PIEDRA ACOMODADA | N27: =SUM([1]Tabla!BA4:BA2765) -> 72440788 | O27: =+L27*N27 -> 0
A28: 01.03.02.01 | B28: DESBROCE Y LIMPIEZA EN ZONA NO BOSCOSA | K28: m2 | L28: ='PD_A4.2-2-MI'!D11+'PD_A4.2-1-MD'!D11 -> 1513.3222
A29: 01.03.02.02 | B29: EXCAVACIÓN EN MATERIAL SUELTO CON EQUIPO | K29: m3 | L29: ='PD_A4.2-2-MI'!D42+'PD_A4.2-1-MD'!D22+'D_A4.2-1-MD'!J30+'D_A4.2-2-MD'!J37 -> 2247.3364
A30: 01.03.02.03 | B30: PERFILADO Y COMPACTACIÓN EN ZONA DE CORTE | K30: m2 | L30: ='PD_A4.2-2-MI'!D73+'PD_A4.2-1-MD'!D33+'D_A4.2-1-MD'!J49+'D_A4.2-2-MD'!J63 -> 3178.8479
A31: 01.03.02.04 | B31: GEOTEXTIL NO TEJIDO 400 gr/m2, INC. COLOCACIÓN | K31: m2 | L31: ='PD_A4.2-2-MI'!D104+'PD_A4.2-1-MD'!D44+'D_A4.2-1-MD'!D106+'D_A4.2-2-MD'!D141 -> 4762.3435
A32: 01.03.02.05 | B32: CAMA DE APOYO (e=0.25 m) | K32: m3 | L32: ='PD_A4.2-2-MI'!F135+'PD_A4.2-1-MD'!F55+'D_A4.2-1-MD'!F125+'D_A4.2-2-MD'!F167 -> 884.79856
A33: 01.03.02.06 | B33: COLOCACIÓN Y ACOMODO DE ROCA EN UÑA DEL DIQUE | K33: m3 | L33: ='PD_A4.2-2-MI'!D166+'PD_A4.2-1-MD'!D66+'D_A4.2-1-MD'!D144+'D_A4.2-2-MD'!D193 -> 1331.9596
A34: 01.03.02.07 | B34: COLOCACIÓN Y ACOMODO DE ROCA EN TALUD DEL DIQUE | K34: m3 | L34: ='PD_A4.2-2-MI'!D197+'PD_A4.2-1-MD'!D77+'D_A4.2-1-MD'!D163+'D_A4.2-2-MD'!D219 -> 1339.1831
A35: 01.03.03 | B35: PROTECCIÓN DEL CAUCE CON ENROCADO | N35: =SUM([1]Tabla!BA2:BA2763) -> 72440788 | O35: =+L35*N35 -> 0
A36: 1.03.03.01 | B36: EXCAVACIÓN EN MATERIAL SUELTO CON EQUIPO | K36: m3 | L36: ='PC_A4.2-1'!E19 -> 600
A37: 1.03.03.02 | B37: PERFILADO Y COMPACTACIÓN CON EQUIPO DE FONDO DE EXCAVACIÓN | K37: m2 | L37: ='PC_A4.2-1'!E26 -> 600
A38: 1.03.03.03 | B38: COLOCACIÓN DE ROCA EN CAUCE | K38: m3 | L38: ='PC_A4.2-1'!E33 -> 600
A39: 1.04 | B39: REPOSICIÓN DE CAMINO DE ACCESO
A40: 1.04.01 | B40: DESBROCE Y LIMPIEZA EN ZONA NO BOSCOSA | K40: m2 | L40: ='CAMINO PROY'!D11 -> 991.2749
A41: 1.04.02 | B41: EXCAVACIÓN EN MATERIAL SUELTO CON EQUIPO | K41: m3 | L41: ='CAMINO PROY'!D41 -> 322.4215
A42: 1.04.03 | B42: PERFILADO Y COMPACTACIÓN EN ZONA DE CORTE | K42: m2 | L42: ='CAMINO PROY'!D71 -> 864.973
A43: 1.04.04 | B43: CONFORMACIÓN DE TERRAPLEN EN CAMINO | K43: m3 | L43: ='CAMINO PROY'!D101 -> 164.244
A44: 1.04.05 | B44: MATERIAL AFIRMADO e=0.30 m | K44: m3 | L44: ='CAMINO PROY'!D131 -> 278.384
A45: 01.05 | B45: TRANSPORTE DE MATERIAL | N45: =SUM([1]Tabla!BA6:BA2767) -> 72440788 | O45: =+L45*N45 -> 0
A46: 1.05.01 | B46: TRANSPORTE DE MATERIAL GRANULAR PARA DISTANCIAS < 1KM | K46: m3-km | L46: =TRANS_MAT!D14 -> 3976.7919
A47: 1.05.02 | B47: TRANSPORTE DE MATERIAL GRANULAR PARA DISTANCIAS > 1KM | K47: m3-km | L47: =TRANS_MAT!E14 -> 42705.323
A48: 1.05.03 | B48: TRANSPORTE DE ROCA PARA DISTANCIAS < 1KM | K48: m3-km | L48: =TRANS_MAT!D26 -> 2878.6056
A49: 1.05.04 | B49: TRANSPORTE DE ROCA PARA DISTANCIAS > 1KM | K49: m3-km | L49: =TRANS_MAT!E26 -> 53450.472
A50: 1.05.05 | B50: TRANSPORTE DE MATERIAL EXCEDENTE PARA DISTANCIAS < 1KM | K50: m3-km | L50: =TRANS_MAT!D39 -> 6522.5056
A51: 1.05.06 | B51: TRANSPORTE DE MATERIAL EXCEDENTE PARA DISTANCIAS > 1KM | K51: m3-km | L51: =TRANS_MAT!E39 -> 27424.171
A52: 01.06 | B52: MONITOREO Y CONTROL AMBIENTAL | P52: =SUM(O53:O56) -> #REF!
A53: 01.06.01 | B53: PROGRAMA DE CIERRE DE OBRA | N53: 46550 | O53: =+L53*N53 -> 0
A54: 1.06.01.01 | B54: ACONDICIONAMIENTO DE DEPÓSITOS DE MATERIALES EXCEDENTES (DME) | K54: m3 | L54: =TRANS_MAT!B36 -> 7411.9381 | N54: =+#REF! -> #REF! | O54: =+L54*N54 -> #REF!
A55: 1.06.01.02 | B55: RESTAURACIÓN DE ÁREAS DE INSTALACIONES PROVISIONALES | K55: m2 | L55: 1000 | N55: 400000 | O55: =L55*N55 -> 400000000
A56: 01.06.02 | B56: PROGRAMA DE MONITOREO AMBIENTAL | N56: 800000 | O56: =L56*N56 -> 0
A57: 1.06.02.01 | B57: MONITOREO DE CALIDAD DEL AGUA | K57: pto | L57: =Mo_AMB!F6 -> 4
A58: 1.06.02.02 | B58: MONITOREO DE CALIDAD DEL AIRE | K58: pto | L58: =Mo_AMB!F11 -> 2 | P58: =SUM(P13:P52) -> #REF!
A59: 1.06.02.03 | B59: MONITOREO DE RUIDOS | K59: pto | L59: =Mo_AMB!F14 -> 4 | P59: =+K59*P58 -> #VALUE!
A60: 01.07 | B60: OTROS | P60: =============
A61: 01.07.01 | B61: SEGURIDAD Y SALUD OCUPACIONAL | K61: glb | L61: 1 | O61: =+P58 -> #REF!
A62: 01.07.02 | B62: IMPLEMENTACIÓN DEL PLAN PARA LA VIGILANCIA, PREVENCIÓN Y CONTROL DE COVID-19 EN EL TRABAJO | K62: glb | L62: 1
O63: 2.0965696e+08

Sheet PD_A4.2-2-MI
A2: TRAZO Y REPLANTEO DE OBRA
A3: ITEM | B3: Cantidad | C3: Área (m2) | D3: Área (m2)
A4: PD A4.2-2 MI | B4: 1 | C4: 1340.1003 | D4: =B4*C4 -> 1340.1003
A5: TOTAL | D5: =SUM(D4:D4) -> 1340.1003
A8: DESBROCE Y LIMPIEZA EN ZONA NO BOSCOSA
A9: ITEM | B9: Cantidad | C9: Área (m2) | D9: Área (m2)
A10: PD A4.2-2 MI | B10: 1 | C10: 1340.1003 | D10: =B10*C10 -> 1340.1003
A11: TOTAL | D11: =SUM(D10:D10) -> 1340.1003
A14: EXCAVACIÓN EN MATERIAL SUELTO CON EQUIPO
A15: Progresiva | B15: Distancia (m) | C15: Área Corte (m2) | D15: Volumen Corte (m3)
A16: 0 | B16: 0 | C16: 8.5761 | D16: =B16*C16 -> 0
A17: 5 | B17: =A17-A16 -> 5 | C17: 11.7016 | D17: =B17*(C17+C16)/2 -> 50.69425
A18: 10 | B18: =A18-A17 -> 5 | C18: 12.4607 | D18: =B18*(C18+C17)/2 -> 60.40575
A19: 15 | B19: =A19-A18 -> 5 | C19: 13.5941 | D19: =B19*(C19+C18)/2 -> 65.137
A20: 20 | B20: =A20-A19 -> 5 | C20: 8.2587 | D20: =B20*(C20+C19)/2 -> 54.632
A21: 24 | B21: =A21-A20 -> 4 | C21: 6.4169 | D21: =B21*(C21+C20)/2 -> 29.3512
A22: 30 | B22: =A22-A21 -> 6 | C22: 6.075 | D22: =B22*(C22+C21)/2 -> 37.4757
A23: 35 | B23: =A23-A22 -> 5 | C23: 14.3075 | D23: =B23*(C23+C22)/2 -> 50.95625
A24: 40 | B24: =A24-A23 -> 5 | C24: 8.4723 | D24: =B24*(C24+C23)/2 -> 56.9495
A25: 45 | B25: =A25-A24 -> 5 | C25: 8.3249 | D25: =B25*(C25+C24)/2 -> 41.993
A26: 50 | B26: =A26-A25 -> 5 | C26: 10.4747 | D26: =B26*(C26+C25)/2 -> 46.999
A27: 55 | B27: =A27-A26 -> 5 | C27: 10.8793 | D27: =B27*(C27+C26)/2 -> 53.385
A28: 60 | B28: =A28-A27 -> 5 | C28: 10.4848 | D28: =B28*(C28+C27)/2 -> 53.41025
... A41: 125 | B41: =A41-A40 -> 5 | C41: 0 | D41: =B41*(C41+C40)/2 -> 30.725
A42: TOTAL | D42: =SUM(D16:D41) -> 1293.1359
A45: PERFILADO Y COMPACTACIÓN EN ZONA DE CORTE
A46: Progresiva | B46: Distancia (m) | C46: Longitud (m) | D46: Área (m2)
A47: 0 | B47: 0 | C47: 9.9288 | D47: =B47*C47 -> 0
A48: 5 | B48: =A48-A47 -> 5 | C48: 11.7975 | D48: =B48*(C48+C47)/2 -> 54.31575
A49: 10 | B49: =A49-A48 -> 5 | C49: 11.344 | D49: =B49*(C49+C48)/2 -> 57.85375
A50: 15 | B50: =A50-A49 -> 5 | C50: 12.4278 | D50: =B50*(C50+C49)/2 -> 59.4295
A51: 20 | B51: =A51-A50 -> 5 | C51: 10.0269 | D51: =B51*(C51+C50)/2 -> 56.13675
A52: 24 | B52: =A52-A51 -> 4 | C52: 9.2294 | D52: =B52*(C52+C51)/2 -> 38.5126
A53: 30 | B53: =A53-A52 -> 6 | C53: 7.1067 | D53: =B53*(C53+C52)/2 -> 49.0083
A54: 35 | B54: =A54-A53 -> 5 | C54: 14.3347 | D54: =B54*(C54+C53)/2 -> 53.6035
A55: 40 | B55: =A55-A54 -> 5 | C55: 12.3964 | D55: =B55*(C55+C54)/2 -> 66.82775
A56: 45 | B56: =A56-A55 -> 5 | C56: 10.7351 | D56: =B56*(C56+C55)/2 -> 57.82875
A57: 50 | B57: =A57-A56 -> 5 | C57: 11.8338 | D57: =B57*(C57+C56)/2 -> 56.42225
A58: 55 | B58: =A58-A57 -> 5 | C58: 15.3106 | D58: =B58*(C58+C57)/2 -> 67.861
A59: 60 | B59: =A59-A58 -> 5 | C59: 15.109 | D59: =B59*(C59+C58)/2 -> 76.049
... A72: 125 | B72: =A72-A71 -> 5 | C72: 0 | D72: =B72*(C72+C71)/2 -> 32.954
A73: TOTAL | D73: =SUM(D47:D72) -> 1588.7679
A76: GEOTEXTIL NO TEJIDO 400 gr/m2, INC. COLOCACIÓN
A77: Progresiva | B77: Distancia (m) | C77: Longitud (m) | D77: Área (m2)
A78: 0 | B78: 0 | C78: 12.2492 | D78: =B78*C78 -> 0
A79: 5 | B79: =A79-A78 -> 5 | C79: 12.2492 | D79: =B79*(C79+C78)/2 -> 61.246
A80: 10 | B80: =A80-A79 -> 5 | C80: 12.2492 | D80: =B80*(C80+C79)/2 -> 61.246
A81: 15 | B81: =A81-A80 -> 5 | C81: 12.2492 | D81: =B81*(C81+C80)/2 -> 61.246
A82: 20 | B82: =A82-A81 -> 5 | C82: 12.2492 | D82: =B82*(C82+C81)/2 -> 61.246
A83: 24 | B83: =A83-A82 -> 4 | C83: 12.32 | D83: =B83*(C83+C82)/2 -> 49.1384
A84: 30 | B84: =A84-A83 -> 6 | C84: 12.2492 | D84: =B84*(C84+C83)/2 -> 73.7076
A85: 35 | B85: =A85-A84 -> 5 | C85: 12.2492 | D85: =B85*(C85+C84)/2 -> 61.246
A86: 40 | B86: =A86-A85 -> 5 | C86: 12.2492 | D86: =B86*(C86+C85)/2 -> 61.246
A87: 45 | B87: =A87-A86 -> 5 | C87: 12.2492 | D87: =B87*(C87+C86)/2 -> 61.246
A88: 50 | B88: =A88-A87 -> 5 | C88: 12.2492 | D88: =B88*(C88+C87)/2 -> 61.246
A89: 55 | B89: =A89-A88 -> 5 | C89: 12.2492 | D89: =B89*(C89+C88)/2 -> 61.246
A90: 60 | B90: =A90-A89 -> 5 | C90: 12.2492 | D90: =B90*(C90+C89)/2 -> 61.246
... A103: 125 | B103: =A103-A102 -> 5 | C103: 0 | D103: =B103*(C103+C102)/2 -> 30.623
A104: TOTAL | D104: =SUM(D78:D103) -> 1500.881
A107: CAMA DE APOYO (e=0.25 m)
A108: Progresiva | B108: Distancia (m) | C108: Longitud (m) | D108: Área (m2) | E108: Espesor (m) | F108: Volumen (m3)
A109: 0 | B109: 0 | C109: 9.1618 | D109: =B109*C109 -> 0 | E109: 0.25 | F109: =D109*E109 -> 0
A110: 5 | B110: =A110-A109 -> 5 | C110: 9.1618 | D110: =B110*(C110+C109)/2 -> 45.809 | E110: 0.25 | F110: =D110*E110 -> 11.45225
A111: 10 | B111: =A111-A110 -> 5 | C111: 9.1618 | D111: =B111*(C111+C110)/2 -> 45.809 | E111: 0.25 | F111: =D111*E111 -> 11.45225
A112: 15 | B112: =A112-A111 -> 5 | C112: 9.1618 | D112: =B112*(C112+C111)/2 -> 45.809 | E112: 0.25 | F112: =D112*E112 -> 11.45225
A113: 20 | B113: =A113-A112 -> 5 | C113: 9.1618 | D113: =B113*(C113+C112)/2 -> 45.809 | E113: 0.25 | F113: =D113*E113 -> 11.45225
A114: 24 | B114: =A114-A113 -> 4 | C114: 9.1279 | D114: =B114*(C114+C113)/2 -> 36.5794 | E114: 0.25 | F114: =D114*E114 -> 9.14485
A115: 30 | B115: =A115-A114 -> 6 | C115: 9.1618 | D115: =B115*(C115+C114)/2 -> 54.8691 | E115: 0.25 | F115: =D115*E115 -> 13.717275
A116: 35 | B116: =A116-A115 -> 5 | C116: 9.1618 | D116: =B116*(C116+C115)/2 -> 45.809 | E116: 0.25 | F116: =D116*E116 -> 11.45225
A117: 40 | B117: =A117-A116 -> 5 | C117: 9.1618 | D117: =B117*(C117+C116)/2 -> 45.809 | E117: 0.25 | F117: =D117*E117 -> 11.45225
A118: 45 | B118: =A118-A117 -> 5 | C118: 9.1618 | D118: =B118*(C118+C117)/2 -> 45.809 | E118: 0.25 | F118: =D118*E118 -> 11.45225
A119: 50 | B119: =A119-A118 -> 5 | C119: 9.1618 | D119: =B119*(C119+C118)/2 -> 45.809 | E119: 0.25 | F119: =D119*E119 -> 11.45225
A120: 55 | B120: =A120-A119 -> 5 | C120: 9.1618 | D120: =B120*(C120+C119)/2 -> 45.809 | E120: 0.25 | F120: =D120*E120 -> 11.45225
A121: 60 | B121: =A121-A120 -> 5 | C121: 9.1618 | D121: =B121*(C121+C120)/2 -> 45.809 | E121: 0.25 | F121: =D121*E121 -> 11.45225
... A134: 125 | B134: =A134-A133 -> 5 | C134: 0 | D134: =B134*(C134+C133)/2 -> 22.9045 | E134: 0.25 | F134: =D134*E134 -> 5.726125
A135: TOTAL | F135: =SUM(F109:F134) -> 280.53775
A138: COLOCACIÓN Y ACOMODO DE ROCA EN UÑA DEL DIQUE
A139: Progresiva | B139: Distancia (m) | C139: Área roca (m2) | D139: Volumen roca (m3)
A140: 0 | B140: 0 | C140: 3.3626 | D140: =B140*C140 -> 0
A141: 5 | B141: =A141-A140 -> 5 | C141: 3.3626 | D141: =B141*(C141+C140)/2 -> 16.813
A142: 10 | B142: =A142-A141 -> 5 | C142: 3.3626 | D142: =B142*(C142+C141)/2 -> 16.813
A143: 15 | B143: =A143-A142 -> 5 | C143: 3.3626 | D143: =B143*(C143+C142)/2 -> 16.813
A144: 20 | B144: =A144-A143 -> 5 | C144: 3.3626 | D144: =B144*(C144+C143)/2 -> 16.813
A145: 24 | B145: =A145-A144 -> 4 | C145: 3.4131 | D145: =B145*(C145+C144)/2 -> 13.5514
A146: 30 | B146: =A146-A145 -> 6 | C146: 3.3626 | D146: =B146*(C146+C145)/2 -> 20.3271
A147: 35 | B147: =A147-A146 -> 5 | C147: 3.3626 | D147: =B147*(C147+C146)/2 -> 16.813
A148: 40 | B148: =A148-A147 -> 5 | C148: 3.3626 | D148: =B148*(C148+C147)/2 -> 16.813
A149: 45 | B149: =A149-A148 -> 5 | C149: 3.3626 | D149: =B149*(C149+C148)/2 -> 16.813
A150: 50 | B150: =A150-A149 -> 5 | C150: 3.3626 | D150: =B150*(C150+C149)/2 -> 16.813
A151: 55 | B151: =A151-A150 -> 5 | C151: 3.3626 | D151: =B151*(C151+C150)/2 -> 16.813
A152: 60 | B152: =A152-A151 -> 5 | C152: 3.3626 | D152: =B152*(C152+C151)/2 -> 16.813
... A165: 125 | B165: =A165-A164 -> 5 | C165: 0 | D165: =B165*(C165+C164)/2 -> 8.4065
A166: TOTAL | D166: =SUM(D140:D165) -> 412.171
A169: COLOCACIÓN Y ACOMODO DE ROCA EN TALUD DEL DIQUE
A170: Progresiva | B170: Distancia (m) | C170: Área roca (m2) | D170: Volumen roca (m3)
A171: 0 | B171: 0 | C171: 3.604 | D171: =B171*C171 -> 0
A172: 5 | B172: =A172-A171 -> 5 | C172: 3.6043 | D172: =B172*(C172+C171)/2 -> 18.02075
A173: 10 | B173: =A173-A172 -> 5 | C173: 3.6043 | D173: =B173*(C173+C172)/2 -> 18.0215
A174: 15 | B174: =A174-A173 -> 5 | C174: 3.6045 | D174: =B174*(C174+C173)/2 -> 18.022
A175: 20 | B175: =A175-A174 -> 5 | C175: 3.6039 | D175: =B175*(C175+C174)/2 -> 18.021
...

Sheet PD_A4.2-1-MD
A2: TRAZO Y REPLANTEO DE OBRA
A3: ITEM | B3: Cantidad | C3: Área (m2) | D3: Área (m2)
A4: PD A4.2-1 MD | B4: 1 | C4: 173.2219 | D4: =B4*C4 -> 173.2219
A5: TOTAL | D5: =SUM(D4:D4) -> 173.2219
A8: DESBROCE Y LIMPIEZA EN ZONA NO BOSCOSA
A9: ITEM | B9: Cantidad | C9: Área (m2) | D9: Área (m2)
A10: PD A4.2-1 MD | B10: 1 | C10: 173.2219 | D10: =B10*C10 -> 173.2219
A11: TOTAL | D11: =SUM(D10:D10) -> 173.2219
A14: EXCAVACIÓN EN MATERIAL SUELTO CON EQUIPO
A15: Progresiva | B15: Distancia (m) | C15: Área Corte (m2) | D15: Volumen Corte (m3)
A16: 0 | B16: 0 | C16: 15.105 | D16: =B16*C16 -> 0
A17: 3 | B17: =A17-A16 -> 3 | C17: 14.863 | D17: =B17*(C17+C16)/2 -> 44.952
A18: 6 | B18: =A18-A17 -> 3 | C18: 14.5775 | D18: =B18*(C18+C17)/2 -> 44.16075
A19: 10 | B19: =A19-A18 -> 4 | C19: 15.5802 | D19: =B19*(C19+C18)/2 -> 60.3154
A20: 15 | B20: =A20-A19 -> 5 | C20: 18.0226 | D20: =B20*(C20+C19)/2 -> 84.007
A21: 19 | B21: =A21-A20 -> 4 | C21: 14.2444 | D21: =B21*(C21+C20)/2 -> 64.534
A22: TOTAL | D22: =SUM(D16:D21) -> 297.96915
A25: PERFILADO Y COMPACTACIÓN EN ZONA DE CORTE
A26: Progresiva | B26: Distancia (m) | C26: Longitud (m) | D26: Área (m2)
A27: 0 | B27: 0 | C27: 9.9098 | D27: =B27*C27 -> 0
A28: 3 | B28: =A28-A27 -> 3 | C28: 10.0351 | D28: =B28*(C28+C27)/2 -> 29.91735
A29: 6 | B29: =A29-A28 -> 3 | C29: 9.899 | D29: =B29*(C29+C28)/2 -> 29.90115
A30: 10 | B30: =A30-A29 -> 4 | C30: 9.6166 | D30: =B30*(C30+C29)/2 -> 39.0312
A31: 15 | B31: =A31-A30 -> 5 | C31: 10.9515 | D31: =B31*(C31+C30)/2 -> 51.42025
A32: 19 | B32: =A32-A31 -> 4 | C32: 10.7383 | D32: =B32*(C32+C31)/2 -> 43.3796
A33: TOTAL | D33: =SUM(D27:D32) -> 193.64955
A36: GEOTEXTIL NO TEJIDO 400 gr/m2, INC. COLOCACIÓN
A37: Progresiva | B37: Distancia (m) | C37: Longitud (m) | D37: Área (m2)
A38: 0 | B38: 0 | C38: 12.2489 | D38: =B38*C38 -> 0
A39: 3 | B39: =A39-A38 -> 3 | C39: 12.2499 | D39: =B39*(C39+C38)/2 -> 36.7482
A40: 6 | B40: =A40-A39 -> 3 | C40: 12.2492 | D40: =B40*(C40+C39)/2 -> 36.74865
A41: 10 | B41: =A41-A40 -> 4 | C41: 12.2717 | D41: =B41*(C41+C40)/2 -> 49.0418
A42: 15 | B42: =A42-A41 -> 5 | C42: 12.2493 | D42: =B42*(C42+C41)/2 -> 61.3025
A43: 19 | B43: =A43-A42 -> 4 | C43: 12.2499 | D43: =B43*(C43+C42)/2 -> 48.9984
A44: TOTAL | D44: =SUM(D38:D43) -> 232.83955
A47: CAMA DE APOYO (e=0.25 m)
A48: Progresiva | B48: Distancia (m) | C48: Longitud (m) | D48: Área (m2) | E48: Espesor (m) | F48: Volumen (m3)
A49: 0 | B49: 0 | C49: 9.1621 | D49: =B49*C49 -> 0 | E49: 0.25 | F49: =D49*E49 -> 0
A50: 3 | B50: =A50-A49 -> 3 | C50: 9.1627 | D50: =B50*(C50+C49)/2 -> 27.4872 | E50: 0.25 | F50: =D50*E50 -> 6.8718
A51: 6 | B51: =A51-A50 -> 3 | C51: 9.1618 | D51: =B51*(C51+C50)/2 -> 27.48675 | E51: 0.25 | F51: =D51*E51 -> 6.8716875
A52: 10 | B52: =A52-A51 -> 4 | C52: 9.1845 | D52: =B52*(C52+C51)/2 -> 36.6926 | E52: 0.25 | F52: =D52*E52 -> 9.17315
A53: 15 | B53: =A53-A52 -> 5 | C53: 9.1621 | D53: =B53*(C53+C52)/2 -> 45.8665 | E53: 0.25 | F53: =D53*E53 -> 11.466625
A54: 19 | B54: =A54-A53 -> 4 | C54: 9.1627 | D54: =B54*(C54+C53)/2 -> 36.6496 | E54: 0.25 | F54: =D54*E54 -> 9.1624
A55: TOTAL | F55: =SUM(F49:F54) -> 43.545662
A58: COLOCACIÓN Y ACOMODO DE ROCA EN UÑA DEL DIQUE
A59: Progresiva | B59: Distancia (m) | C59: Área roca (m2) | D59: Volumen roca (m3)
A60: 0 | B60: 0 | C60: 3.3612 | D60: =B60*C60 -> 0
A61: 3 | B61: =A61-A60 -> 3 | C61: 3.3612 | D61: =B61*(C61+C60)/2 -> 10.0836
A62: 6 | B62: =A62-A61 -> 3 | C62: 3.3612 | D62: =B62*(C62+C61)/2 -> 10.0836
A63: 10 | B63: =A63-A62 -> 4 | C63: 3.3612 | D63: =B63*(C63+C62)/2 -> 13.4448
A64: 15 | B64: =A64-A63 -> 5 | C64: 3.3612 | D64: =B64*(C64+C63)/2 -> 16.806
A65: 19 | B65: =A65-A64 -> 4 | C65: 3.3612 | D65: =B65*(C65+C64)/2 -> 13.4448
A66: TOTAL | D66: =SUM(D60:D65) -> 63.8628
A69: COLOCACIÓN Y ACOMODO DE ROCA EN TALUD DEL DIQUE
A70: Progresiva | B70: Distancia (m) | C70: Área roca (m2) | D70: Volumen roca (m3)
A71: 0 | B71: 0 | C71: 3.6056 | D71: =B71*C71 -> 0
A72: 3 | B72: =A72-A71 -> 3 | C72: 3.6056 | D72: =B72*(C72+C71)/2 -> 10.8168
A73: 6 | B73: =A73-A72 -> 3 | C73: 3.6056 | D73: =B73*(C73+C72)/2 -> 10.8168
A74: 10 | B74: =A74-A73 -> 4 | C74: 3.6056 | D74: =B74*(C74+C73)/2 -> 14.4224
A75: 15 | B75: =A75-A74 -> 5 | C75: 3.6028 | D75: =B75*(C75+C74)/2 -> 18.021
A76: 19 | B76: =A76-A75 -> 4 | C76: 3.6028 | D76: =B76*(C76+C75)/2 -> 14.4112
A77: TOTAL | D77: =SUM(D71:D76) -> 68.4882

Sheet D_A4.2-1-MD
A2: TRAZO Y REPLANTEO DE OBRA
A3: ITEM | B3: Cantidad | C3: Área (m2) | D3: Área (m2)
A4: D A4.2-1 MD | B4: 1 | C4: 700.2054 | D4: =B4*C4 -> 700.2054
A5: TOTAL | D5: =SUM(D4:D4) -> 700.2054
A8: DESBROCE Y LIMPIEZA EN ZONA NO BOSCOSA
A9: ITEM | B9: Cantidad | C9: Área (m2) | D9: Área (m2)
A10: D A4.2-1 MD | B10: 1 | C10: 700.2054 | D10: =B10*C10 -> 700.2054
A11: TOTAL | D11: =SUM(D10:D10) -> 700.2054
A14: EXCAVACIÓN EN MATERIAL SUELTO CON EQUIPO | G14: EXCAVACIÓN EN MATERIAL SUELTO CON EQUIPO EN UÑA DE ENROCADO
A15: Progresiva | B15: Distancia (m) | C15: Área Corte (m2) | D15: Volumen Corte (m3) | G15: Progresiva | H15: Distancia (m) | I15: Área Corte (m2) | J15: Volumen Corte (m3)
A16: 0 | B16: =A16 -> 0 | C16: 22.5451 | D16: =B16*C16 -> 0 | G16: 0 | H16: 0 | I16: 4.4558 | J16: =H16*I16 -> 0
A17: 5 | B17: =A17-A16 -> 5 | C17: 14.4362 | D17: =B17*(C17+C16)/2 -> 92.45325 | G17: 5 | H17: =G17-G16 -> 5 | I17: 2.5597 | J17: =H17*(I17+I16)/2 -> 17.53875
A18: 10 | B18: =A18-A17 -> 5 | C18: 9.4523 | D18: =B18*(C18+C17)/2 -> 59.72125 | G18: 10 | H18: =G18-G17 -> 5 | I18: 2.5597 | J18: =H18*(I18+I17)/2 -> 12.7985
A19: 15 | B19: =A19-A18 -> 5 | C19: 9.3366 | D19: =B19*(C19+C18)/2 -> 46.97225 | G19: 15 | H19: =G19-G18 -> 5 | I19: 2.5597 | J19: =H19*(I19+I18)/2 -> 12.7985
A20: 20 | B20: =A20-A19 -> 5 | C20: 9.2323 | D20: =B20*(C20+C19)/2 -> 46.42225 | G20: 20 | H20: =G20-G19 -> 5 | I20: 2.5597 | J20: =H20*(I20+I19)/2 -> 12.7985
A21: 25 | B21: =A21-A20 -> 5 | C21: 9.4521 | D21: =B21*(C21+C20)/2 -> 46.711 | G21: 25 | H21: =G21-G20 -> 5 | I21: 2.5597 | J21: =H21*(I21+I20)/2 -> 12.7985
A22: 30 | B22: =A22-A21 -> 5 | C22: 11.9259 | D22: =B22*(C22+C21)/2 -> 53.445 | G22: 30 | H22: =G22-G21 -> 5 | I22: 2.5597 | J22: =H22*(I22+I21)/2 -> 12.7985
A23: 35 | B23: =A23-A22 -> 5 | C23: 12.0956 | D23: =B23*(C23+C22)/2 -> 60.05375 | G23: 35 | H23: =G23-G22 -> 5 | I23: 2.5597 | J23: =H23*(I23+I22)/2 -> 12.7985
A24: 40 | B24: =A24-A23 -> 5 | C24: 8.8385 | D24: =B24*(C24+C23)/2 -> 52.33525 | G24: 40 | H24: =G24-G23 -> 5 | I24: 2.5597 | J24: =H24*(I24+I23)/2 -> 12.7985
A25: 45 | B25: =A25-A24 -> 5 | C25: 5.8021 | D25: =B25*(C25+C24)/2 -> 36.6015 | G25: 45 | H25: =G25-G24 -> 5 | I25: 2.5597 | J25: =H25*(I25+I24)/2 -> 12.7985
A26: 50 | B26: =A26-A25 -> 5 | C26: 5.8021 | D26: =B26*(C26+C25)/2 -> 29.0105 | G26: 50 | H26: =G26-G25 -> 5 | I26: 2.5597 | J26: =H26*(I26+I25)/2 -> 12.7985
A27: 55 | B27: =A27-A26 -> 5 | C27: 5.8021 | D27: =B27*(C27+C26)/2 -> 29.0105 | G27: 55 | H27: =G27-G26 -> 5 | I27: 2.5597 | J27: =H27*(I27+I26)/2 -> 12.7985
A28: 60 | B28: =A28-A27 -> 5 | C28: 5.8021 | D28: =B28*(C28+C27)/2 -> 29.0105 | G28: 60 | H28: =G28-G27 -> 5 | I28: 2.5597 | J28: =H28*(I28+I27)/2 -> 12.7985
A29: 62 | B29: =A29-A28 -> 2 | C29: 5.8021 | D29: =B29*(C29+C28)/2 -> 11.6042 | G29: 62 | H29: =G29-G28 -> 2 | I29: 2.5597 | J29: =H29*(I29+I28)/2 -> 5.1194
A30: TOTAL | D30: =SUM(D16:D29) -> 593.3512 | G30: TOTAL | J30: =SUM(J16:J29) -> 163.44165
A33: PERFILADO Y COMPACTACIÓN EN ZONA DE CORTE | G33: PERFILADO Y COMPACTACIÓN EN ZONA DE CORTE EN UÑA DE ENROCADO
A34: Progresiva | B34: Distancia (m) | C34: Longitud (m) | D34: Área (m2) | G34: Progresiva | H34: Distancia (m) | I34: Longitud (m) | J34: Área (m2)
A35: 0 | B35: =A35 -> 0 | C35: 13.8939 | D35: =B35*C35 -> 0 | G35: 0 | H35: =G35 -> 0 | I35: 5.771 | J35: =H35*I35 -> 0
A36: 5 | B36: =A36-A35 -> 5 | C36: 12.7839 | D36: =B36*(C36+C35)/2 -> 66.6945 | G36: 5 | H36: =G36-G35 -> 5 | I36: 5.1941 | J36: =H36*(I36+I35)/2 -> 27.41275
A37: 10 | B37: =A37-A36 -> 5 | C37: 11.8672 | D37: =B37*(C37+C36)/2 -> 61.62775 | G37: 10 | H37: =G37-G36 -> 5 | I37: 5.5359 | J37: =H37*(I37+I36)/2 -> 26.825
A38: 15 | B38: =A38-A37 -> 5 | C38: 11.8557 | D38: =B38*(C38+C37)/2 -> 59.30725 | G38: 15 | H38: =G38-G37 -> 5 | I38: 5.5347 | J38: =H38*(I38+I37)/2 -> 27.6765
A39: 20 | B39: =A39-A38 -> 5 | C39: 11.8461 | D39: =B39*(C39+C38)/2 -> 59.2545 | G39: 20 | H39: =G39-G38 -> 5 | I39: 5.5233 | J39: =H39*(I39+I38)/2 -> 27.645
A40: 25 | B40: =A40-A39 -> 5 | C40: 11.8366 | D40: =B40*(C40+C39)/2 -> 59.20675 | G40: 25 | H40: =G40-G39 -> 5 | I40: 5.7608 | J40: =H40*(I40+I39)/2 -> 28.21025
A41: 30 | B41: =A41-A40 -> 5 | C41: 11.501 | D41: =B41*(C41+C40)/2 -> 58.344 | G41: 30 | H41: =G41-G40 -> 5 | I41: 6.4029 | J41: =H41*(I41+I40)/2 -> 30.40925
A42: 35 | B42: =A42-A41 -> 5 | C42: 11.3283 | D42: =B42*(C42+C41)/2 -> 57.07325 | G42: 35 | H42: =G42-G41 -> 5 | I42: 6.2086 | J42: =H42*(I42+I41)/2 -> 31.52875
A43: 40 | B43: =A43-A42 -> 5 | C43: 11.4135 | D43: =B43*(C43+C42)/2 -> 56.8545 | G43: 40 | H43: =G43-G42 -> 5 | I43: 5.5584 | J43: =H43*(I43+I42)/2 -> 29.4175
A44: 45 | B44: =A44-A43 -> 5 | C44: 11.4426 | D44: =B44*(C44+C43)/2 -> 57.14025 | G44: 45 | H44: =G44-G43 -> 5 | I44: 5.1476 | J44: =H44*(I44+I43)/2 -> 26.765
A45: 50 | B45: =A45-A44 -> 5 | C45: 11.4426 | D45: =B45*(C45+C44)/2 -> 57.213 | G45: 50 | H45: =G45-G44 -> 5 | I45: 5.1476 | J45: =H45*(I45+I44)/2 -> 25.738
A46: 55 | B46: =A46-A45 -> 5 | C46: 11.4426 | D46: =B46*(C46+C45)/2 -> 57.213 | G46: 55 | H46: =G46-G45 -> 5 | I46: 5.1476 | J46: =H46*(I46+I45)/2 -> 25.738
A47: 60 | B47: =A47-A46 -> 5 | C47: 11.4426 | D47: =B47*(C47+C46)/2 -> 57.213 | G47: 60 | H47: =G47-G46 -> 5 | I47: 5.1476 | J47: =H47*(I47+I46)/2 -> 25.738
A48: 62 | B48: =A48-A47 -> 2 | C48: 11.4426 | D48: =B48*(C48+C47)/2 -> 22.8852 | G48: 62 | H48: =G48-G47 -> 2 | I48: 5.1476 | J48: =H48*(I48+I47)/2 -> 10.2952
A49: TOTAL | D49: =SUM(D35:D48) -> 730.02695 | G49: TOTAL | J49: =SUM(J35:J48) -> 343.3992
A52: CONFORMACIÓN DE CUERPO DEL DIQUE
A53: Progresiva | B53: Distancia (m) | C53: Área Terraplén (m2) | D53: Volumen Terraplén (m3)
A54: 0 | B54: =A54 -> 0 | C54: 14.3825 | D54: =B54*C54 -> 0
A55: 5 | B55: =A55-A54 -> 5 | C55: 14.3825 | D55: =B55*(C55+C54)/2 -> 71.9125
A56: 10 | B56: =A56-A55 -> 5 | C56: 14.3825 | D56: =B56*(C56+C55)/2 -> 71.9125
A57: 15 | B57: =A57-A56 -> 5 | C57: 14.3825 | D57: =B57*(C57+C56)/2 -> 71.9125
A58: 20 | B58: =A58-A57 -> 5 | C58: 14.3825 | D58: =B58*(C58+C57)/2 -> 71.9125
A59: 25 | B59: =A59-A58 -> 5 | C59: 14.3825 | D59: =B59*(C59+C58)/2 -> 71.9125
A60: 30 | B60: =A60-A59 -> 5 | C60: 14.3825 | D60: =B60*(C60+C59)/2 -> 71.9125
A61: 35 | B61: =A61-A60 -> 5 | C61: 14.3825 | D61: =B61*(C61+C60)/2 -> 71.9125
A62: 40 | B62: =A62-A61 -> 5 | C62: 14.3825 | D62: =B62*(C62+C61)/2 -> 71.9125
A63: 45 | B63: =A63-A62 -> 5 | C63: 14.3825 | D63: =B63*(C63+C62)/2 -> 71.9125
A64: 50 | B64: =A64-A63 -> 5 | C64: 14.3825 | D64: =B64*(C64+C63)/2 -> 71.9125
A65: 55 | B65: =A65-A64 -> 5 | C65: 14.3825 | D65: =B65*(C65+C64)/2 -> 71.9125
A66: 60 | B66: =A66-A65 -> 5 | C66: 14.3825 | D66: =B66*(C66+C65)/2 -> 71.9125
A67: 62 | B67: =A67-A66 -> 2 | C67: 14.3825 | D67: =B67*(C67+C66)/2 -> 28.765
A68: TOTAL | D68: =SUM(D54:D67) -> 891.715
A71: CONFORMACIÓN DE MATERIAL GRANULAR EN CORONA DEL DIQUE
A72: Progresiva | B72: Distancia (m) | C72: Área Afirmado (m2) | D72: Volumen Afirmado (m3)
A73: 0 | B73: =A73 -> 0 | C73: 1.635 | D73: =B73*C73 -> 0
A74: 5 | B74: =A74-A73 -> 5 | C74: 1.635 | D74: =B74*(C74+C73)/2 -> 8.175
A75: 10 | B75: =A75-A74 -> 5 | C75: 1.635 | D75: =B75*(C75+C74)/2 -> 8.175
A76: 15 | B76: =A76-A75 -> 5 | C76: 1.635 | D76: =B76*(C76+C75)/2 -> 8.175
A77: 20 | B77: =A77-A76 -> 5 | C77: 1.635 | D77: =B77*(C77+C76)/2 -> 8.175
A78: 25 | B78: =A78-A77 -> 5 | C78: 1.635 | D78: =B78*(C78+C77)/2 -> 8.175
A79: 30 | B79: =A79-A78 -> 5 | C79: 1.635 | D79: =B79*(C79+C78)/2 -> 8.175
A80: 35 | B80: =A80-A79 -> 5 | C80: 1.635 | D80: =B80*(C80+C79)/2 -> 8.175
A81: 40 | B81: =A81-A80 -> 5 | C81: 1.635 | D81: =B81*(C81+C80)/2 -> 8.175
A82: 45 | B82: =A82-A81 -> 5 | C82: 1.635 | D82: =B82*(C82+C81)/2 -> 8.175
A83: 50 | B83: =A83-A82 -> 5 | C83: 1.635 | D83: =B83*(C83+C82)/2 -> 8.175
A84: 55 | B84: =A84-A83 -> 5 | C84: 1.635 | D84: =B84*(C84+C83)/2 -> 8.175
A85: 60 | B85: =A85-A84 -> 5 | C85: 1.635 | D85: =B85*(C85+C84)/2 -> 8.175
A86: 62 | B86: =A86-A85 -> 2 | C86: 1.635 | D86: =B86*(C86+C85)/2 -> 3.27
A87: TOTAL | D87: =SUM(D73:D86) -> 101.37
A90: GEOTEXTIL NO TEJIDO 400 gr/m2, INC. COLOCACIÓN
A91: Progresiva | B91: Distancia (m) | C91: Longitud (m) | D91: Área (m2)
A92: 0 | B92: =A92 -> 0 | C92: 12.7728 | D92: =B92*C92 -> 0
A93: 5 | B93: =A93-A92 -> 5 | C93: 11.8944 | D93: =B93*(C93+C92)/2 -> 61.668
A94: 10 | B94: =A94-A93 -> 5 | C94: 11.8944 | D94: =B94*(C94+C93)/2 -> 59.472
A95: 15 | B95: =A95-A94 -> 5 | C95: 11.8945 | D95: =B95*(C95+C94)/2 -> 59.47225
A96: 20 | B96: =A96-A95 -> 5 | C96: 11.8945 | D96: =B96*(C96+C95)/2 -> 59.4725
A97: 25 | B97: =A97-A96 -> 5 | C97: 11.8944 | D97: =B97*(C97+C96)/2 -> 59.47225
A98: 30 | B98: =A98-A97 -> 5 | C98: 11.8944 | D98: =B98*(C98+C97)/2 -> 59.472
A99: 35 | B99: =A99-A98 -> 5 | C99: 11.8944 | D99: =B99*(C99+C98)/2 -> 59.472
A100: 40 | B100: =A100-A99 -> 5 | C100: 11.8945 | D100: =B100*(C100+C99)/2 -> 59.47225
A101: 45 | B101: =A101-A100 -> 5 | C101: 11.8945 | D101: =B101*(C101+C100)/2 -> 59.4725
A102: 50 | B102: =A102-A101 -> 5 | C102: 11.8945 | D102: =B102*(C102+C101)/2 -> 59.4725
A103: 55 | B103: =A103-A102 -> 5 | C103: 11.8945 | D103: =B103*(C103+C102)/2 -> 59.4725
A104: 60 | B104: =A104-A103 -> 5 | C104: 11.8945 | D104: =B104*(C104+C103)/2 -> 59.4725
A105: 62 | B105: =A105-A104 -> 2 | C105: 11.8945 | D105: =B105*(C105+C104)/2 -> 23.789
A106: TOTAL | D106: =SUM(D92:D105) -> 739.65225
A109: CAMA DE APOYO (e=0.25 m)
A110: Progresiva | B110: Distancia (m) | C110: Longitud (m) | D110: Área (m2) | E110: Espesor (m) | F110: Volumen (m3)
A111: 0 | B111: =A111 -> 0 | C111: 9.6857 | D111: =B111*C111 -> 0 | E111: 0.25 | F111: =D111*E111 -> 0
A112: 5 | B112: =A112-A111 -> 5 | C112: 8.8073 | D112: =B112*(C112+C111)/2 -> 46.2325 | E112: 0.25 | F112: =D112*E112 -> 11.558125
A113: 10 | B113: =A113-A112 -> 5 | C113: 8.8073 | D113: =B113*(C113+C112)/2 -> 44.0365 | E113: 0.25 | F113: =D113*E113 -> 11.009125
A114: 15 | B114: =A114-A113 -> 5 | C114: 8.8073 | D114: =B114*(C114+C113)/2 -> 44.0365 | E114: 0.25 | F114: =D114*E114 -> 11.009125
A115: 20 | B115: =A115-A114 -> 5 | C115: 8.8073 | D115: =B115*(C115+C114)/2 -> 44.0365 | E115: 0.25 | F115: =D115*E115 -> 11.009125
...

Sheet D_A4.2-2-MD
A2: TRAZO Y REPLANTEO DE OBRA
A3: ITEM | B3: Cantidad | C3: Área (m2) | D3: Área (m2)
A4: PD A4.2-2 MD | B4: 1 | C4: 2964.8791 | D4: =B4*C4 -> 2964.8791
A5: TOTAL | D5: =SUM(D4:D4) -> 2964.8791
A8: DESBROCE Y LIMPIEZA EN ZONA NO BOSCOSA
A9: ITEM | B9: Cantidad | C9: Área (m2) | D9: Área (m2)
A10: PD A4.2-2 MD | B10: 1 | C10: 2964.8791 | D10: =B10*C10 -> 2964.8791
A11: TOTAL | D11: =SUM(D10:D10) -> 2964.8791
A14: EXCAVACIÓN EN MATERIAL SUELTO CON EQUIPO | G14: EXCAVACIÓN EN MATERIAL SUELTO CON EQUIPO EN UÑA ENROCADO
A15: Progresiva | B15: Distancia (m) | C15: Área Corte (m2) | D15: Volumen Corte (m3) | G15: Progresiva | H15: Distancia (m) | I15: Área Corte (m2) | J15: Volumen Corte (m3)
A16: 0 | B16: =A16 -> 0 | C16: 8.1779 | D16: =B16*C16 -> 0 | G16: 0 | H16: 0 | I16: 2.5635 | J16: =H16*I16 -> 0
A17: 10 | B17: =A17-A16 -> 10 | C17: 8.2441 | D17: =B17*(C17+C16)/2 -> 82.11 | G17: 10 | H17: =G17-G16 -> 10 | I17: 2.5597 | J17: =H17*(I17+I16)/2 -> 25.616
A18: 20 | B18: =A18-A17 -> 10 | C18: 7.7565 | D18: =B18*(C18+C17)/2 -> 80.003 | G18: 20 | H18: =G18-G17 -> 10 | I18: 2.5597 | J18: =H18*(I18+I17)/2 -> 25.597
A19: 30 | B19: =A19-A18 -> 10 | C19: 7.4024 | D19: =B19*(C19+C18)/2 -> 75.7945 | G19: 30 | H19: =G19-G18 -> 10 | I19: 2.5597 | J19: =H19*(I19+I18)/2 -> 25.597
A20: 40 | B20: =A20-A19 -> 10 | C20: 7.7459 | D20: =B20*(C20+C19)/2 -> 75.7415 | G20: 40 | H20: =G20-G19 -> 10 | I20: 2.5597 | J20: =H20*(I20+I19)/2 -> 25.597
A21: 50 | B21: =A21-A20 -> 10 | C21: 9.2616 | D21: =B21*(C21+C20)/2 -> 85.0375 | G21: 50 | H21: =G21-G20 -> 10 | I21: 2.5597 | J21: =H21*(I21+I20)/2 -> 25.597
A22: 60 | B22: =A22-A21 -> 10 | C22: 10.8209 | D22: =B22*(C22+C21)/2 -> 100.4125 | G22: 60 | H22: =G22-G21 -> 10 | I22: 2.5597 | J22: =H22*(I22+I21)/2 -> 25.597
A23: 70 | B23: =A23-A22 -> 10 | C23: 10.4951 | D23: =B23*(C23+C22)/2 -> 106.58 | G23: 70 | H23: =G23-G22 -> 10 | I23: 2.5597 | J23: =H23*(I23+I22)/2 -> 25.597
A24: 80 | B24: =A24-A23 -> 10 | C24: 9.7497 | D24: =B24*(C24+C23)/2 -> 101.224 | G24: 80 | H24: =G24-G23 -> 10 | I24: 2.5597 | J24: =H24*(I24+I23)/2 -> 25.597
A25: 90 | B25: =A25-A24 -> 10 | C25: 9.201 | D25: =B25*(C25+C24)/2 -> 94.7535 | G25: 90 | H25: =G25-G24 -> 10 | I25: 2.5597 | J25: =H25*(I25+I24)/2 -> 25.597
A26: 100 | B26: =A26-A25 -> 10 | C26: 8.3504 | D26: =B26*(C26+C25)/2 -> 87.757 | G26: 100 | H26: =G26-G25 -> 10 | I26: 2.5597 | J26: =H26*(I26+I25)/2 -> 25.597
A27: 110 | B27: =A27-A26 -> 10 | C27: 7.4593 | D27: =B27*(C27+C26)/2 -> 79.0485 | G27: 110 | H27: =G27-G26 -> 10 | I27: 2.5597 | J27: =H27*(I27+I26)/2 -> 25.597
A28: 120 | B28: =A28-A27 -> 10 | C28: 6.5722 | D28: =B28*(C28+C27)/2 -> 70.1575 | G28: 120 | H28: =G28-G27 -> 10 | I28: 2.5597 | J28: =H28*(I28+I27)/2 -> 25.597
... A36: 195 | B36: =A36-A35 -> 5 | C36: 0 | D36: =B36*(C36+C35)/2 -> 34.479 | G36: 195 | H36: =G36-G35 -> 5 | I36: 0 | J36: =H36*(I36+I35)/2 -> 6.40875
A37: TOTAL | D37: =SUM(D16:D36) -> 1797.9245 | G37: TOTAL | J37: =SUM(J16:J36) -> 492.78975
A40: PERFILADO Y COMPACTACIÓN EN ZONA DE CORTE | G40: PERFILADO Y COMPACTACIÓN EN ZONA DE CORTE EN UÑA DE ENROCADO
A41: Progresiva | B41: Distancia (m) | C41: Longitud (m) | D41: Área (m2) | G41: Progresiva | H41: Distancia (m) | I41: Longitud (m) | J41: Área (m2)
A42: 0 | B42: =A42 -> 0 | C42: 11.6325 | D42: =B42*C42 -> 0 | G42: 0 | H42: =G42 -> 0 | I42: 5.3227 | J42: =H42*I42 -> 0
A43: 10 | B43: =A43-A42 -> 10 | C43: 11.7591 | D43: =B43*(C43+C42)/2 -> 116.958 | G43: 10 | H43: =G43-G42 -> 10 | I43: 5.3875 | J43: =H43*(I43+I42)/2 -> 53.551
A44: 20 | B44: =A44-A43 -> 10 | C44: 11.747 | D44: =B44*(C44+C43)/2 -> 117.5305 | G44: 20 | H44: =G44-G43 -> 10 | I44: 5.3002 | J44: =H44*(I44+I43)/2 -> 53.4385
A45: 30 | B45: =A45-A44 -> 10 | C45: 11.7264 | D45: =B45*(C45+C44)/2 -> 117.367 | G45: 30 | H45: =G45-G44 -> 10 | I45: 5.3043 | J45: =H45*(I45+I44)/2 -> 53.0225
A46: 40 | B46: =A46-A45 -> 10 | C46: 11.7044 | D46: =B46*(C46+C45)/2 -> 117.154 | G46: 40 | H46: =G46-G45 -> 10 | I46: 5.429 | J46: =H46*(I46+I45)/2 -> 53.6665
A47: 50 | B47: =A47-A46 -> 10 | C47: 11.5753 | D47: =B47*(C47+C46)/2 -> 116.3985 | G47: 50 | H47: =G47-G46 -> 10 | I47: 5.6984 | J47: =H47*(I47+I46)/2 -> 55.637
A48: 60 | B48: =A48-A47 -> 10 | C48: 11.8155 | D48: =B48*(C48+C47)/2 -> 116.954 | G48: 60 | H48: =G48-G47 -> 10 | I48: 5.6084 | J48: =H48*(I48+I47)/2 -> 56.534
A49: 70 | B49: =A49-A48 -> 10 | C49: 12.0556 | D49: =B49*(C49+C48)/2 -> 119.3555 | G49: 70 | H49: =G49-G48 -> 10 | I49: 5.541 | J49: =H49*(I49+I48)/2 -> 55.747
A50: 80 | B50: =A50-A49 -> 10 | C50: 11.937 | D50: =B50*(C50+C49)/2 -> 119.963 | G50: 80 | H50: =G50-G49 -> 10 | I50: 5.4828 | J50: =H50*(I50+I49)/2 -> 55.119
A51: 90 | B51: =A51-A50 -> 10 | C51: 11.844 | D51: =B51*(C51+C50)/2 -> 118.905 | G51: 90 | H51: =G51-G50 -> 10 | I51: 5.5278 | J51: =H51*(I51+I50)/2 -> 55.053
A52: 100 | B52: =A52-A51 -> 10 | C52: 11.7568 | D52: =B52*(C52+C51)/2 -> 118.004 | G52: 100 | H52: =G52-G51 -> 10 | I52: 5.4275 | J52: =H52*(I52+I51)/2 -> 54.7765
A53: 110 | B53: =A53-A52 -> 10 | C53: 11.69 | D53: =B53*(C53+C52)/2 -> 117.234 | G53: 110 | H53: =G53-G52 -> 10 | I53: 5.325 | J53: =H53*(I53+I52)/2 -> 53.7625
A54: 120 | B54: =A54-A53 -> 10 | C54: 11.6125 | D54: =B54*(C54+C53)/2 -> 116.5125 | G54: 120 | H54: =G54-G53 -> 10 | I54: 5.2243 | J54: =H54*(I54+I53)/2 -> 52.7465
... A62: 195 | B62: =A62-A61 -> 5 | C62: 0 | D62: =B62*(C62+C61)/2 -> 29.90675 | G62: 195 | H62: =G62-G61 -> 5 | I62: 0 | J62: =H62*(I62+I61)/2 -> 15.17325
A63: TOTAL | D63: =SUM(D42:D62) -> 2273.6258 | G63: TOTAL | J63: =SUM(J42:J62) -> 1053.0312
A66: CONFORMACIÓN DE CUERPO DEL DIQUE
A67: Progresiva | B67: Distancia (m) | C67: Área Terraplén (m2) | D67: Volumen Terraplén (m3)
A68: 0 | B68: =A68 -> 0 | C68: 14.3825 | D68: =B68*C68 -> 0
A69: 10 | B69: =A69-A68 -> 10 | C69: 14.3825 | D69: =B69*(C69+C68)/2 -> 143.825
A70: 20 | B70: =A70-A69 -> 10 | C70: 14.3825 | D70: =B70*(C70+C69)/2 -> 143.825
A71: 30 | B71: =A71-A70 -> 10 | C71: 14.3825 | D71: =B71*(C71+C70)/2 -> 143.825
A72: 40 | B72: =A72-A71 -> 10 | C72: 14.3825 | D72: =B72*(C72+C71)/2 -> 143.825
A73: 50 | B73: =A73-A72 -> 10 | C73: 14.3825 | D73: =B73*(C73+C72)/2 -> 143.825
A74: 60 | B74: =A74-A73 -> 10 | C74: 14.3825 | D74: =B74*(C74+C73)/2 -> 143.825
A75: 70 | B75: =A75-A74 -> 10 | C75: 14.3825 | D75: =B75*(C75+C74)/2 -> 143.825
A76: 80 | B76: =A76-A75 -> 10 | C76: 14.3825 | D76: =B76*(C76+C75)/2 -> 143.825
A77: 90 | B77: =A77-A76 -> 10 | C77: 14.3825 | D77: =B77*(C77+C76)/2 -> 143.825
A78: 100 | B78: =A78-A77 -> 10 | C78: 14.3825 | D78: =B78*(C78+C77)/2 -> 143.825
A79: 110 | B79: =A79-A78 -> 10 | C79: 14.3825 | D79: =B79*(C79+C78)/2 -> 143.825
A80: 120 | B80: =A80-A79 -> 10 | C80: 14.3825 | D80: =B80*(C80+C79)/2 -> 143.825
... A88: 195 | B88: =A88-A87 -> 5 | C88: 0 | D88: =B88*(C88+C87)/2 -> 35.95625
A89: TOTAL | D89: =SUM(D68:D88) -> 2768.6312
A92: CONFORMACIÓN DE MATERIAL GRANULAR EN CORONA DEL DIQUE
A93: Progresiva | B93: Distancia (m) | C93: Área Afirmado (m2) | D93: Volumen Afirmado (m3)
A94: 0 | B94: =A94 -> 0 | C94: 1.635 | D94: =B94*C94 -> 0
A95: 10 | B95: =A95-A94 -> 10 | C95: 1.635 | D95: =B95*(C95+C94)/2 -> 16.35
A96: 20 | B96: =A96-A95 -> 10 | C96: 1.635 | D96: =B96*(C96+C95)/2 -> 16.35
A97: 30 | B97: =A97-A96 -> 10 | C97: 1.635 | D97: =B97*(C97+C96)/2 -> 16.35
A98: 40 | B98: =A98-A97 -> 10 | C98: 1.635 | D98: =B98*(C98+C97)/2 -> 16.35
A99: 50 | B99: =A99-A98 -> 10 | C99: 1.635 | D99: =B99*(C99+C98)/2 -> 16.35
A100: 60 | B100: =A100-A99 -> 10 | C100: 1.635 | D100: =B100*(C100+C99)/2 -> 16.35
A101: 70 | B101: =A101-A100 -> 10 | C101: 1.635 | D101: =B101*(C101+C100)/2 -> 16.35
A102: 80 | B102: =A102-A101 -> 10 | C102: 1.635 | D102: =B102*(C102+C101)/2 -> 16.35
A103: 90 | B103: =A103-A102 -> 10 | C103: 1.635 | D103: =B103*(C103+C102)/2 -> 16.35
A104: 100 | B104: =A104-A103 -> 10 | C104: 1.635 | D104: =B104*(C104+C103)/2 -> 16.35
A105: 110 | B105: =A105-A104 -> 10 | C105: 1.635 | D105: =B105*(C105+C104)/2 -> 16.35
A106: 120 | B106: =A106-A105 -> 10 | C106: 1.635 | D106: =B106*(C106+C105)/2 -> 16.35
... A114: 195 | B114: =A114-A113 -> 5 | C114: 0 | D114: =B114*(C114+C113)/2 -> 4.0875
A115: TOTAL | D115: =SUM(D94:D114) -> 314.7375
A118: GEOTEXTIL NO TEJIDO 400 gr/m2, INC. COLOCACIÓN
A119: Progresiva | B119: Distancia (m) | C119: Longitud (m) | D119: Área (m2)
A120: 0 | B120: =A120 -> 0 | C120: 11.8903 | D120: =B120*C120 -> 0
A121: 10 | B121: =A121-A120 -> 10 | C121: 11.8903 | D121: =B121*(C121+C120)/2 -> 118.903
A122: 20 | B122: =A122-A121 -> 10 | C122: 11.8903 | D122: =B122*(C122+C121)/2 -> 118.903
A123: 30 | B123: =A123-A122 -> 10 | C123: 11.8944 | D123: =B123*(C123+C122)/2 -> 118.9235
A124: 40 | B124: =A124-A123 -> 10 | C124: 11.8943 | D124: =B124*(C124+C123)/2 -> 118.9435
A125: 50 | B125: =A125-A124 -> 10 | C125: 11.8944 | D125: =B125*(C125+C124)/2 -> 118.9435
A126: 60 | B126: =A126-A125 -> 10 | C126: 11.8944 | D126: =B126*(C126+C125)/2 -> 118.944
A127: 70 | B127: =A127-A126 -> 10 | C127: 11.8944 | D127: =B127*(C127+C126)/2 -> 118.944
A128: 80 | B128: =A128-A127 -> 10 | C128: 11.8903 | D128: =B128*(C128+C127)/2 -> 118.9235
A129: 90 | B129: =A129-A128 -> 10 | C129: 11.888 | D129: =B129*(C129+C128)/2 -> 118.8915
A130: 100 | B130: =A130-A129 -> 10 | C130: 11.8859 | D130: =B130*(C130+C129)/2 -> 118.8695
A131: 110 | B131: =A131-A130 -> 10 | C131: 11.8903 | D131: =B131*(C131+C130)/2 -> 118.881
A132: 120 | B132: =A132-A131 -> 10 | C132: 11.8903 | D132: =B132*(C132+C131)/2 -> 118.903
... A140: 195 | B140: =A140-A139 -> 5 | C140: 0 | D140: =B140*(C140+C139)/2 -> 29.73575
A141: TOTAL | D141: =SUM(D120:D140) -> 2288.9707
A144: CAMA DE APOYO (e=0.25 m)
A145: Progresiva | B145: Distancia (m) | C145: Longitud (m) | D145: Área (m2) | E145: Espesor (m) | F145: Volumen (m3)
A146: 0 | B146: =A146 -> 0 | C146: 8.8032 | D146: =B146*C146 -> 0 | E146: 0.25 | F146: =D146*E146 -> 0
A147: 10 | B147: =A147-A146 -> 10 | C147: 8.8032 | D147: =B147*(C147+C146)/2 -> 88.032 | E147: 0.25 | F147: =D147*E147 -> 22.008
A148: 20 | B148: =A148-A147 -> 10 | C148: 8.8032 | D148: =B148*(C148+C147)/2 -> 88.032 | E148: 0.25 | F148: =D148*E148 -> 22.008
A149: 30 | B149: =A149-A148 -> 10 | C149: 8.8032 | D149: =B149*(C149+C148)/2 -> 88.032 | E149: 0.25 | F149: =D149*E149 -> 22.008
A150: 40 | B150: =A150-A149 -> 10 | C150: 8.8032 | D150: =B150*(C150+C149)/2 -> 88.032 | E150: 0.25 | F150: =D150*E150 -> 22.008
...

Sheet PC_A4.2-1
A2: TRAZO Y REPLANTEO DE OBRA
A3: ITEM | B3: Cantidad | C3: Área (m2) | D3: Área (m2)
A4: PC_A4.2-1 | B4: 1 | C4: 650.8734 | D4: =B4*C4 -> 650.8734
A5: TOTAL | D5: =SUM(D4:D4) -> 650.8734
A15: EXCAVACIÓN EN MATERIAL SUELTO CON EQUIPO
A16: Progresiva | B16: Distancia (m) | C16: Ancho (m) | D16: Profundidad (m) | E16: Volumen Corte (m3)
A17: 0 | B17: =A17 -> 0 | C17: 30 | D17: 1 | E17: =B17*C17 -> 0
A18: 20 | B18: =A18-A17 -> 20 | C18: 30 | D18: 1 | E18: =B18*D18*(C18+C17)/2 -> 600
A19: TOTAL | E19: =SUM(E17:E18) -> 600
A22: PERFILADO Y COMPACTACIÓN EN ZONA DE CORTE
A23: Progresiva | B23: Distancia (m) | C23: Ancho (m) | D23: Profundidad (m) | E23: Volumen Corte (m3)
A24: 0 | B24: =A24 -> 0 | C24: 30 | D24: 1 | E24: =B24*C24 -> 0
A25: 20 | B25: =A25-A24 -> 20 | C25: 30 | D25: 1 | E25: =B25*D25*(C25+C24)/2 -> 600
A26: TOTAL | E26: =SUM(E24:E25) -> 600
A29: COLOCACIÓN DE ROCA EN CAUCE
A30: Progresiva | B30: Distancia (m) | C30: Ancho (m) | D30: Profundidad (m) | E30: Volumen Corte (m3)
A31: 0 | B31: =A31 -> 0 | C31: 30 | D31: 1 | E31: =B31*C31 -> 0
A32: 20 | B32: =A32-A31 -> 20 | C32: 30 | D32: 1 | E32: =B32*D32*(C32+C31)/2 -> 600
A33: TOTAL | E33: =SUM(E31:E32) -> 600

Sheet CAMINO PROY
A2: TRAZO Y REPLANTEO DE OBRA
A3: ITEM | B3: Cantidad | C3: Área (m2) | D3: Área (m2)
A4: CAMINO PROY | B4: 1 | C4: 991.2749 | D4: =B4*C4 -> 991.2749
A5: TOTAL | D5: =SUM(D4:D4) -> 991.2749
A8: DESBROCE Y LIMPIEZA EN ZONA NO BOSCOSA
A9: ITEM | B9: Cantidad | C9: Área (m2) | D9: Área (m2)
A10: CAMINO PROY | B10: 1 | C10: 991.2749 | D10: =B10*C10 -> 991.2749
A11: TOTAL | D11: =SUM(D10:D10) -> 991.2749
A14: EXCAVACIÓN EN MATERIAL SUELTO CON EQUIPO
A15: Progresiva | B15: Distancia (m) | C15: Área Corte (m2) | D15: Volumen Corte (m3)
A16: 0 | B16: =A16 -> 0 | C16: 1.0579 | D16: =B16*C16 -> 0
A17: 10 | B17: =A17-A16 -> 10 | C17: 3.0483 | D17: =B17*(C17+C16)/2 -> 20.531
A18: 20 | B18: =A18-A17 -> 10 | C18: 3.0499 | D18: =B18*(C18+C17)/2 -> 30.491
A19: 30 | B19: =A19-A18 -> 10 | C19: 3.8093 | D19: =B19*(C19+C18)/2 -> 34.296
A20: 40 | B20: =A20-A19 -> 10 | C20: 4.2587 | D20: =B20*(C20+C19)/2 -> 40.34
A21: 50 | B21: =A21-A20 -> 10 | C21: 3.627 | D21: =B21*(C21+C20)/2 -> 39.4285
A22: 60 | B22: =A22-A21 -> 10 | C22: 3.0244 | D22: =B22*(C22+C21)/2 -> 33.257
A23: 70 | B23: =A23-A22 -> 10 | C23: 1.8236 | D23: =B23*(C23+C22)/2 -> 24.24
A24: 80 | B24: =A24-A23 -> 10 | C24: 0.0534 | D24: =B24*(C24+C23)/2 -> 9.385
A25: 90 | B25: =A25-A24 -> 10 | C25: 0 | D25: =B25*(C25+C24)/2 -> 0.267
A26: 100 | B26: =A26-A25 -> 10 | C26: 0 | D26: =B26*(C26+C25)/2 -> 0
A27: 110 | B27: =A27-A26 -> 10 | C27: 0 | D27: =B27*(C27+C26)/2 -> 0
A28: 120 | B28: =A28-A27 -> 10 | C28: 0 | D28: =B28*(C28+C27)/2 -> 0
... A40: 240 | B40: =A40-A39 -> 10 | C40: 1.5758 | D40: =B40*(C40+C39)/2 -> 15.497
A41: TOTAL | D41: =SUM(D16:D40) -> 322.4215
A44: PERFILADO Y COMPACTACIÓN EN ZONA DE CORTE
A45: Progresiva | B45: Distancia (m) | C45: Longitud (m) | D45: Área (m2)
A46: 0 | B46: =A46 -> 0 | C46: 5.2132 | D46: =B46*C46 -> 0
A47: 10 | B47: =A47-A46 -> 10 | C47: 6.5028 | D47: =B47*(C47+C46)/2 -> 58.58
A48: 20 | B48: =A48-A47 -> 10 | C48: 6.5013 | D48: =B48*(C48+C47)/2 -> 65.0205
A49: 30 | B49: =A49-A48 -> 10 | C49: 6.9301 | D49: =B49*(C49+C48)/2 -> 67.157
A50: 40 | B50: =A50-A49 -> 10 | C50: 7.1756 | D50: =B50*(C50+C49)/2 -> 70.5285
A51: 50 | B51: =A51-A50 -> 10 | C51: 6.8281 | D51: =B51*(C51+C50)/2 -> 70.0185
A52: 60 | B52: =A52-A51 -> 10 | C52: 6.4811 | D52: =B52*(C52+C51)/2 -> 66.546
A53: 70 | B53: =A53-A52 -> 10 | C53: 5.7358 | D53: =B53*(C53+C52)/2 -> 61.0845
A54: 80 | B54: =A54-A53 -> 10 | C54: =1.2259+0.7369 -> 1.9628 | D54: =B54*(C54+C53)/2 -> 38.493
A55: 90 | B55: =A55-A54 -> 10 | C55: 0 | D55: =B55*(C55+C54)/2 -> 9.814
A56: 100 | B56: =A56-A55 -> 10 | C56: 0 | D56: =B56*(C56+C55)/2 -> 0
A57: 110 | B57: =A57-A56 -> 10 | C57: 0 | D57: =B57*(C57+C56)/2 -> 0
A58: 120 | B58: =A58-A57 -> 10 | C58: 0 | D58: =B58*(C58+C57)/2 -> 0
A59: 130 | B59: =A59-A58 -> 10 | C59: 0 | D59: =B59*(C59+C58)/2 -> 0
A60: 140 | B60: =A60-A59 -> 10 | C60: 0 | D60: =B60*(C60+C59)/2 -> 0
A61: 150 | B61: =A61-A60 -> 10 | C61: 0.4469 | D61: =B61*(C61+C60)/2 -> 2.2345
A62: 160 | B62: =A62-A61 -> 10 | C62: 0 | D62: =B62*(C62+C61)/2 -> 2.2345
A63: 170 | B63: =A63-A62 -> 10 | C63: 0 | D63: =B63*(C63+C62)/2 -> 0
A64: 180 | B64: =A64-A63 -> 10 | C64: 5.1397 | D64: =B64*(C64+C63)/2 -> 25.6985
A65: 190 | B65: =A65-A64 -> 10 | C65: 5.3328 | D65: =B65*(C65+C64)/2 -> 52.3625
A66: 200 | B66: =A66-A65 -> 10 | C66: 5.2656 | D66: =B66*(C66+C65)/2 -> 52.992
... A70: 240 | B70: =A70-A69 -> 10 | C70: 5.5708 | D70: =B70*(C70+C69)/2 -> 55.5685
A71: TOTAL | D71: =SUM(D46:D70) -> 864.973
A74: CONFORMACIÓN DE TERRAPLEN EN CAMINO
A75: Progresiva | B75: Distancia (m) | C75: Área Terraplén (m2) | D75: Volumen Terraplén (m2)
A76: 0 | B76: =A76 -> 0 | C76: 0 | D76: =B76*C76 -> 0
A77: 10 | B77: =A77-A76 -> 10 | C77: 0 | D77: =B77*(C77+C76)/2 -> 0
A78: 20 | B78: =A78-A77 -> 10 | C78: 0 | D78: =B78*(C78+C77)/2 -> 0
A79: 30 | B79: =A79-A78 -> 10 | C79: 0 | D79: =B79*(C79+C78)/2 -> 0
A80: 40 | B80: =A80-A79 -> 10 | C80: 0 | D80: =B80*(C80+C79)/2 -> 0
A81: 50 | B81: =A81-A80 -> 10 | C81: 0 | D81: =B81*(C81+C80)/2 -> 0
A82: 60 | B82: =A82-A81 -> 10 | C82: 0 | D82: =B82*(C82+C81)/2 -> 0
A83: 70 | B83: =A83-A82 -> 10 | C83: 0 | D83: =B83*(C83+C82)/2 -> 0
A84: 80 | B84: =A84-A83 -> 10 | C84: 0.072 | D84: =B84*(C84+C83)/2 -> 0.36
A85: 90 | B85: =A85-A84 -> 10 | C85: 0.853 | D85: =B85*(C85+C84)/2 -> 4.625
A86: 100 | B86: =A86-A85 -> 10 | C86: 1.4322 | D86: =B86*(C86+C85)/2 -> 11.426
A87: 110 | B87: =A87-A86 -> 10 | C87: 3.4712 | D87: =B87*(C87+C86)/2 -> 24.517
A88: 120 | B88: =A88-A87 -> 10 | C88: 4.5807 | D88: =B88*(C88+C87)/2 -> 40.2595
... A100: 240 | B100: =A100-A99 -> 10 | C100: 0 | D100: =B100*(C100+C99)/2 -> 0
A101: TOTAL | D101: =SUM(D76:D100) -> 164.244
A104: MATERIAL AFIRMADO e=0.30 m
A105: Progresiva | B105: Distancia (m) | C105: Área Afirmado (m2) | D105: Volumen Afirmado (m3)
A106: 0 | B106: =A106 -> 0 | C106: 1.1611 | D106: =B106*C106 -> 0
A107: 10 | B107: =A107-A106 -> 10 | C107: 1.1596 | D107: =B107*(C107+C106)/2 -> 11.6035
A108: 20 | B108: =A108-A107 -> 10 | C108: 1.1546 | D108: =B108*(C108+C107)/2 -> 11.571
A109: 30 | B109: =A109-A108 -> 10 | C109: 1.1584 | D109: =B109*(C109+C108)/2 -> 11.565
A110: 40 | B110: =A110-A109 -> 10 | C110: 1.1602 | D110: =B110*(C110+C109)/2 -> 11.593
A111: 50 | B111: =A111-A110 -> 10 | C111: 1.1622 | D111: =B111*(C111+C110)/2 -> 11.612
A112: 60 | B112: =A112-A111 -> 10 | C112: 1.1584 | D112: =B112*(C112+C111)/2 -> 11.603
A113: 70 | B113: =A113-A112 -> 10 | C113: 1.1585 | D113: =B113*(C113+C112)/2 -> 11.5845
A114: 80 | B114: =A114-A113 -> 10 | C114: 1.1601 | D114: =B114*(C114+C113)/2 -> 11.593
A115: 90 | B115: =A115-A114 -> 10 | C115: 1.1585 | D115: =B115*(C115+C114)/2 -> 11.593
A116: 100 | B116: =A116-A115 -> 10 | C116: 1.1613 | D116: =B116*(C116+C115)/2 -> 11.599
A117: 110 | B117: =A117-A116 -> 10 | C117: 1.1602 | D117: =B117*(C117+C116)/2 -> 11.6075
A118: 120 | B118: =A118-A117 -> 10 | C118: 1.1602 | D118: =B118*(C118+C117)/2 -> 11.602
... A130: 240 | B130: =A130-A129 -> 10 | C130: 1.1585 | D130: =B130*(C130+C129)/2 -> 11.5935
A131: TOTAL | D131: =SUM(D106:D130) -> 278.384

Sheet TRANS_MAT
A2: TRANSPORTE DE MATERIAL
A3: TRANSPORTE DE MATERIAL GRANULAR
A5: CANTERA | B5: ORTECHO
A7: DESCRIPCIÓN | B7: VOLUMEN
A8: Afirmado para camino proyectado | B8: ='CAMINO PROY'!D131 -> 278.384
A9: Material para conformación de terraplen en camino | B9: ='CAMINO PROY'!D101 -> 164.244
A10: Material granular para corona del dique | B10: ='D_A4.2-1-MD'!D87+'D_A4.2-2-MD'!D115 -> 416.1075
A11: Material de préstamo para cuerpo del dique | B11: ='D_A4.2-1-MD'!D68+'D_A4.2-2-MD'!D89 -> 3660.3463
A13: DESCRIPCIÓN | B13: VOLUMEN (m3) | C13: DISTANCIA (KM) | D13: m3xkm < 1KM | E13: m3xkm > 1KM
A14: Material Granular | B14: =SUM(B8:B11) -> 4519.0818 | C14: 10.45 | D14: =B14*0.88 -> 3976.7919 | E14: =$B$14*($C$14-1) -> 42705.323
A16: TRANSPORTE DE ROCA
A18: CANTERA | B18: LA JOYA
A20: DESCRIPCIÓN | B20: VOLUMEN
A21: ROCA EN UÑA | B21: ='PD_A4.2-2-MI'!D166+'PD_A4.2-1-MD'!D66+'D_A4.2-1-MD'!D144+'D_A4.2-2-MD'!D193 -> 1331.9596
A22: ROCA EN TALUD | B22: ='PD_A4.2-2-MI'!D197+'PD_A4.2-1-MD'!D77+'D_A4.2-1-MD'!D163+'D_A4.2-2-MD'!D219 -> 1339.1831
A23: ROCA EN CAUCE | B23: ='PC_A4.2-1'!E33 -> 600
A25: DESCRIPCIÓN | B25: VOLUMEN (m3) | C25: DISTANCIA (KM) | D25: m3xkm < 1KM | E25: m3xkm > 1KM
A26: Roca | B26: =SUM(B21:B23) -> 3271.1427 | C26: 17.34 | D26: =B26*0.88 -> 2878.6056 | E26: =$B$26*($C$26-1) -> 53450.472
A28: TRANSPORTE DE MATERIAL EXCEDENTE PARA DISTANCIAS
A30: DME | B30: 13
A32: DESCRIPCIÓN | B32: VOLUMEN
A33: EXC. MAT. SUELTO DE DIQUES Y ENROCADO* | B33: ='PD_A4.2-2-MI'!D42+'PD_A4.2-1-MD'!D22+'D_A4.2-1-MD'!$D$30+'D_A4.2-1-MD'!$J$30+'D_A4.2-2-MD'!D37+'D_A4.2-2-MD'!J37+'PC_A4.2-1'!E19 -> 5238.6121 | C33: * Proveniente de la Excavación en material suelto de diques y enrocados y protección de cauce proyectados
A34: DESBROCE Y LIMPIEZA** | B34: =('PD_A4.2-2-MI'!D11+'PD_A4.2-1-MD'!D11+'D_A4.2-1-MD'!$D$11+'D_A4.2-2-MD'!D11+'CAMINO PROY'!D11)*0.3 -> 1850.9045 | C34: ** Se consideró 0.30 m media de espesor de capa de desbroce y limpieza para todas las estructuras proyectadas
A35: EXC. MAT. SUELTO - CAMINO PROYECTADO*** | B35: ='CAMINO PROY'!D41 -> 322.4215 | C35: *** Proveniente de la excavación en material suelto para camino proyectado
A36: TOTAL | B36: =B33+B34+B35 -> 7411.9381
A38: DESCRIPCIÓN | B38: VOLUMEN (m3) | C38: DISTANCIA (KM) | D38: m3xkm < 1KM | E38: m3xkm > 1KM
A39: Matrial excedente | B39: =B36 -> 7411.9381 | C39: 4.7 | D39: =B39*0.88 -> 6522.5056 | E39: =$B$39*($C$39-1) -> 27424.171
A42: OTROS
A44: DESCRIPCIÓN | B44: VOLUMEN (m3) | C44: DISTANCIA (KM)
A45: Fuente de Agua FA-08 | B45: =B42 -> 0 | C45: 6.69

Sheet Mo_AMB
A2: PROGRAMA DE MONITOREO AMBIENTAL
A3: ÍTEM | B3: DESCRIPCIÓN | C3: COORDENADAS | F3: CANTIDAD
C4: E | D4: N
A5: 1 | B5: MONITOREO AMBIENTAL
A6: 1.1 | B6: CALIDAD DEL AGUA | F6: =SUM(E7:E10) -> 4
B7: AG-01 | C7: 769455 | D7: 8999406 | E7: 1
B8: AG-02 | C8: 773149 | D8: 9005937 | E8: 1
B9: AG-03 | C9: 775214 | D9: 9006253 | E9: 1
B10: AG-04 | C10: 775400 | D10: 9006169 | E10: 1
A11: 1.2 | B11: CALIDAD DEL AIRE | F11: =SUM(E12:E13) -> 2
B12: CA-01 | C12: 767171 | D12: 8998155 | E12: 1
B13: CA-02 | C13: 775241 | D13: 9006136 | E13: 1
A14: 1.3 | B14: RUIDO | F14: =SUM(E15:E18) -> 4
B15: RA-01 | C15: 767191 | D15: 8998199 | E15: 1
B16: RA-02 | C16: 769537 | D16: 8999398 | E16: 1
B17: RA-03 | C17: 775269 | D17: 9006169 | E17: 1
B18: RA-04 | C18: 779601 | D18: 9008231 | E18: 1
