Workbook

Sheet Metrados
A6: Metrados - Quebrada Pampa del Toro
A8: Proyecto : | B8: DEFENSAS RIBEREÑAS DEL RIO LACRAMARCA - PAQUETE R-07
A9: Subproyecto : | B9: SECTOR 2 QUEBRADA PAMPA DEL TORO
A10: Ubicación : | B10: ANCASH - SANTA - CHIMBOTE
A12: Item | B12: Descripción | K12: unidad | L12: Metrado | N12: P.U. (S/.) | O12: Parcial (S/.) | P12: Sub Total (S/.)
A13: 01.01 | B13: OBRAS PROVISIONALES | P13: =SUM(O14:O19) -> #REF!
A14: 01.01.01 | B14: CARTEL DE IDENTIFICACIÓN DE OBRA 4.8 m x 3.60 m | K14: und | L14: 1 | N14: =+#REF! -> #REF! | O14: =+L14*N14 -> #REF!
A15: 01.01.02 | B15: INSTALACIONES PROVISIONALES PARA LA OBRA | K15: glb | L15: 1 | N15: =+#REF! -> #REF! | O15: =+L15*N15 -> #REF!
A16: 01.01.03 | B16: MANTENIMIENTO DE TRANSITO Y SEGURIDAD VIAL | K16: mes | L16: 1 | N16: 3.41 | O16: =+L16*N16 -> 3.41
A17: 01.02 | B17: TRABAJOS PRELIMINARES | N17: =+#REF! -> #REF! | O17: =+L17*N17 -> #REF!
A18: 01.02.01 | B18: MOVILIZACION Y DESMOVILIZACION DE EQUIPOS | K18: glb | L18: 1 | N18: =+#REF! -> #REF! | O18: =+L18*N18 -> #REF!
A19: 01.02.02 | B19: TRAZO Y REPLANTEO DE OBRA | K19: m2 | L19: ='PD_A4.2-2-MI'!D5+'PD_A4.2-1-MD'!D5+'D_A4.2-1-MD'!D5+'D_A4.2-2-MD'!D5+'PC_A4.2-1'!D5+'CAMINO PROY'!D5 -> 6820.555 | N19: 1200000 | O19: =L19*N19 -> 8184666000
A20: 01.03 | B20: DIQUES Y PROTECCIÓN DE CAUCE CON ENROCADO | P20: =SUM(O21:O34) -> 0
A21: 01.03.01 | B21: DIQUE DE TIERRA COMPACTADA | N21: =SUM([1]Tabla!AZ4:AZ2765) -> 66585015 | O21: =+L21*N21 -> 0
A22: 1.03.01.01 | B22: DESBROCE Y LIMPIEZA EN ZONA NO BOSCOSA | K22: m2 | L22: ='D_A4.2-1-MD'!D11+'D_A4.2-2-MD'!D11 -> 3665.0845
A23: 1.03.01.02 | B23: EXCAVACIÓN EN MATERIAL SUELTO CON EQUIPO | K23: m3 | L23: ='D_A4.2-1-MD'!D30+'D_A4.2-2-MD'!D37 -> 2391.2757
A24: 1.03.01.03 | B24: PERFILADO Y COMPACTACIÓN EN ZONA DE CORTE | K24: m2 | L24: ='D_A4.2-1-MD'!D49+'D_A4.2-2-MD'!D63 -> 3003.6527
A25: 1.03.01.04 | B25: CONFORMACIÓN DE CUERPO DEL DIQUE | K25: m3 | L25: ='D_A4.2-1-MD'!D68+'D_A4.2-2-MD'!D89 -> 3660.3463
A26: 1.03.01.05 | B26: CONFORMACIÓN DE MATERIAL GRANULAR EN CORONA DEL DIQUE | K26: m3 | L26: ='D_A4.2-1-MD'!D87+'D_A4.2-2-MD'!D115 -> 416.1075
A27: 01.03.02 | B27: ENROCADO CON PIEDRA ACOMODADA | N27: =SUM([1]Tabla!BA4:BA2765) -> 72440788 | O27: =+L27*N27 -> 0
A28: 01.03.02.01 | B28: DESBROCE Y LIMPIEZA EN ZONA NO BOSCOSA | K28: m2 | L28: ='PD_A4.2-2-MI'!D11+'PD_A4.2-1-MD'!D11 -> 1513.3222
A29: 01.03.02.02 | B29: EXCAVACIÓN EN MATERIAL SUELTO CON EQUIPO | K29: m3 | L29: ='PD_A4.2-2-MI'!D42+'PD_A4.2-1-MD'!D22+'D_A4.2-1-MD'!J30+'D_A4.2-2-MD'!J37 -> 2247.3364
A30: 01.03.02.03 | B30: PERFILADO Y COMPACTACIÓN EN ZONA DE CORTE | K30: m2 | L30: ='PD_A4.2-2-MI'!D73+'PD_A4.2-1-MD'!D33+'D_A4.2-1-MD'!J49+'D_A4.2-2-MD'!J63 -> 3178.8479
A31: 01.03.02.04 | B31: GEOTEXTIL NO TEJIDO 400 gr/m2, INC. COLOCACIÓN | K31: m2 | L31: ='PD_A4.2-2-MI'!D104+'PD_A4.2-1-MD'!D44+'D_A4.2-1-MD'!D106+'D_A4.2-2-MD'!D141 -> 4762.3435
A32: 01.03.02.05 | B32: CAMA DE APOYO (e=0.25 m) | K32: m3 | L32: ='PD_A4.2-2-MI'!F135+'PD_A4.2-1-MD'!F55+'D_A4.2-1-MD'!F125+'D_A4.2-2-MD'!F167 -> 884.79856
A33: 01.03.02.06 | B33: COLOCACIÓN Y ACOMODO DE ROCA EN UÑA DEL DIQUE | K33: m3 | L33: ='PD_A4.2-2-MI'!D166+'PD_A4.2-1-MD'!D66+'D_A4.2-1-MD'!D144+'D_A4.2-2-MD'!D193 -> 1331.9596
A34: 01.03.02.07 | B34: COLOCACIÓN Y ACOMODO DE ROCA EN TALUD DEL DIQUE | K34: m3 | L34: ='PD_A4.2-2-MI'!D197+'PD_A4.2-1-MD'!D77+'D_A4.2-1-MD'!D163+'D_A4.2-2-MD'!D219 -> 1339.1831
A35: 01.03.03 | B35: PROTECCIÓN DEL CAUCE CON ENROCADO | N35: =SUM([1]Tabla!BA2:BA2763) -> 72440788 | O35: =+L35*N35 -> 0
A36: 1.03.03.01 | B36: EXCAVACIÓN EN MATERIAL SUELTO CON EQUIPO | K36: m3 | L36: ='PC_A4.2-1'!E19 -> 600
A37: 1.03.03.02 | B37: PERFILADO Y COMPACTACIÓN CON EQUIPO DE FONDO DE EXCAVACIÓN | K37: m2 | L37: ='PC_A4.2-1'!E26 -> 600
A38: 1.03.03.03 | B38: COLOCACIÓN DE ROCA EN CAUCE | K38: m3 | L38: ='PC_A4.2-1'!E33 -> 600
A39: 1.04 | B39: REPOSICIÓN DE CAMINO DE ACCESO
A40: 1.04.01 | B40: DESBROCE Y LIMPIEZA EN ZONA NO BOSCOSA | K40: m2 | L40: ='CAMINO PROY'!D11 -> 991.2749
A41: 1.04.02 | B41: EXCAVACIÓN EN MATERIAL SUELTO CON EQUIPO | K41: m3 | L41: ='CAMINO PROY'!D41 -> 322.4215
A42: 1.04.03 | B42: PERFILADO Y COMPACTACIÓN EN ZONA DE CORTE | K42: m2 | L42: ='CAMINO PROY'!D71 -> 864.973
A43: 1.04.04 | B43: CONFORMACIÓN DE TERRAPLEN EN CAMINO | K43: m3 | L43: ='CAMINO PROY'!D101 -> 164.244
A44: 1.04.05 | B44: MATERIAL AFIRMADO e=0.30 m | K44: m3 | L44: ='CAMINO PROY'!D131 -> 278.384
A45: 01.05 | B45: TRANSPORTE DE MATERIAL | N45: =SUM([1]Tabla!BA6:BA2767) -> 72440788 | O45: =+L45*N45 -> 0
A46: 1.05.01 | B46: TRANSPORTE DE MATERIAL GRANULAR PARA DISTANCIAS < 1KM | K46: m3-km | L46: =TRANS_MAT!D14 -> 3976.7919
A47: 1.05.02 | B47: TRANSPORTE DE MATERIAL GRANULAR PARA DISTANCIAS > 1KM | K47: m3-km | L47: =TRANS_MAT!E14 -> 42705.323
...

Sheet PD_A4.2-2-MI
A2: TRAZO Y REPLANTEO DE OBRA
A3: ITEM | B3: Cantidad | C3: Área (m2) | D3: Área (m2)
A4: PD A4.2-2 MI | B4: 1 | C4: 1340.1003 | D4: =B4*C4 -> 1340.1003
A5: TOTAL | D5: =SUM(D4:D4) -> 1340.1003
A8: DESBROCE Y LIMPIEZA EN ZONA NO BOSCOSA
A9: ITEM | B9: Cantidad | C9: Área (m2) | D9: Área (m2)
A10: PD A4.2-2 MI | B10: 1 | C10: 1340.1003 | D10: =B10*C10 -> 1340.1003
A11: TOTAL | D11: =SUM(D10:D10) -> 1340.1003
A14: EXCAVACIÓN EN MATERIAL SUELTO CON EQUIPO
A15: Progresiva | B15: Distancia (m) | C15: Área Corte (m2) | D15: Volumen Corte (m3)
A16: 0 | B16: 0 | C16: 8.5761 | D16: =B16*C16 -> 0
A17: 5 | B17: =A17-A16 -> 5 | C17: 11.7016 | D17: =B17*(C17+C16)/2 -> 50.69425
A18: 10 | B18: =A18-A17 -> 5 | C18: 12.4607 | D18: =B18*(C18+C17)/2 -> 60.40575
A19: 15 | B19: =A19-A18 -> 5 | C19: 13.5941 | D19: =B19*(C19+C18)/2 -> 65.137
A20: 20 | B20: =A20-A19 -> 5 | C20: 8.2587 | D20: =B20*(C20+C19)/2 -> 54.632
A21: 24 | B21: =A21-A20 -> 4 | C21: 6.4169 | D21: =B21*(C21+C20)/2 -> 29.3512
A22: 30 | B22: =A22-A21 -> 6 | C22: 6.075 | D22: =B22*(C22+C21)/2 -> 37.4757
A23: 35 | B23: =A23-A22 -> 5 | C23: 14.3075 | D23: =B23*(C23+C22)/2 -> 50.95625
A24: 40 | B24: =A24-A23 -> 5 | C24: 8.4723 | D24: =B24*(C24+C23)/2 -> 56.9495
A25: 45 | B25: =A25-A24 -> 5 | C25: 8.3249 | D25: =B25*(C25+C24)/2 -> 41.993
A26: 50 | B26: =A26-A25 -> 5 | C26: 10.4747 | D26: =B26*(C26+C25)/2 -> 46.999
A27: 55 | B27: =A27-A26 -> 5 | C27: 10.8793 | D27: =B27*(C27+C26)/2 -> 53.385
A28: 60 | B28: =A28-A27 -> 5 | C28: 10.4848 | D28: =B28*(C28+C27)/2 -> 53.41025
... A41: 125 | B41: =A41-A40 -> 5 | C41: 0 | D41: =B41*(C41+C40)/2 -> 30.725
A42: TOTAL | D42: =SUM(D16:D41) -> 1293.1359
A45: PERFILADO Y COMPACTACIÓN EN ZONA DE CORTE
A46: Progresiva | B46: Distancia (m) | C46: Longitud (m) | D46: Área (m2)
A47: 0 | B47: 0 | C47: 9.9288 | D47: =B47*C47 -> 0
A48: 5 | B48: =A48-A47 -> 5 | C48: 11.7975 | D48: =B48*(C48+C47)/2 -> 54.31575
A49: 10 | B49: =A49-A48 -> 5 | C49: 11.344 | D49: =B49*(C49+C48)/2 -> 57.85375
A50: 15 | B50: =A50-A49 -> 5 | C50: 12.4278 | D50: =B50*(C50+C49)/2 -> 59.4295
A51: 20 | B51: =A51-A50 -> 5 | C51: 10.0269 | D51: =B51*(C51+C50)/2 -> 56.13675
A52: 24 | B52: =A52-A51 -> 4 | C52: 9.2294 | D52: =B52*(C52+C51)/2 -> 38.5126
A53: 30 | B53: =A53-A52 -> 6 | C53: 7.1067 | D53: =B53*(C53+C52)/2 -> 49.0083
A54: 35 | B54: =A54-A53 -> 5 | C54: 14.3347 | D54: =B54*(C54+C53)/2 -> 53.6035
A55: 40 | B55: =A55-A54 -> 5 | C55: 12.3964 | D55: =B55*(C55+C54)/2 -> 66.82775
A56: 45 | B56: =A56-A55 -> 5 | C56: 10.7351 | D56: =B56*(C56+C55)/2 -> 57.82875
A57: 50 | B57: =A57-A56 -> 5 | C57: 11.8338 | D57: =B57*(C57+C56)/2 -> 56.42225
A58: 55 | B58: =A58-A57 -> 5 | C58: 15.3106 | D58: =B58*(C58+C57)/2 -> 67.861
A59: 60 | B59: =A59-A58 -> 5 | C59: 15.109 | D59: =B59*(C59+C58)/2 -> 76.049
...

Sheet PD_A4.2-1-MD
A2: TRAZO Y REPLANTEO DE OBRA
A3: ITEM | B3: Cantidad | C3: Área (m2) | D3: Área (m2)
A4: PD A4.2-1 MD | B4: 1 | C4: 173.2219 | D4: =B4*C4 -> 173.2219
A5: TOTAL | D5: =SUM(D4:D4) -> 173.2219
A8: DESBROCE Y LIMPIEZA EN ZONA NO BOSCOSA
A9: ITEM | B9: Cantidad | C9: Área (m2) | D9: Área (m2)
A10: PD A4.2-1 MD | B10: 1 | C10: 173.2219 | D10: =B10*C10 -> 173.2219
A11: TOTAL | D11: =SUM(D10:D10) -> 173.2219
A14: EXCAVACIÓN EN MATERIAL SUELTO CON EQUIPO
A15: Progresiva | B15: Distancia (m) | C15: Área Corte (m2) | D15: Volumen Corte (m3)
A16: 0 | B16: 0 | C16: 15.105 | D16: =B16*C16 -> 0
A17: 3 | B17: =A17-A16 -> 3 | C17: 14.863 | D17: =B17*(C17+C16)/2 -> 44.952
A18: 6 | B18: =A18-A17 -> 3 | C18: 14.5775 | D18: =B18*(C18+C17)/2 -> 44.16075
A19: 10 | B19: =A19-A18 -> 4 | C19: 15.5802 | D19: =B19*(C19+C18)/2 -> 60.3154
A20: 15 | B20: =A20-A19 -> 5 | C20: 18.0226 | D20: =B20*(C20+C19)/2 -> 84.007
A21: 19 | B21: =A21-A20 -> 4 | C21: 14.2444 | D21: =B21*(C21+C20)/2 -> 64.534
A22: TOTAL | D22: =SUM(D16:D21) -> 297.96915
A25: PERFILADO Y COMPACTACIÓN EN ZONA DE CORTE
A26: Progresiva | B26: Distancia (m) | C26: Longitud (m) | D26: Área (m2)
A27: 0 | B27: 0 | C27: 9.9098 | D27: =B27*C27 -> 0
A28: 3 | B28: =A28-A27 -> 3 | C28: 10.0351 | D28: =B28*(C28+C27)/2 -> 29.91735
A29: 6 | B29: =A29-A28 -> 3 | C29: 9.899 | D29: =B29*(C29+C28)/2 -> 29.90115
A30: 10 | B30: =A30-A29 -> 4 | C30: 9.6166 | D30: =B30*(C30+C29)/2 -> 39.0312
A31: 15 | B31: =A31-A30 -> 5 | C31: 10.9515 | D31: =B31*(C31+C30)/2 -> 51.42025
A32: 19 | B32: =A32-A31 -> 4 | C32: 10.7383 | D32: =B32*(C32+C31)/2 -> 43.3796
A33: TOTAL | D33: =SUM(D27:D32) -> 193.64955
A36: GEOTEXTIL NO TEJIDO 400 gr/m2, INC. COLOCACIÓN
A37: Progresiva | B37: Distancia (m) | C37: Longitud (m) | D37: Área (m2)
A38: 0 | B38: 0 | C38: 12.2489 | D38: =B38*C38 -> 0
A39: 3 | B39: =A39-A38 -> 3 | C39: 12.2499 | D39: =B39*(C39+C38)/2 -> 36.7482
A40: 6 | B40: =A40-A39 -> 3 | C40: 12.2492 | D40: =B40*(C40+C39)/2 -> 36.74865
A41: 10 | B41: =A41-A40 -> 4 | C41: 12.2717 | D41: =B41*(C41+C40)/2 -> 49.0418
A42: 15 | B42: =A42-A41 -> 5 | C42: 12.2493 | D42: =B42*(C42+C41)/2 -> 61.3025
A43: 19 | B43: =A43-A42 -> 4 | C43: 12.2499 | D43: =B43*(C43+C42)/2 -> 48.9984
A44: TOTAL | D44: =SUM(D38:D43) -> 232.83955
A47: CAMA DE APOYO (e=0.25 m)
A48: Progresiva | B48: Distancia (m) | C48: Longitud (m) | D48: Área (m2) | E48: Espesor (m) | F48: Volumen (m3)
A49: 0 | B49: 0 | C49: 9.1621 | D49: =B49*C49 -> 0 | E49: 0.25 | F49: =D49*E49 -> 0
A50: 3 | B50: =A50-A49 -> 3 | C50: 9.1627 | D50: =B50*(C50+C49)/2 -> 27.4872 | E50: 0.25 | F50: =D50*E50 -> 6.8718
A51: 6 | B51: =A51-A50 -> 3 | C51: 9.1618 | D51: =B51*(C51+C50)/2 -> 27.48675 | E51: 0.25 | F51: =D51*E51 -> 6.8716875
...

Sheet D_A4.2-1-MD
A2: TRAZO Y REPLANTEO DE OBRA
A3: ITEM | B3: Cantidad | C3: Área (m2) | D3: Área (m2)
A4: D A4.2-1 MD | B4: 1 | C4: 700.2054 | D4: =B4*C4 -> 700.2054
A5: TOTAL | D5: =SUM(D4:D4) -> 700.2054
A8: DESBROCE Y LIMPIEZA EN ZONA NO BOSCOSA
A9: ITEM | B9: Cantidad | C9: Área (m2) | D9: Área (m2)
A10: D A4.2-1 MD | B10: 1 | C10: 700.2054 | D10: =B10*C10 -> 700.2054
A11: TOTAL | D11: =SUM(D10:D10) -> 700.2054
A14: EXCAVACIÓN EN MATERIAL SUELTO CON EQUIPO | G14: EXCAVACIÓN EN MATERIAL SUELTO CON EQUIPO EN UÑA DE ENROCADO
A15: Progresiva | B15: Distancia (m) | C15: Área Corte (m2) | D15: Volumen Corte (m3) | G15: Progresiva | H15: Distancia (m) | I15: Área Corte (m2) | J15: Volumen Corte (m3)
A16: 0 | B16: =A16 -> 0 | C16: 22.5451 | D16: =B16*C16 -> 0 | G16: 0 | H16: 0 | I16: 4.4558 | J16: =H16*I16 -> 0
A17: 5 | B17: =A17-A16 -> 5 | C17: 14.4362 | D17: =B17*(C17+C16)/2 -> 92.45325 | G17: 5 | H17: =G17-G16 -> 5 | I17: 2.5597 | J17: =H17*(I17+I16)/2 -> 17.53875
A18: 10 | B18: =A18-A17 -> 5 | C18: 9.4523 | D18: =B18*(C18+C17)/2 -> 59.72125 | G18: 10 | H18: =G18-G17 -> 5 | I18: 2.5597 | J18: =H18*(I18+I17)/2 -> 12.7985
A19: 15 | B19: =A19-A18 -> 5 | C19: 9.3366 | D19: =B19*(C19+C18)/2 -> 46.97225 | G19: 15 | H19: =G19-G18 -> 5 | I19: 2.5597 | J19: =H19*(I19+I18)/2 -> 12.7985
A20: 20 | B20: =A20-A19 -> 5 | C20: 9.2323 | D20: =B20*(C20+C19)/2 -> 46.42225 | G20: 20 | H20: =G20-G19 -> 5 | I20: 2.5597 | J20: =H20*(I20+I19)/2 -> 12.7985
A21: 25 | B21: =A21-A20 -> 5 | C21: 9.4521 | D21: =B21*(C21+C20)/2 -> 46.711 | G21: 25 | H21: =G21-G20 -> 5 | I21: 2.5597 | J21: =H21*(I21+I20)/2 -> 12.7985
A22: 30 | B22: =A22-A21 -> 5 | C22: 11.9259 | D22: =B22*(C22+C21)/2 -> 53.445 | G22: 30 | H22: =G22-G21 -> 5 | I22: 2.5597 | J22: =H22*(I22+I21)/2 -> 12.7985
A23: 35 | B23: =A23-A22 -> 5 | C23: 12.0956 | D23: =B23*(C23+C22)/2 -> 60.05375 | G23: 35 | H23: =G23-G22 -> 5 | I23: 2.5597 | J23: =H23*(I23+I22)/2 -> 12.7985
A24: 40 | B24: =A24-A23 -> 5 | C24: 8.8385 | D24: =B24*(C24+C23)/2 -> 52.33525 | G24: 40 | H24: =G24-G23 -> 5 | I24: 2.5597 | J24: =H24*(I24+I23)/2 -> 12.7985
A25: 45 | B25: =A25-A24 -> 5 | C25: 5.8021 | D25: =B25*(C25+C24)/2 -> 36.6015 | G25: 45 | H25: =G25-G24 -> 5 | I25: 2.5597 | J25: =H25*(I25+I24)/2 -> 12.7985
A26: 50 | B26: =A26-A25 -> 5 | C26: 5.8021 | D26: =B26*(C26+C25)/2 -> 29.0105 | G26: 50 | H26: =G26-G25 -> 5 | I26: 2.5597 | J26: =H26*(I26+I25)/2 -> 12.7985
A27: 55 | B27: =A27-A26 -> 5 | C27: 5.8021 | D27: =B27*(C27+C26)/2 -> 29.0105 | G27: 55 | H27: =G27-G26 -> 5 | I27: 2.5597 | J27: =H27*(I27+I26)/2 -> 12.7985
A28: 60 | B28: =A28-A27 -> 5 | C28: 5.8021 | D28: =B28*(C28+C27)/2 -> 29.0105 | G28: 60 | H28: =G28-G27 -> 5 | I28: 2.5597 | J28: =H28*(I28+I27)/2 -> 12.7985
A29: 62 | B29: =A29-A28 -> 2 | C29: 5.8021 | D29: =B29*(C29+C28)/2 -> 11.6042 | G29: 62 | H29: =G29-G28 -> 2 | I29: 2.5597 | J29: =H29*(I29+I28)/2 -> 5.1194
A30: TOTAL | D30: =SUM(D16:D29) -> 593.3512 | G30: TOTAL | J30: =SUM(J16:J29) -> 163.44165
A33: PERFILADO Y COMPACTACIÓN EN ZONA DE CORTE | G33: PERFILADO Y COMPACTACIÓN EN ZONA DE CORTE EN UÑA DE ENROCADO
A34: Progresiva | B34: Distancia (m) | C34: Longitud (m) | D34: Área (m2) | G34: Progresiva | H34: Distancia (m) | I34: Longitud (m) | J34: Área (m2)
A35: 0 | B35: =A35 -> 0 | C35: 13.8939 | D35: =B35*C35 -> 0 | G35: 0 | H35: =G35 -> 0 | I35: 5.771 | J35: =H35*I35 -> 0
A36: 5 | B36: =A36-A35 -> 5 | C36: 12.7839 | D36: =B36*(C36+C35)/2 -> 66.6945 | G36: 5 | H36: =G36-G35 -> 5 | I36: 5.1941 | J36: =H36*(I36+I35)/2 -> 27.41275
A37: 10 | B37: =A37-A36 -> 5 | C37: 11.8672 | D37: =B37*(C37+C36)/2 -> 61.62775 | G37: 10 | H37: =G37-G36 -> 5 | I37: 5.5359 | J37: =H37*(I37+I36)/2 -> 26.825
A38: 15 | B38: =A38-A37 -> 5 | C38: 11.8557 | D38: =B38*(C38+C37)/2 -> 59.30725 | G38: 15 | H38: =G38-G37 -> 5 | I38: 5.5347 | J38: =H38*(I38+I37)/2 -> 27.6765
A39: 20 | B39: =A39-A38 -> 5 | C39: 11.8461 | D39: =B39*(C39+C38)/2 -> 59.2545 | G39: 20 | H39: =G39-G38 -> 5 | I39: 5.5233 | J39: =H39*(I39+I38)/2 -> 27.645
A40: 25 | B40: =A40-A39 -> 5 | C40: 11.8366 | D40: =B40*(C40+C39)/2 -> 59.20675 | G40: 25 | H40: =G40-G39 -> 5 | I40: 5.7608 | J40: =H40*(I40+I39)/2 -> 28.21025
A41: 30 | B41: =A41-A40 -> 5 | C41: 11.501 | D41: =B41*(C41+C40)/2 -> 58.344 | G41: 30 | H41: =G41-G40 -> 5 | I41: 6.4029 | J41: =H41*(I41+I40)/2 -> 30.40925
A42: 35 | B42: =A42-A41 -> 5 | C42: 11.3283 | D42: =B42*(C42+C41)/2 -> 57.07325 | G42: 35 | H42: =G42-G41 -> 5 | I42: 6.2086 | J42: =H42*(I42+I41)/2 -> 31.52875
A43: 40 | B43: =A43-A42 -> 5 | C43: 11.4135 | D43: =B43*(C43+C42)/2 -> 56.8545 | G43: 40 | H43: =G43-G42 -> 5 | I43: 5.5584 | J43: =H43*(I43+I42)/2 -> 29.4175
A44: 45 | B44: =A44-A43 -> 5 | C44: 11.4426 | D44: =B44*(C44+C43)/2 -> 57.14025 | G44: 45 | H44: =G44-G43 -> 5 | I44: 5.1476 | J44: =H44*(I44+I43)/2 -> 26.765
A45: 50 | B45: =A45-A44 -> 5 | C45: 11.4426 | D45: =B45*(C45+C44)/2 -> 57.213 | G45: 50 | H45: =G45-G44 -> 5 | I45: 5.1476 | J45: =H45*(I45+I44)/2 -> 25.738
A46: 55 | B46: =A46-A45 -> 5 | C46: 11.4426 | D46: =B46*(C46+C45)/2 -> 57.213 | G46: 55 | H46: =G46-G45 -> 5 | I46: 5.1476 | J46: =H46*(I46+I45)/2 -> 25.738
A47: 60 | B47: =A47-A46 -> 5 | C47: 11.4426 | D47: =B47*(C47+C46)/2 -> 57.213 | G47: 60 | H47: =G47-G46 -> 5 | I47: 5.1476 | J47: =H47*(I47+I46)/2 -> 25.738
...

Sheet D_A4.2-2-MD
A2: TRAZO Y REPLANTEO DE OBRA
A3: ITEM | B3: Cantidad | C3: Área (m2) | D3: Área (m2)
A4: PD A4.2-2 MD | B4: 1 | C4: 2964.8791 | D4: =B4*C4 -> 2964.8791
A5: TOTAL | D5: =SUM(D4:D4) -> 2964.8791
A8: DESBROCE Y LIMPIEZA EN ZONA NO BOSCOSA
A9: ITEM | B9: Cantidad | C9: Área (m2) | D9: Área (m2)
A10: PD A4.2-2 MD | B10: 1 | C10: 2964.8791 | D10: =B10*C10 -> 2964.8791
A11: TOTAL | D11: =SUM(D10:D10) -> 2964.8791
A14: EXCAVACIÓN EN MATERIAL SUELTO CON EQUIPO | G14: EXCAVACIÓN EN MATERIAL SUELTO CON EQUIPO EN UÑA ENROCADO
A15: Progresiva | B15: Distancia (m) | C15: Área Corte (m2) | D15: Volumen Corte (m3) | G15: Progresiva | H15: Distancia (m) | I15: Área Corte (m2) | J15: Volumen Corte (m3)
A16: 0 | B16: =A16 -> 0 | C16: 8.1779 | D16: =B16*C16 -> 0 | G16: 0 | H16: 0 | I16: 2.5635 | J16: =H16*I16 -> 0
A17: 10 | B17: =A17-A16 -> 10 | C17: 8.2441 | D17: =B17*(C17+C16)/2 -> 82.11 | G17: 10 | H17: =G17-G16 -> 10 | I17: 2.5597 | J17: =H17*(I17+I16)/2 -> 25.616
A18: 20 | B18: =A18-A17 -> 10 | C18: 7.7565 | D18: =B18*(C18+C17)/2 -> 80.003 | G18: 20 | H18: =G18-G17 -> 10 | I18: 2.5597 | J18: =H18*(I18+I17)/2 -> 25.597
A19: 30 | B19: =A19-A18 -> 10 | C19: 7.4024 | D19: =B19*(C19+C18)/2 -> 75.7945 | G19: 30 | H19: =G19-G18 -> 10 | I19: 2.5597 | J19: =H19*(I19+I18)/2 -> 25.597
A20: 40 | B20: =A20-A19 -> 10 | C20: 7.7459 | D20: =B20*(C20+C19)/2 -> 75.7415 | G20: 40 | H20: =G20-G19 -> 10 | I20: 2.5597 | J20: =H20*(I20+I19)/2 -> 25.597
A21: 50 | B21: =A21-A20 -> 10 | C21: 9.2616 | D21: =B21*(C21+C20)/2 -> 85.0375 | G21: 50 | H21: =G21-G20 -> 10 | I21: 2.5597 | J21: =H21*(I21+I20)/2 -> 25.597
A22: 60 | B22: =A22-A21 -> 10 | C22: 10.8209 | D22: =B22*(C22+C21)/2 -> 100.4125 | G22: 60 | H22: =G22-G21 -> 10 | I22: 2.5597 | J22: =H22*(I22+I21)/2 -> 25.597
A23: 70 | B23: =A23-A22 -> 10 | C23: 10.4951 | D23: =B23*(C23+C22)/2 -> 106.58 | G23: 70 | H23: =G23-G22 -> 10 | I23: 2.5597 | J23: =H23*(I23+I22)/2 -> 25.597
A24: 80 | B24: =A24-A23 -> 10 | C24: 9.7497 | D24: =B24*(C24+C23)/2 -> 101.224 | G24: 80 | H24: =G24-G23 -> 10 | I24: 2.5597 | J24: =H24*(I24+I23)/2 -> 25.597
A25: 90 | B25: =A25-A24 -> 10 | C25: 9.201 | D25: =B25*(C25+C24)/2 -> 94.7535 | G25: 90 | H25: =G25-G24 -> 10 | I25: 2.5597 | J25: =H25*(I25+I24)/2 -> 25.597
A26: 100 | B26: =A26-A25 -> 10 | C26: 8.3504 | D26: =B26*(C26+C25)/2 -> 87.757 | G26: 100 | H26: =G26-G25 -> 10 | I26: 2.5597 | J26: =H26*(I26+I25)/2 -> 25.597
A27: 110 | B27: =A27-A26 -> 10 | C27: 7.4593 | D27: =B27*(C27+C26)/2 -> 79.0485 | G27: 110 | H27: =G27-G26 -> 10 | I27: 2.5597 | J27: =H27*(I27+I26)/2 -> 25.597
A28: 120 | B28: =A28-A27 -> 10 | C28: 6.5722 | D28: =B28*(C28+C27)/2 -> 70.1575 | G28: 120 | H28: =G28-G27 -> 10 | I28: 2.5597 | J28: =H28*(I28+I27)/2 -> 25.597
... A36: 195 | B36: =A36-A35 -> 5 | C36: 0 | D36: =B36*(C36+C35)/2 -> 34.479 | G36: 195 | H36: =G36-G35 -> 5 | I36: 0 | J36: =H36*(I36+I35)/2 -> 6.40875
A37: TOTAL | D37: =SUM(D16:D36) -> 1797.9245 | G37: TOTAL | J37: =SUM(J16:J36) -> 492.78975
A40: PERFILADO Y COMPACTACIÓN EN ZONA DE CORTE | G40: PERFILADO Y COMPACTACIÓN EN ZONA DE CORTE EN UÑA DE ENROCADO
A41: Progresiva | B41: Distancia (m) | C41: Longitud (m) | D41: Área (m2) | G41: Progresiva | H41: Distancia (m) | I41: Longitud (m) | J41: Área (m2)
A42: 0 | B42: =A42 -> 0 | C42: 11.6325 | D42: =B42*C42 -> 0 | G42: 0 | H42: =G42 -> 0 | I42: 5.3227 | J42: =H42*I42 -> 0
A43: 10 | B43: =A43-A42 -> 10 | C43: 11.7591 | D43: =B43*(C43+C42)/2 -> 116.958 | G43: 10 | H43: =G43-G42 -> 10 | I43: 5.3875 | J43: =H43*(I43+I42)/2 -> 53.551
A44: 20 | B44: =A44-A43 -> 10 | C44: 11.747 | D44: =B44*(C44+C43)/2 -> 117.5305 | G44: 20 | H44: =G44-G43 -> 10 | I44: 5.3002 | J44: =H44*(I44+I43)/2 -> 53.4385
A45: 30 | B45: =A45-A44 -> 10 | C45: 11.7264 | D45: =B45*(C45+C44)/2 -> 117.367 | G45: 30 | H45: =G45-G44 -> 10 | I45: 5.3043 | J45: =H45*(I45+I44)/2 -> 53.0225
A46: 40 | B46: =A46-A45 -> 10 | C46: 11.7044 | D46: =B46*(C46+C45)/2 -> 117.154 | G46: 40 | H46: =G46-G45 -> 10 | I46: 5.429 | J46: =H46*(I46+I45)/2 -> 53.6665
A47: 50 | B47: =A47-A46 -> 10 | C47: 11.5753 | D47: =B47*(C47+C46)/2 -> 116.3985 | G47: 50 | H47: =G47-G46 -> 10 | I47: 5.6984 | J47: =H47*(I47+I46)/2 -> 55.637
A48: 60 | B48: =A48-A47 -> 10 | C48: 11.8155 | D48: =B48*(C48+C47)/2 -> 116.954 | G48: 60 | H48: =G48-G47 -> 10 | I48: 5.6084 | J48: =H48*(I48+I47)/2 -> 56.534
A49: 70 | B49: =A49-A48 -> 10 | C49: 12.0556 | D49: =B49*(C49+C48)/2 -> 119.3555 | G49: 70 | H49: =G49-G48 -> 10 | I49: 5.541 | J49: =H49*(I49+I48)/2 -> 55.747
A50: 80 | B50: =A50-A49 -> 10 | C50: 11.937 | D50: =B50*(C50+C49)/2 -> 119.963 | G50: 80 | H50: =G50-G49 -> 10 | I50: 5.4828 | J50: =H50*(I50+I49)/2 -> 55.119
A51: 90 | B51: =A51-A50 -> 10 | C51: 11.844 | D51: =B51*(C51+C50)/2 -> 118.905 | G51: 90 | H51: =G51-G50 -> 10 | I51: 5.5278 | J51: =H51*(I51+I50)/2 -> 55.053
A52: 100 | B52: =A52-A51 -> 10 | C52: 11.7568 | D52: =B52*(C52+C51)/2 -> 118.004 | G52: 100 | H52: =G52-G51 -> 10 | I52: 5.4275 | J52: =H52*(I52+I51)/2 -> 54.7765
A53: 110 | B53: =A53-A52 -> 10 | C53: 11.69 | D53: =B53*(C53+C52)/2 -> 117.234 | G53: 110 | H53: =G53-G52 -> 10 | I53: 5.325 | J53: =H53*(I53+I52)/2 -> 53.7625
A54: 120 | B54: =A54-A53 -> 10 | C54: 11.6125 | D54: =B54*(C54+C53)/2 -> 116.5125 | G54: 120 | H54: =G54-G53 -> 10 | I54: 5.2243 | J54: =H54*(I54+I53)/2 -> 52.7465
...

Sheet PC_A4.2-1
A2: TRAZO Y REPLANTEO DE OBRA
A3: ITEM | B3: Cantidad | C3: Área (m2) | D3: Área (m2)
A4: PC_A4.2-1 | B4: 1 | C4: 650.8734 | D4: =B4*C4 -> 650.8734
A5: TOTAL | D5: =SUM(D4:D4) -> 650.8734
A15: EXCAVACIÓN EN MATERIAL SUELTO CON EQUIPO
A16: Progresiva | B16: Distancia (m) | C16: Ancho (m) | D16: Profundidad (m) | E16: Volumen Corte (m3)
A17: 0 | B17: =A17 -> 0 | C17: 30 | D17: 1 | E17: =B17*C17 -> 0
A18: 20 | B18: =A18-A17 -> 20 | C18: 30 | D18: 1 | E18: =B18*D18*(C18+C17)/2 -> 600
A19: TOTAL | E19: =SUM(E17:E18) -> 600
A22: PERFILADO Y COMPACTACIÓN EN ZONA DE CORTE
A23: Progresiva | B23: Distancia (m) | C23: Ancho (m) | D23: Profundidad (m) | E23: Volumen Corte (m3)
A24: 0 | B24: =A24 -> 0 | C24: 30 | D24: 1 | E24: =B24*C24 -> 0
A25: 20 | B25: =A25-A24 -> 20 | C25: 30 | D25: 1 | E25: =B25*D25*(C25+C24)/2 -> 600
A26: TOTAL | E26: =SUM(E24:E25) -> 600
A29: COLOCACIÓN DE ROCA EN CAUCE
A30: Progresiva | B30: Distancia (m) | C30: Ancho (m) | D30: Profundidad (m) | E30: Volumen Corte (m3)
A31: 0 | B31: =A31 -> 0 | C31: 30 | D31: 1 | E31: =B31*C31 -> 0
A32: 20 | B32: =A32-A31 -> 20 | C32: 30 | D32: 1 | E32: =B32*D32*(C32+C31)/2 -> 600
A33: TOTAL | E33: =SUM(E31:E32) -> 600

Sheet CAMINO PROY
A2: TRAZO Y REPLANTEO DE OBRA
A3: ITEM | B3: Cantidad | C3: Área (m2) | D3: Área (m2)
A4: CAMINO PROY | B4: 1 | C4: 991.2749 | D4: =B4*C4 -> 991.2749
A5: TOTAL | D5: =SUM(D4:D4) -> 991.2749
A8: DESBROCE Y LIMPIEZA EN ZONA NO BOSCOSA
A9: ITEM | B9: Cantidad | C9: Área (m2) | D9: Área (m2)
A10: CAMINO PROY | B10: 1 | C10: 991.2749 | D10: =B10*C10 -> 991.2749
A11: TOTAL | D11: =SUM(D10:D10) -> 991.2749
A14: EXCAVACIÓN EN MATERIAL SUELTO CON EQUIPO
A15: Progresiva | B15: Distancia (m) | C15: Área Corte (m2) | D15: Volumen Corte (m3)
A16: 0 | B16: =A16 -> 0 | C16: 1.0579 | D16: =B16*C16 -> 0
A17: 10 | B17: =A17-A16 -> 10 | C17: 3.0483 | D17: =B17*(C17+C16)/2 -> 20.531
A18: 20 | B18: =A18-A17 -> 10 | C18: 3.0499 | D18: =B18*(C18+C17)/2 -> 30.491
A19: 30 | B19: =A19-A18 -> 10 | C19: 3.8093 | D19: =B19*(C19+C18)/2 -> 34.296
A20: 40 | B20: =A20-A19 -> 10 | C20: 4.2587 | D20: =B20*(C20+C19)/2 -> 40.34
A21: 50 | B21: =A21-A20 -> 10 | C21: 3.627 | D21: =B21*(C21+C20)/2 -> 39.4285
A22: 60 | B22: =A22-A21 -> 10 | C22: 3.0244 | D22: =B22*(C22+C21)/2 -> 33.257
A23: 70 | B23: =A23-A22 -> 10 | C23: 1.8236 | D23: =B23*(C23+C22)/2 -> 24.24
A24: 80 | B24: =A24-A23 -> 10 | C24: 0.0534 | D24: =B24*(C24+C23)/2 -> 9.385
A25: 90 | B25: =A25-A24 -> 10 | C25: 0 | D25: =B25*(C25+C24)/2 -> 0.267
A26: 100 | B26: =A26-A25 -> 10 | C26: 0 | D26: =B26*(C26+C25)/2 -> 0
A27: 110 | B27: =A27-A26 -> 10 | C27: 0 | D27: =B27*(C27+C26)/2 -> 0
A28: 120 | B28: =A28-A27 -> 10 | C28: 0 | D28: =B28*(C28+C27)/2 -> 0
... A40: 240 | B40: =A40-A39 -> 10 | C40: 1.5758 | D40: =B40*(C40+C39)/2 -> 15.497
A41: TOTAL | D41: =SUM(D16:D40) -> 322.4215
A44: PERFILADO Y COMPACTACIÓN EN ZONA DE CORTE
A45: Progresiva | B45: Distancia (m) | C45: Longitud (m) | D45: Área (m2)
A46: 0 | B46: =A46 -> 0 | C46: 5.2132 | D46: =B46*C46 -> 0
A47: 10 | B47: =A47-A46 -> 10 | C47: 6.5028 | D47: =B47*(C47+C46)/2 -> 58.58
A48: 20 | B48: =A48-A47 -> 10 | C48: 6.5013 | D48: =B48*(C48+C47)/2 -> 65.0205
A49: 30 | B49: =A49-A48 -> 10 | C49: 6.9301 | D49: =B49*(C49+C48)/2 -> 67.157
A50: 40 | B50: =A50-A49 -> 10 | C50: 7.1756 | D50: =B50*(C50+C49)/2 -> 70.5285
A51: 50 | B51: =A51-A50 -> 10 | C51: 6.8281 | D51: =B51*(C51+C50)/2 -> 70.0185
A52: 60 | B52: =A52-A51 -> 10 | C52: 6.4811 | D52: =B52*(C52+C51)/2 -> 66.546
A53: 70 | B53: =A53-A52 -> 10 | C53: 5.7358 | D53: =B53*(C53+C52)/2 -> 61.0845
A54: 80 | B54: =A54-A53 -> 10 | C54: =1.2259+0.7369 -> 1.9628 | D54: =B54*(C54+C53)/2 -> 38.493
A55: 90 | B55: =A55-A54 -> 10 | C55: 0 | D55: =B55*(C55+C54)/2 -> 9.814
A56: 100 | B56: =A56-A55 -> 10 | C56: 0 | D56: =B56*(C56+C55)/2 -> 0
A57: 110 | B57: =A57-A56 -> 10 | C57: 0 | D57: =B57*(C57+C56)/2 -> 0
A58: 120 | B58: =A58-A57 -> 10 | C58: 0 | D58: =B58*(C58+C57)/2 -> 0
...

Sheet TRANS_MAT
A2: TRANSPORTE DE MATERIAL
A3: TRANSPORTE DE MATERIAL GRANULAR
A5: CANTERA | B5: ORTECHO
A7: DESCRIPCIÓN | B7: VOLUMEN
A8: Afirmado para camino proyectado | B8: ='CAMINO PROY'!D131 -> 278.384
A9: Material para conformación de terraplen en camino | B9: ='CAMINO PROY'!D101 -> 164.244
A10: Material granular para corona del dique | B10: ='D_A4.2-1-MD'!D87+'D_A4.2-2-MD'!D115 -> 416.1075
A11: Material de préstamo para cuerpo del dique | B11: ='D_A4.2-1-MD'!D68+'D_A4.2-2-MD'!D89 -> 3660.3463
A13: DESCRIPCIÓN | B13: VOLUMEN (m3) | C13: DISTANCIA (KM) | D13: m3xkm < 1KM | E13: m3xkm > 1KM
A14: Material Granular | B14: =SUM(B8:B11) -> 4519.0818 | C14: 10.45 | D14: =B14*0.88 -> 3976.7919 | E14: =$B$14*($C$14-1) -> 42705.323
A16: TRANSPORTE DE ROCA
A18: CANTERA | B18: LA JOYA
A20: DESCRIPCIÓN | B20: VOLUMEN
A21: ROCA EN UÑA | B21: ='PD_A4.2-2-MI'!D166+'PD_A4.2-1-MD'!D66+'D_A4.2-1-MD'!D144+'D_A4.2-2-MD'!D193 -> 1331.9596
A22: ROCA EN TALUD | B22: ='PD_A4.2-2-MI'!D197+'PD_A4.2-1-MD'!D77+'D_A4.2-1-MD'!D163+'D_A4.2-2-MD'!D219 -> 1339.1831
A23: ROCA EN CAUCE | B23: ='PC_A4.2-1'!E33 -> 600
A25: DESCRIPCIÓN | B25: VOLUMEN (m3) | C25: DISTANCIA (KM) | D25: m3xkm < 1KM | E25: m3xkm > 1KM
A26: Roca | B26: =SUM(B21:B23) -> 3271.1427 | C26: 17.34 | D26: =B26*0.88 -> 2878.6056 | E26: =$B$26*($C$26-1) -> 53450.472
A28: TRANSPORTE DE MATERIAL EXCEDENTE PARA DISTANCIAS
A30: DME | B30: 13
A32: DESCRIPCIÓN | B32: VOLUMEN
A33: EXC. MAT. SUELTO DE DIQUES Y ENROCADO* | B33: ='PD_A4.2-2-MI'!D42+'PD_A4.2-1-MD'!D22+'D_A4.2-1-MD'!$D$30+'D_A4.2-1-MD'!$J$30+'D_A4.2-2-MD'!D37+'D_A4.2-2-MD'!J37+'PC_A4.2-1'!E19 -> 5238.6121 | C33: * Proveniente de la Excavación en material suelto de diques y enrocados y protección de cauce proyectados
A34: DESBROCE Y LIMPIEZA** | B34: =('PD_A4.2-2-MI'!D11+'PD_A4.2-1-MD'!D11+'D_A4.2-1-MD'!$D$11+'D_A4.2-2-MD'!D11+'CAMINO PROY'!D11)*0.3 -> 1850.9045 | C34: ** Se consideró 0.30 m media de espesor de capa de desbroce y limpieza para todas las estructuras proyectadas
A35: EXC. MAT. SUELTO - CAMINO PROYECTADO*** | B35: ='CAMINO PROY'!D41 -> 322.4215 | C35: *** Proveniente de la excavación en material suelto para camino proyectado
A36: TOTAL | B36: =B33+B34+B35 -> 7411.9381
A38: DESCRIPCIÓN | B38: VOLUMEN (m3) | C38: DISTANCIA (KM) | D38: m3xkm < 1KM | E38: m3xkm > 1KM
A39: Matrial excedente | B39: =B36 -> 7411.9381 | C39: 4.7 | D39: =B39*0.88 -> 6522.5056 | E39: =$B$39*($C$39-1) -> 27424.171
A42: OTROS
A44: DESCRIPCIÓN | B44: VOLUMEN (m3) | C44: DISTANCIA (KM)
A45: Fuente de Agua FA-08 | B45: =B42 -> 0 | C45: 6.69

Sheet Mo_AMB
A2: PROGRAMA DE MONITOREO AMBIENTAL
A3: ÍTEM | B3: DESCRIPCIÓN | C3: COORDENADAS | F3: CANTIDAD
C4: E | D4: N
A5: 1 | B5: MONITOREO AMBIENTAL
A6: 1.1 | B6: CALIDAD DEL AGUA | F6: =SUM(E7:E10) -> 4
B7: AG-01 | C7: 769455 | D7: 8999406 | E7: 1
B8: AG-02 | C8: 773149 | D8: 9005937 | E8: 1
B9: AG-03 | C9: 775214 | D9: 9006253 | E9: 1
B10: AG-04 | C10: 775400 | D10: 9006169 | E10: 1
A11: 1.2 | B11: CALIDAD DEL AIRE | F11: =SUM(E12:E13) -> 2
B12: CA-01 | C12: 767171 | D12: 8998155 | E12: 1
B13: CA-02 | C13: 775241 | D13: 9006136 | E13: 1
A14: 1.3 | B14: RUIDO | F14: =SUM(E15:E18) -> 4
B15: RA-01 | C15: 767191 | D15: 8998199 | E15: 1
B16: RA-02 | C16: 769537 | D16: 8999398 | E16: 1
B17: RA-03 | C17: 775269 | D17: 9006169 | E17: 1
B18: RA-04 | C18: 779601 | D18: 9008231 | E18: 1
