Workbook
Name \a: #REF!
Name \c: #REF!
Name \R: #REF!
Name \x: #REF!
Name \z: #REF!
Name _311: #REF!
Name _313: #REF!
Name _314: #REF!
Name _321: #REF!
Name _323: #REF!
Name _341: #REF!
Name _CUA104: #REF!
Name _CUA105: #REF!
Name _CUA106: [2]nota!$A$1:$S$47
Name _CUA107: [2]nota!#REF!
Name _CUA108: #REF!
Name _CUA109: #REF!
Name _CUA110: #REF!
Name _CUA111: #REF!
Name _CUA112: #REF!
Name _CUA113: #REF!
Name _CUA114: #REF!
Name _CUA115: #REF!
Name _ING95: #REF!
Name _PAG1: #REF!
Name _PER1: #REF!
Name _PER2: #REF!
Name a: [3]Compra_54MOD!#REF!
Name a: [3]Compra_54MOD!#REF!
Name a: [3]Compra_54MOD!#REF!
Name A_IMPRESIÓN_IM: #REF!
Name aaa: #REF!
Name ACCOUNTEDPERIODTYPE1: #REF!
Name ACTUALIZAR: #REF!
Name Adiciones_Capital: '[4]Cedula 15'!$E$16
Name alm: 'ESTRUCTURA FINAL'!alm
Name alm: 'I.-Vehiculo'!alm
Name alm: 'II.-Planilla'!alm
Name alm: 'III.-Equipos y Herramienta'!alm
Name alm: 'IV.-Uniformes'!alm
Name alm: 'V.-Seguros, Otros'!alm
Name alm: 'VI.-Alojamiento y alimentación'!alm
Name alm: [0]!alm
Name Año_Presupuesto: '[4]Datos Generales'!$B$2
Name Año1: '[4]Datos Generales'!$B$3
Name Año2: '[4]Datos Generales'!$B$4
Name APPSUSERNAME1: #REF!
Name aqdfasdsa: #REF!
Name Area_inver._futura: '[5]Inversiones Futuras'!$A$2:$E$106
Name ARG: #REF!
Name BANCOS: #REF!
Name BLHp: '[6]REAL - PBI sectorial (cuadro)'!$A$1
Name BRA: #REF!
Name brady: #REF!
Name BuiltIn_Print_Area: #REF!
Name CAJA95: #REF!
Name CAJA96: #REF!
Name CALPH: [7]SHEET1!$M$1:$M$4
Name CBNPR: [7]SHEET1!$X$1:$X$4
Name ccc: 'ESTRUCTURA FINAL'!ccc

Sheet CONSOLIDADO
E1: PLANTILLA DE PRESUPUESTO
K3: RV.00
K4: Fecha de versión
A5: Obra: Defensas Ribereñas Río Lacramarca
A6: Dirección: Nuevo Chimbote - Ancash
A7: DATOS DEL OFERTANTE:
A8: Razon Social:
A9: Domicilio:
A10: Teléfono/Fax:
A11: Contacto:
K12: FECHA LIMITE ENTREGA OFERTA:
A13: ITEM | B13: U/M | C13: CANTIDAD | E13: DESCRIPCION | K13: Prec. Unit. | L13: Prec. Total
A14: SERVICIO DE GESTIÓN DE RESIDUOS
A15: 1 | E15: RESIDUOS NO PELIGROSOS
A16: 1.1 | B16: VIAJE | C16: 11.62308 | E16: Viaje de 10 TN Transporte para eliminación de residuos sólidos no peligrosos | K16: =+DETALLADO!K16 -> 2080 | L16: =+K16*C16 -> 24176.006
A17: 1.2 | B17: TN | C17: 104.2308 | E17: Disposicion final de residuos en relleno sanitario autorizado | K17: 93 | L17: =+K17*C17 -> 9693.4644
A18: 1.3 | B18: TN | C18: 12 | E18: Reaprovechamiento o comercialización de los residuos reaprovechables (chatarra) | K18: 210 | L18: =-+K18*C18 -> -2520
A19: 2 | E19: RESIDUOS PELIGROSOS
A20: 2.1 | B20: VIAJE | C20: 10.85 | E20: Viaje de 10 Toneladas Transporte para eliminación de residuos sólidos no peligrosos | K20: =+DETALLADO!K20 -> 2230 | L20: =+K20*C20 -> 24195.5
A21: 2.2 | B21: TN | C21: 10.85 | E21: Disposicion final de residuos en relleno sanitario autorizado | K21: 400 | L21: =+K21*C21 -> 4340
A22: 2.3 | B22: GAL | C22: 5600 | E22: Reaprovechamiento o comercialización de aceite usado | K22: 1.63 | L22: =-+K22*C22 -> -9128
A23: 3 | E23: GESTION DE DTR
A24: 3.1 | B24: MES | C24: 12 | E24: Gestión de Depósito Temporal de Residuos | K24: =DETALLADO!K24 -> 16834.884 | L24: =+K24*C24 -> 202018.61
A25: IMPORTE SIN IGV | L25: =SUM(L15:L24) -> 252775.58
E26: IGV | K26: 0.18 | L26: =+K26*L25 -> 45499.605
A27: TOTAL | L27: =+L26+L25 -> 298275.19
E29: CONDICIONES GENERALES:
E30: DESCRIPCION | H30: COTIZADO
E31: FORMA DE PAGO | H31: 30 días
E32: MONEDA | H32: Soles
E33: ANTICIPO | H33: No aplica
E34: PLAZO DE EJECUCION TRABAJOS EN OBRA (DIAS) | H34: 15 días
E35: FIANZA DE FIEL CUMPLIMIENTO (10%) | H35: Si aplica
E36: RETENCION POR GARANTIA (5%) | H36: Si aplica

Sheet DETALLADO
E1: PLANTILLA DE PRESUPUESTO
K3: RV.00
K4: Fecha de versión
A5: Obra: Defensas Ribereñas Río Lacramarca
A6: Dirección: Nuevo Chimbote - Ancash
A7: DATOS DEL OFERTANTE:
A8: Razon Social: | D8: GESTION DE SERVICIOS AMBIENTALES SAC
A9: Domicilio: | D9: Av. paseo de la republica nro. 3617Iint. 601urb. Malibu Lima - San Isidro
A10: Teléfono/Fax: | D10: 995407137
A11: Contacto: | D11: Mariela Chavez Urrunaga
K12: FECHA LIMITE ENTREGA OFERTA: | L12: 44922
A13: ITEM | B13: U/M | C13: CANTIDAD | E13: DESCRIPCION | K13: Prec. Unit. | L13: Prec. Total
A14: SERVICIO DE GESTIÓN DE RESIDUOS
A15: 1 | E15: RESIDUOS NO PELIGROSOS
A16: 1.1 | B16: VIAJE | C16: 11.62308 | E16: Viaje de Transporte para eliminación de residuos sólidos no peligrosos o chatarra | K16: 2080 | L16: =+K16*C16 -> 24176.006
A17: 1.2 | B17: TN | C17: 104.2308 | E17: Disposicion final de residuos en relleno sanitario autorizado | K17: 93 | L17: =+K17*C17 -> 9693.4644
A18: 1.3 | B18: TN | C18: 12 | E18: Reaprovechamiento o comercialización de los residuos reaprovechables - Chatarra | K18: 210 | L18: =-+K18*C18 -> -2520
A19: 2 | E19: RESIDUOS PELIGROSOS
A20: 2.1 | B20: VIAJE | C20: 10.85 | E20: Viaje de 10 Toneladas Transporte para eliminación de residuos peligrosos o aceite | K20: =2150+80 -> 2230 | L20: =+K20*C20 -> 24195.5
A21: 2.2 | B21: TN | C21: 10.85 | E21: Disposicion final de residuos en relleno de seguridad autorizado | K21: 400 | L21: =+K21*C21 -> 4340
A22: 2.3 | B22: GAL | C22: 5600 | E22: Reaprovechamiento o comercialización de los residuos reaprovechables | K22: 1.63 | L22: =-+K22*C22 -> -9128
A23: 3 | E23: GESTION DE DTR
A24: 3.1 | B24: MES | C24: 12 | E24: Gestión de Depósito Temporal de Residuos | K24: ='ESTRUCTURA FINAL'!D13 -> 16834.884 | L24: =+K24*C24 -> 202018.61
A25: COSTO DIRECTO | L25: =SUM(L15:L24) -> 252775.58
B26: GLB | C26: 12 | D26: GASTOS GENERALES | K26: ='ESTRUCTURA FINAL'!D14 -> 841.74422 | L26: =IF(K26="","",+K26*C26) -> 10100.931
B27: GLB | C27: 12 | D27: UTILIDADES | K27: ='ESTRUCTURA FINAL'!D16 -> 3005.0269 | L27: =IF(K27="","",+K27*C27) -> 36060.323
A28: SUB TOTAL | L28: =SUM(L25:L27) -> 298936.84
A29: IGV | K29: 0.18 | L29: =IF(L28="","",+L28*K29) -> 53808.631
A30: IMPORTE TOTAL | L30: =IF(L29="","",+L29+L28) -> 352745.47
E32: CONDICIONES GENERALES:
E33: DESCRIPCION | H33: OFERTADO
E34: FORMA DE PAGO | H34: 30 días
E35: MONEDA | H35: Soles
E36: ANTICIPO | H36: No aplica
E37: PLAZO DE EJECUCION TRABAJOS EN OBRA (DIAS) | H37: 15 días
E38: FIANZA DE FIEL CUMPLIMIENTO (10%) | H38: Si aplica
E39: RETENCION POR GARANTIA (5%) | H39: Si aplica
A41: Notas:
A42: Para el traslado de aceite, estos tienen que estar debidamente almacenados en cilindros cerrados con tapa y en buen estado.
A43: La cantidad de aceite a comercializar, estará afecto a descuento de acuerdo al porcentaje de aguas e impurezas, el cual se evidenciará a través del ensayo que emita la planta de valorización.

Sheet ESTRUCTURA FINAL
B1: ESTRUCTURA DE COSTO
E2: TIPO DE CAMBIO | F2: 3.95
D3: SOLES | F3: DÓLARES
B4: DESCRIPCION | D4: COSTO | E4: % Total Costo | F4: COSTO
B5: I.- VEHICULOS | D5: =+'I.-Vehiculo'!E162 -> 0 | E5: =+D5/$D$13 -> 0 | F5: =+D5/$F$2 -> 0
B6: II.- PLANILLA | D6: =+'II.-Planilla'!D37+'II.-Planilla'!AB29 -> 9480.3366 | E6: =+D6/$D$13 -> 0.56313642 | F6: =+D6/$F$2 -> 2400.0852
B7: III- EQUIPOS Y HERRAMIENTAS | D7: =+'III.-Equipos y Herramienta'!F79 -> 5012.4167 | E7: =+D7/$D$13 -> 0.29773989 | F7: =+D7/$F$2 -> 1268.9662
B8: IV.- UNIFORM. e IMPL. DE SEGUR. (EPP-S) | D8: =+'IV.-Uniformes'!B48 -> 1066.1312 | E8: =+D8/$D$13 -> 0.063328689 | F8: =+D8/$F$2 -> 269.90663
B9: V.- SEGUROS / VARIOS | D9: =+'V.-Seguros, Otros'!E19 -> 361 | E9: =+D9/$D$13 -> 0.021443569 | F9: =+D9/$F$2 -> 91.392405
B10: VI.- ALIMENTACION Y ALOJAMIENTO | D10: =+'VI.-Alojamiento y alimentación'!F20 -> 915 | E10: =+D10/$D$13 -> 0.054351427 | F10: =+D10/$F$2 -> 231.64557
B11: VII.- INSUMOS | D11: =+'[26]VII.-Insumos'!G37 -> 0 | E11: =+D11/$D$13 -> 0 | F11: =+D11/$F$2 -> 0
B12: VIII.- VIAJES EXTERNOS | D12: 0 | E12: =+D12/$D$13 -> 0 | F12: =+D12/$F$2 -> 0
B13: TOTAL COSTOS | D13: =SUM(D5:D12) -> 16834.884 | E13: =+D13/$D$13 -> 1 | F13: =+D13/$F$2 -> 4261.9961
B14: 0.05 | D14: =+D13*B14 -> 841.74422 | F14: =+D14/$F$2 -> 213.0998
B15: TOTAL COSTOS Y GASTOS | D15: =SUM(D13:D14) -> 17676.629 | F15: =+D15/$F$2 -> 4475.0959
B16: 0.17 | D16: =+D15*B16 -> 3005.0269 | F16: =+D16/$F$2 -> 760.7663
B17: VALOR DE VENTA MENSUAL SIN IGV SOLES | D17: =+D16+D15 -> 20681.656 | F17: =+D17/$F$2 -> 5235.8622
C18: VALOR TOTAL MENSUAL | D18: =+D17 -> 20681.656 | F18: =+D18/$F$2 -> 5235.8622
B19: VALOR VENTA FORMULARIO DEL CLIENTE | F19: =+D19/$F$2 -> 0
B20: MESES | C20: TRANSPORTE EXTERNO DE RESPEL (SE COBRA POR SEPARADO) | F20: =+D20/$F$2 -> 0
C21: VALOR DE VENTA MENSUAL | D21: =+D18-D20 -> 20681.656 | F21: =+D21/$F$2 -> 5235.8622
B22: 12 | C22: VALOR CONTRATO SIN D.F. | D22: =+D17*B22 -> 248179.87 | F22: =+D22/$F$2 -> 62830.346
C24: VALOR CONTRATO TOTAL | D24: =+D19*B22 -> 0

Sheet I.-Vehiculo
A1: ESTRUCTURA DE COSTO TARIFARIO
A4: ANALISIS INICIAL DE DISTANCIAS | C4: DIST.(KM) | D4: UNIDADES
A5: 0 | C5: 0 | D5: 0
A6: 0 | C6: 0 | D6: 0
A7: 0 | C7: 0 | D7: 0
A8: 0 | C8: 0 | D8: 0
A9: 0 | C9: 0 | D9: 0
A10: 0 | C10: 0 | D10: 0
A11: 0 | C11: 0 | D11: 0
A12: 0 | C12: 0 | D12: 0
A13: 0 | C13: 0 | D13: 0
A14: 0 | C14: 0 | D14: 0
A15: 0 | C15: 0 | D15: 0
A16: 0 | C16: 0 | D16: 0
... A23: 0 | C23: 0 | D23: 0
A24: TOTAL DISTANCIA | C24: 0 | D24: 0
A28: MANTENIMIENTO VEHICULAR: | D28: RECORRIDO MENSUAL KM | E28: COSTO MENSUAL MMTO S./
B29: Cant. de unidades | C29: Unidad
A30: 0 | B30: 0 | C30: mes | D30: 0 | E30: 0
A31: 0 | B31: 0 | C31: mes | D31: 0 | E31: 0
A32: 0 | B32: 0 | C32: mes | D32: 0 | E32: 0
A33: 0 | B33: 0 | C33: mes | D33: 0 | E33: 0
A34: 0 | B34: 0 | C34: mes | D34: 0 | E34: 0
A35: 0 | B35: 0 | C35: mes | D35: 0 | E35: 0
A36: 0 | B36: 0 | C36: mes | D36: 0 | E36: 0
A37: 0 | B37: 0 | C37: mes | D37: 0 | E37: 0
A38: 0 | B38: 0 | C38: mes | D38: 0 | E38: 0
A39: 0 | B39: 0 | C39: mes | D39: 0 | E39: 0
A40: 0 | B40: 0 | C40: mes | D40: 0 | E40: 0
A41: 0 | B41: 0 | C41: mes | D41: 0 | E41: 0
... A48: 0 | B48: 0 | C48: mes | D48: 0 | E48: 0
A49: TOTAL MENSUAL - MANTENIMIENTO VEHICULAR | E49: 0
A51: CAMBIO DE LLANTAS | B51: Cant. de unidades | C51: Nro. Llantas | D51: Rendimiento KM | E51: Total Recorrido | F51: Precio unit.S./ | G51: Costo Mensual S./
A52: 0 | B52: 0 | C52: 0 | D52: 0 | E52: 0 | F52: 0 | G52: 0
A53: 0 | B53: 0 | C53: 0 | D53: 0 | E53: 0 | F53: 0 | G53: 0
A54: 0 | B54: 0 | C54: 0 | D54: 0 | E54: 0 | F54: 0 | G54: 0
A55: 0 | B55: 0 | C55: 0 | D55: 0 | E55: 0 | F55: 0 | G55: 0
A56: 0 | B56: 0 | C56: 0 | D56: 0 | E56: 0 | F56: 0 | G56: 0
A57: 0 | B57: 0 | C57: 0 | D57: 0 | E57: 0 | F57: 0 | G57: 0
A58: 0 | B58: 0 | C58: 0 | D58: 0 | E58: 0 | F58: 0 | G58: 0
...

Sheet II.-Planilla
A2: ESTRUCTURA DE COSTO TARIFARIO
D6: 1 | E6: 2 | F6: 3 | G6: 4 | H6: 5 | I6: 6 | J6: 7 | K6: 8 | L6: 9 | M6: 10 | N6: 11 | O6: 12 | P6: 13 | Q6: 14 | R6: 15 | S6: 16 | T6: 17 | U6: 18 | V6: 19 | W6: 20 | X6: 21 | Y6: 22 | Z6: 23 | AA6: 24
A7: PLANILLA PERSONAL | B7: OBSERVACIONES | C7: % | D7: OPERARIOS | E7: 0 | F7: 0 | G7: 0 | H7: 0 | I7: 0 | J7: 0 | K7: 0 | L7: 0 | M7: 0 | N7: 0 | O7: 0 | P7: 0 | Q7: 0 | R7: 0 | S7: 0 | T7: 0 | U7: 0 | V7: 0 | W7: 0 | X7: 0 | Y7: 0 | Z7: 0 | AA7: 0 | AB7: Total
A8: Remuneraciones trabajador | D8: =SUM(D9:D11) -> 2052.5 | E8: =SUM(E9:E11) -> 102.5 | F8: =SUM(F9:F11) -> 102.5 | G8: =SUM(G9:G11) -> 102.5 | H8: =SUM(H9:H11) -> 102.5 | I8: =SUM(I9:I11) -> 102.5 | J8: =SUM(J9:J11) -> 102.5 | K8: =SUM(K9:K11) -> 102.5 | ... AA8: =SUM(AA9:AA11) -> 102.5 | AB8: =SUM(D8:AA8) -> 4410
A9: Remuneración Básica | D9: 1950 | E9: 0 | F9: 0 | G9: 0 | H9: 0 | I9: 0 | J9: 0 | K9: 0 | L9: 0 | M9: 0 | N9: 0 | O9: 0 | P9: 0 | Q9: 0 | R9: 0 | S9: 0 | T9: 0 | U9: 0 | V9: 0 | W9: 0 | X9: 0 | Y9: 0 | Z9: 0 | AA9: 0 | AB9: =SUM(D9:AA9) -> 1950
A10: Asignación Familiar | B10: si tiene hijos recibe 10% del sueldo minimo vital al mes. | D10: =1025*10% -> 102.5 | E10: =+D10 -> 102.5 | F10: =+E10 -> 102.5 | G10: =+F10 -> 102.5 | H10: =+G10 -> 102.5 | I10: =+H10 -> 102.5 | J10: =+I10 -> 102.5 | K10: =+J10 -> 102.5 | L10: =+K10 -> 102.5 | ... AA10: =+Z10 -> 102.5 | AB10: =SUM(D10:AA10) -> 2460
A11: Otros pagos | B11: Horas Extras por Feriado | AB11: =SUM(D11:AA11) -> 0
A12: Provisiones | D12: =SUM(D13:D16) -> 743.15233 | E12: =SUM(E13:E16) -> 37.112357 | F12: =SUM(F13:F16) -> 37.112357 | G12: =SUM(G13:G16) -> 37.112357 | H12: =SUM(H13:H16) -> 37.112357 | I12: =SUM(I13:I16) -> 37.112357 | J12: =SUM(J13:J16) -> 37.112357 | K12: =SUM(K13:K16) -> 37.112357 | ... AA12: =SUM(AA13:AA16) -> 37.112357 | AB12: =SUM(D12:AA12) -> 1596.7365
A13: Vacaciones | B13: 1 sueldo al año o 8,33% de la remuneracion al mes | C13: 0.0833 | D13: =$D$8*C13 -> 170.97325 | E13: =E$8*$C13 -> 8.53825 | F13: =F$8*$C13 -> 8.53825 | G13: =G$8*$C13 -> 8.53825 | H13: =H$8*$C13 -> 8.53825 | I13: =I$8*$C13 -> 8.53825 | J13: =J$8*$C13 -> 8.53825 | K13: =K$8*$C13 -> 8.53825 | L13: =L$8*$C13 -> 8.53825 | ... AA13: =AA$8*$C13 -> 8.53825
A14: Gratificación | B14: 2 sueldos al año (julio y diciembre) o 8,33% de la remuneracion al mes | C14: 0.1666 | D14: =D$8*$C14 -> 341.9465 | E14: =E$8*$C14 -> 17.0765 | F14: =F$8*$C14 -> 17.0765 | G14: =G$8*$C14 -> 17.0765 | H14: =H$8*$C14 -> 17.0765 | I14: =I$8*$C14 -> 17.0765 | J14: =J$8*$C14 -> 17.0765 | K14: =K$8*$C14 -> 17.0765 | ... AA14: =AA$8*$C14 -> 17.0765
A15: Bonificación extraordinaria | B15: 9% del monto de gratificación. | C15: 0.09 | D15: =+D14*$C$15 -> 30.775185 | E15: =+E14*$C$15 -> 1.536885 | F15: =+F14*$C$15 -> 1.536885 | G15: =+G14*$C$15 -> 1.536885 | H15: =+H14*$C$15 -> 1.536885 | I15: =+I14*$C$15 -> 1.536885 | J15: =+J14*$C$15 -> 1.536885 | K15: =+K14*$C$15 -> 1.536885 | ... AA15: =+AA14*$C$15 -> 1.536885
A16: CTS | B16: 1 sueldo al año o 8,33% de la remuneracion al mes | C16: 0.0833 | D16: =($D$8+D14)*C16 -> 199.45739 | E16: =(E$8+E14)*$C16 -> 9.9607224 | F16: =(F$8+F14)*$C16 -> 9.9607224 | G16: =(G$8+G14)*$C16 -> 9.9607224 | H16: =(H$8+H14)*$C16 -> 9.9607224 | I16: =(I$8+I14)*$C16 -> 9.9607224 | J16: =(J$8+J14)*$C16 -> 9.9607224 | K16: =(K$8+K14)*$C16 -> 9.9607224 | L16: =(L$8+L14)*$C16 -> 9.9607224 | ... AA16: =(AA$8+AA14)*$C16 -> 9.9607224
A18: Contribuciones Sociales | D18: =SUM(D19:D22) -> 220.19275 | E18: =SUM(E19:E22) -> 10.56775 | F18: =SUM(F19:F22) -> 10.56775 | G18: =SUM(G19:G22) -> 10.56775 | H18: =SUM(H19:H22) -> 10.56775 | I18: =SUM(I19:I22) -> 10.56775 | J18: =SUM(J19:J22) -> 10.56775 | K18: =SUM(K19:K22) -> 10.56775 | ... AA18: =SUM(AA19:AA22) -> 10.56775 | AB18: =SUM(D18:AA18) -> 463.251
A19: ESSALUD | B19: mensual 9% | C19: 0.09 | D19: =$D$8*C19 -> 184.725 | E19: =E$8*$C19 -> 9.225 | F19: =F$8*$C19 -> 9.225 | G19: =G$8*$C19 -> 9.225 | H19: =H$8*$C19 -> 9.225 | I19: =I$8*$C19 -> 9.225 | J19: =J$8*$C19 -> 9.225 | K19: =K$8*$C19 -> 9.225 | L19: =L$8*$C19 -> 9.225 | ... AA19: =AA$8*$C19 -> 9.225
A20: Seguro Complem. Riesgo - pensiones | B20: minimo 300 soles y es 0.55% del sueldo anual | C20: 0.0055 | D20: =$D$8*C20 -> 11.28875 | E20: =E$8*$C20 -> 0.56375 | F20: =F$8*$C20 -> 0.56375 | G20: =G$8*$C20 -> 0.56375 | H20: =H$8*$C20 -> 0.56375 | I20: =I$8*$C20 -> 0.56375 | J20: =J$8*$C20 -> 0.56375 | K20: =K$8*$C20 -> 0.56375 | L20: =L$8*$C20 -> 0.56375 | ... AA20: =AA$8*$C20 -> 0.56375
A21: Seguro Complem. Riesgo - Salud | B21: minimo 300 soles y es 0,76% del sueldo anual | C21: 0.0076 | D21: =$D$8*C21 -> 15.599 | E21: =E$8*$C21 -> 0.779 | F21: =F$8*$C21 -> 0.779 | G21: =G$8*$C21 -> 0.779 | H21: =H$8*$C21 -> 0.779 | I21: =I$8*$C21 -> 0.779 | J21: =J$8*$C21 -> 0.779 | K21: =K$8*$C21 -> 0.779 | L21: =L$8*$C21 -> 0.779 | ... AA21: =AA$8*$C21 -> 0.779
A22: seguro vida ley | C22: 0.0044 | D22: =+D9*$C$22 -> 8.58 | E22: =+E9*$C$22 -> 0 | F22: =+F9*$C$22 -> 0 | G22: =+G9*$C$22 -> 0 | H22: =+H9*$C$22 -> 0 | I22: =+I9*$C$22 -> 0 | J22: =+J9*$C$22 -> 0 | K22: =+K9*$C$22 -> 0 | ... AA22: =+AA9*$C$22 -> 0
A24: Sub-Total Planilla de Personal | D24: =+D18+D12+D8 -> 3015.8451 | E24: =+E18+E12+E8 -> 150.18011 | F24: =+F18+F12+F8 -> 150.18011 | G24: =+G18+G12+G8 -> 150.18011 | H24: =+H18+H12+H8 -> 150.18011 | I24: =+I18+I12+I8 -> 150.18011 | J24: =+J18+J12+J8 -> 150.18011 | K24: =+K18+K12+K8 -> 150.18011 | ... AB24: =+AB18+AB12+AB8 -> 6469.9875
A25: Cantidad | D25: 3 | E25: 0 | F25: 0 | G25: 0 | H25: 0 | I25: 0 | J25: 0 | K25: 0 | L25: 0 | M25: 0 | N25: 0 | O25: 0 | P25: 0 | Q25: 0 | R25: 0 | S25: 0 | T25: 0 | U25: 0 | V25: 0 | W25: 0 | X25: 0 | Y25: 0 | Z25: 0 | AA25: 0 | AB25: =SUM(D25:AA25) -> 3
A26: TOTAL | D26: =+D24*D25 -> 9047.5352 | E26: =+E24*E25 -> 0 | F26: =+F24*F25 -> 0 | G26: =+G24*G25 -> 0 | H26: =+H24*H25 -> 0 | I26: =+I24*I25 -> 0 | J26: =+J24*J25 -> 0 | K26: =+K24*K25 -> 0 | ... AA26: =+AA24*AA25 -> 0 | AB26: =SUM(D26:AA26) -> 9047.5352
A27: PORCENTAJE DE PARTICIPACION | D27: 1 | E27: 1 | F27: 1 | G27: 1 | H27: 1 | I27: 1 | J27: 1 | K27: 1 | L27: 1 | M27: 1 | N27: 1 | O27: 1 | P27: 1 | Q27: 1 | R27: 1 | S27: 1 | T27: 1 | U27: 1 | V27: 1 | W27: 1 | X27: 1 | Y27: 1 | Z27: 1 | AA27: 1
D28: =(D9+D10)/30/12*11*(8/12) -> 41.810185 | E28: =(E9+E10)/30/12*11*(8/12) -> 2.087963 | F28: =(F9+F10)/30/12*11*(8/12) -> 2.087963 | G28: =(G9+G10)/30/12*11*(8/12) -> 2.087963 | H28: =(H9+H10)/30/12*11*(8/12) -> 2.087963 | I28: =(I9+I10)/30/12*11*(8/12) -> 2.087963 | J28: =(J9+J10)/30/12*11*(8/12) -> 2.087963 | K28: =(K9+K10)/30/12*11*(8/12) -> 2.087963 | ... AA28: =(AA9+AA10)/30/12*11*(8/12) -> 2.087963 | AB28: TOTAL MES
D29: =(D26*D27)+(D28*D25*70/100) -> 9135.3366 | E29: =(E26*E27)+(E28*E25*70/100) -> 0 | F29: =(F26*F27)+(F28*F25*70/100) -> 0 | G29: =(G26*G27)+(G28*G25*70/100) -> 0 | H29: =(H26*H27)+(H28*H25*70/100) -> 0 | I29: =(I26*I27)+(I28*I25*70/100) -> 0 | J29: =(J26*J27)+(J28*J25*70/100) -> 0 | K29: =(K26*K27)+(K28*K25*70/100) -> 0 | ... AA29: =(AA26*AA27)+(AA28*AA25*70/100) -> 0 | AB29: =SUM(D29:AA29) -> 9135.3366
A32: OTROS GASTOS DEL PERSONAL | B32: Precio | C32: Cantidad | D32: Total
A33: Inducción | B33: 31 | C33: =+AB25 -> 3 | D33: =+C33*B33 -> 93
A34: Capacitación | B34: 18 | C34: =+C33 -> 3 | D34: =+C34*B34 -> 54
A35: Examnes médicos | B35: 37 | C35: =+C34 -> 3 | D35: =+C35*B35 -> 111
A36: Beneficios anuales | B36: 29 | C36: =+C35 -> 3 | D36: =+C36*B36 -> 87 | E36: *Canasta, pavo, fiesta de fin de año.
A37: TOTAL | D37: =SUM(D33:D36) -> 345

Sheet III.-Equipos y Herramienta
B4: III.- EQUIPOS PARA LA PRESTACIÓN DEL SERVICIO
B5: EQUIPOS PARA LA PRESTACIÓN DEL SERVICIO | G5: Vida util en meses | H5: IMPORTE
H6: MENSUAL S./
C7: UND. | D7: P.U. S./ | E7: CANTIDAD | F7: SUB.TOTAL
B8: CONTENEDORES 13m3 | C8: UND | D8: 17950 | E8: 5 | F8: =+E8*D8 -> 89750 | G8: 60 | H8: =+IF(ISERROR(F8/G8),0,(F8/G8)) -> 1495.8333
B9: BAÑO PORTATIL - NUEVO | C9: UND | D9: 3910 | E9: 1 | F9: =+E9*D9 -> 3910 | G9: 36 | H9: =+IF(ISERROR(F9/G9),0,(F9/G9)) -> 108.61111
B10: 0 | C10: UND | D10: 0 | E10: 0 | F10: =+E10*D10 -> 0 | G10: 0 | H10: =+IF(ISERROR(F10/G10),0,(F10/G10)) -> 0
B11: 0 | C11: UND | D11: 0 | E11: 0 | F11: =+E11*D11 -> 0 | G11: 0 | H11: =+IF(ISERROR(F11/G11),0,(F11/G11)) -> 0
B12: 0 | C12: UND | D12: 0 | E12: 0 | F12: =+E12*D12 -> 0 | G12: 0 | H12: =+IF(ISERROR(F12/G12),0,(F12/G12)) -> 0
B13: 0 | C13: UND | D13: 0 | E13: 0 | F13: =+E13*D13 -> 0 | G13: 0 | H13: =+IF(ISERROR(F13/G13),0,(F13/G13)) -> 0
B14: 0 | C14: UND | D14: 0 | E14: 0 | F14: =+E14*D14 -> 0 | G14: 0 | H14: =+IF(ISERROR(F14/G14),0,(F14/G14)) -> 0
B15: 0 | C15: UND | D15: 0 | E15: 0 | F15: =+E15*D15 -> 0 | G15: 0 | H15: =+IF(ISERROR(F15/G15),0,(F15/G15)) -> 0
B16: 0 | C16: UND | D16: 0 | E16: 0 | F16: =+E16*D16 -> 0 | G16: 0 | H16: =+IF(ISERROR(F16/G16),0,(F16/G16)) -> 0
B17: 0 | C17: UND | D17: 0 | E17: 0 | F17: =+E17*D17 -> 0 | G17: 0 | H17: =+IF(ISERROR(F17/G17),0,(F17/G17)) -> 0
B18: SUB TOTAL COSTOS | F18: =SUM(F8:F17) -> 93660 | H18: =SUM(H8:H17) -> 1604.4444
B22: III.- OTROS EQUIPOS PARA LA PRESTACIÓN DEL SERVICIO
B23: B COSTOS DE DESGASTE (renta mensual) | G23: Vida util en meses | H23: IMPORTE
H24: MENSUAL S./
C25: UNIDAD | D25: P.U. S/ | E25: CANTIDAD | F25: SUB.TOTAL
B26: CELULARES | C26: UND | D26: 780 | E26: 1 | F26: =+D26*E26 -> 780 | G26: 36 | H26: =IF(ISERROR(F26/G26),0,(F26/G26)) -> 21.666667
B27: CAJA DE HERRAMIENTAS MANUALES | C27: UND | D27: 2340 | E27: 2 | F27: =+D27*E27 -> 4680 | G27: 12 | H27: =IF(ISERROR(F27/G27),0,(F27/G27)) -> 390
B28: RADIOS NORMALES | C28: UND | D28: 2390 | E28: 1 | F28: =+D28*E28 -> 2390 | G28: 36 | H28: =IF(ISERROR(F28/G28),0,(F28/G28)) -> 66.388889
B29: BALANZA DIGITAL (1 TN) | C29: UND | D29: 5850 | E29: 1 | F29: =+D29*E29 -> 5850 | G29: 12 | H29: =IF(ISERROR(F29/G29),0,(F29/G29)) -> 487.5
B30: LAPTOPS I5 | C30: UND | D30: 3510 | E30: 1 | F30: =+D30*E30 -> 3510 | G30: 36 | H30: =IF(ISERROR(F30/G30),0,(F30/G30)) -> 97.5
B31: IMPRESORA DE TINTA | C31: UND | D31: 1170 | E31: 1 | F31: =+D31*E31 -> 1170 | G31: 36 | H31: =IF(ISERROR(F31/G31),0,(F31/G31)) -> 32.5
B32: ESCRITORIOS | C32: UND | D32: 780 | E32: 1 | F32: =+D32*E32 -> 780 | G32: 36 | H32: =IF(ISERROR(F32/G32),0,(F32/G32)) -> 21.666667
B33: SILLAS | C33: UND | D33: 390 | E33: 3 | F33: =+D33*E33 -> 1170 | G33: 36 | H33: =IF(ISERROR(F33/G33),0,(F33/G33)) -> 32.5
B34: ARMARIO PARA ARCHIVO | C34: UND | D34: 585 | E34: 1 | F34: =+D34*E34 -> 585 | G34: 36 | H34: =IF(ISERROR(F34/G34),0,(F34/G34)) -> 16.25
B35: 0 | C35: UND | D35: 0 | E35: 0 | F35: =+D35*E35 -> 0 | G35: 0 | H35: =IF(ISERROR(F35/G35),0,(F35/G35)) -> 0
B36: 0 | C36: UND | D36: 0 | E36: 0 | F36: =+D36*E36 -> 0 | G36: 0 | H36: =IF(ISERROR(F36/G36),0,(F36/G36)) -> 0
B37: 0 | C37: UND | D37: 0 | E37: 0 | F37: =+D37*E37 -> 0 | G37: 0 | H37: =IF(ISERROR(F37/G37),0,(F37/G37)) -> 0
B38: 0 | C38: UND | D38: 0 | E38: 0 | F38: =+D38*E38 -> 0 | G38: 0 | H38: =IF(ISERROR(F38/G38),0,(F38/G38)) -> 0
B39: 0 | C39: UND | D39: 0 | E39: 0 | F39: =+D39*E39 -> 0 | G39: 0 | H39: =IF(ISERROR(F39/G39),0,(F39/G39)) -> 0
B40: 0 | C40: UND | D40: 0 | E40: 0 | F40: =+D40*E40 -> 0 | G40: 0 | H40: =IF(ISERROR(F40/G40),0,(F40/G40)) -> 0
B41: 0 | C41: UND | D41: 0 | E41: 0 | F41: =+D41*E41 -> 0 | G41: 0 | H41: =IF(ISERROR(F41/G41),0,(F41/G41)) -> 0
B42: 0 | C42: UND | D42: 0 | E42: 0 | F42: =+D42*E42 -> 0 | G42: 0 | H42: =IF(ISERROR(F42/G42),0,(F42/G42)) -> 0
B43: 0 | C43: UND | D43: 0 | E43: 0 | F43: =+D43*E43 -> 0 | G43: 0 | H43: =IF(ISERROR(F43/G43),0,(F43/G43)) -> 0
B44: 0 | C44: UND | D44: 0 | E44: 0 | F44: =+D44*E44 -> 0 | G44: 0 | H44: =IF(ISERROR(F44/G44),0,(F44/G44)) -> 0
B45: 0 | C45: UND | D45: 0 | E45: 0 | F45: =+D45*E45 -> 0 | G45: 0 | H45: =IF(ISERROR(F45/G45),0,(F45/G45)) -> 0
B46: 0 | C46: UND | D46: 0 | E46: 0 | F46: =+D46*E46 -> 0 | G46: 0 | H46: =IF(ISERROR(F46/G46),0,(F46/G46)) -> 0
...

Sheet IV.-Uniformes
A2: ESTRUCTURA DE COSTO TARIFARIO
A4: IV.- UNIFORMES E IMPLEMENTOS DE SEGURIDAD
A6: DATOS DE UNIFORMES E IMPL. SEGURIDAD
C7: 956.855 | D7: =+$B$48/$N$10*D10 -> 0 | E7: =+$B$48/$N$10*E10 -> 0 | F7: =+$B$48/$N$10*F10 -> 0 | G7: =+$B$48/$N$10*G10 -> 0 | H7: =+$B$48/$N$10*H10 -> 0 | I7: =+$B$48/$N$10*I10 -> 0 | J7: =+$B$48/$N$10*J10 -> 0 | K7: =+$B$48/$N$10*K10 -> 0 | ... M7: =+$B$48/$N$10*M10 -> 0
B8: UNITARIO SOLES | C8: OPERARIOS | D8: =+'[26]II.-Planilla'!E7 -> 0 | E8: =+'[26]II.-Planilla'!F7 -> 0 | F8: =+'[26]II.-Planilla'!G7 -> 0 | G8: =+'[26]II.-Planilla'!H7 -> 0 | H8: =+'[26]II.-Planilla'!I7 -> 0 | I8: =+'[26]II.-Planilla'!J7 -> 0 | J8: =+'[26]II.-Planilla'!K7 -> 0 | K8: =+'[26]II.-Planilla'!L7 -> 0 | L8: =+'[26]II.-Planilla'!Z7 -> 0 | M8: =+'[26]II.-Planilla'!AA7 -> 0 | N8: Total | O8: ASIGNACIÓN | P8: VIDA UTIL | Q8: Costo Mes
A9: IV.1 UNIFORMES
A10: PANTALON | B10: 39.1 | C10: 3 | D10: =+'[26]II.-Planilla'!E25 -> 0 | E10: =+'[26]II.-Planilla'!F25 -> 0 | F10: =+'[26]II.-Planilla'!G25 -> 0 | G10: =+'[26]II.-Planilla'!H25 -> 0 | H10: =+'[26]II.-Planilla'!I25 -> 0 | I10: =+'[26]II.-Planilla'!J25 -> 0 | J10: =+'[26]II.-Planilla'!K25 -> 0 | K10: =+'[26]II.-Planilla'!L25 -> 0 | L10: =+'[26]II.-Planilla'!Z25 -> 0 | M10: =+'[26]II.-Planilla'!AA25 -> 0 | N10: =+SUM(C10:M10) -> 3 | O10: 3 | P10: 6 | Q10: =+(N10*B10*O10)/P10 -> 58.65 | S10: =+P10*Q10 -> 351.9
A11: POLO | B11: 14.5 | C11: 3 | D11: =+D10 -> 0 | E11: =+E10 -> 0 | F11: =+F10 -> 0 | G11: =+G10 -> 0 | H11: =+H10 -> 0 | I11: =+I10 -> 0 | J11: =+J10 -> 0 | K11: =+K10 -> 0 | ... M11: =+M10 -> 0 | N11: =+SUM(C11:M11) -> 3 | O11: 3 | P11: 6 | Q11: =+(N11*B11*O11)/P11 -> 21.75 | S11: =+P11*Q11 -> 130.5
A12: CASACA POLAR | B12: 250 | C12: 3 | D12: =+D11 -> 0 | E12: =+E11 -> 0 | F12: =+F11 -> 0 | G12: =+G11 -> 0 | H12: =+H11 -> 0 | I12: =+I11 -> 0 | J12: =+J11 -> 0 | K12: =+K11 -> 0 | ... M12: =+M11 -> 0 | N12: =+SUM(C12:M12) -> 3 | O12: 3 | P12: 12 | Q12: =+(N12*B12*O12)/P12 -> 187.5 | S12: =+P12*Q12 -> 2250
A13: CHOMPA | B13: 36.9 | C13: 3 | D13: =+D12 -> 0 | E13: =+E12 -> 0 | F13: =+F12 -> 0 | G13: =+G12 -> 0 | H13: =+H12 -> 0 | I13: =+I12 -> 0 | J13: =+J12 -> 0 | K13: =+K12 -> 0 | ... M13: =+M12 -> 0 | N13: =+SUM(C13:M13) -> 3 | O13: 2 | P13: 6 | Q13: =+(N13*B13*O13)/P13 -> 36.9 | S13: =+P13*Q13 -> 221.4
A14: BLOQUEADOR | B14: 12.9 | C14: 3 | D14: =+D13 -> 0 | E14: =+E13 -> 0 | F14: =+F13 -> 0 | G14: =+G13 -> 0 | H14: =+H13 -> 0 | I14: =+I13 -> 0 | J14: =+J13 -> 0 | K14: =+K13 -> 0 | ... M14: =+M13 -> 0 | N14: =+SUM(C14:M14) -> 3 | O14: 1 | P14: 1 | Q14: =+(N14*B14*O14)/P14 -> 38.7 | S14: =+P14*Q14 -> 38.7
A15: ZAPATOS DE SEGURIDAD | B15: 61.3 | C15: 3 | D15: =+D14 -> 0 | E15: =+E14 -> 0 | F15: =+F14 -> 0 | G15: =+G14 -> 0 | H15: =+H14 -> 0 | I15: =+I14 -> 0 | J15: =+J14 -> 0 | K15: =+K14 -> 0 | ... M15: =+M14 -> 0 | N15: =+SUM(C15:M15) -> 3 | O15: 2 | P15: 12 | Q15: =+(N15*B15*O15)/P15 -> 30.65 | S15: =+P15*Q15 -> 367.8
A16: GUANTES JEBE LIMPIEZA DE BAÑOS | B16: 18.5 | C16: 3 | D16: =+D15 -> 0 | E16: =+E15 -> 0 | F16: =+F15 -> 0 | G16: =+G15 -> 0 | H16: =+H15 -> 0 | I16: =+I15 -> 0 | J16: =+J15 -> 0 | K16: =+K15 -> 0 | ... M16: =+M15 -> 0 | N16: =+SUM(C16:M16) -> 3 | O16: 1 | P16: 1 | Q16: =+(N16*B16*O16)/P16 -> 55.5 | S16: =+P16*Q16 -> 55.5
A17: GUANTES DE BADANA | B17: 15.2 | C17: 3 | D17: =+D16 -> 0 | E17: =+E16 -> 0 | F17: =+F16 -> 0 | G17: =+G16 -> 0 | H17: =+H16 -> 0 | I17: =+I16 -> 0 | J17: =+J16 -> 0 | K17: =+K16 -> 0 | ... M17: =+M16 -> 0 | N17: =+SUM(C17:M17) -> 3 | O17: 1 | P17: 3 | Q17: =+(N17*B17*O17)/P17 -> 15.2 | S17: =+P17*Q17 -> 45.6
A18: LENTES CLAROS | B18: 5 | C18: 3 | D18: =+D17 -> 0 | E18: =+E17 -> 0 | F18: =+F17 -> 0 | G18: =+G17 -> 0 | H18: =+H17 -> 0 | I18: =+I17 -> 0 | J18: =+J17 -> 0 | K18: =+K17 -> 0 | ... M18: =+M17 -> 0 | N18: =+SUM(C18:M18) -> 3 | O18: 1 | P18: 1 | Q18: =+(N18*B18*O18)/P18 -> 15 | S18: =+P18*Q18 -> 15
A19: LENTES OSCUROS | B19: 5 | C19: 3 | D19: =+D18 -> 0 | E19: =+E18 -> 0 | F19: =+F18 -> 0 | G19: =+G18 -> 0 | H19: =+H18 -> 0 | I19: =+I18 -> 0 | J19: =+J18 -> 0 | K19: =+K18 -> 0 | ... M19: =+M18 -> 0 | N19: =+SUM(C19:M19) -> 3 | O19: 1 | P19: 1 | Q19: =+(N19*B19*O19)/P19 -> 15 | S19: =+P19*Q19 -> 15
A20: TAPONES DE OIDO | B20: 1.1 | C20: 3 | D20: =+D19 -> 0 | E20: =+E19 -> 0 | F20: =+F19 -> 0 | G20: =+G19 -> 0 | H20: =+H19 -> 0 | I20: =+I19 -> 0 | J20: =+J19 -> 0 | K20: =+K19 -> 0 | ... M20: =+M19 -> 0 | N20: =+SUM(C20:M20) -> 3 | O20: 1 | P20: 1 | Q20: =+(N20*B20*O20)/P20 -> 3.3 | S20: =+P20*Q20 -> 3.3
A21: OREJERAS | B21: 50 | C21: 3 | D21: =+D20 -> 0 | E21: =+E20 -> 0 | F21: =+F20 -> 0 | G21: =+G20 -> 0 | H21: =+H20 -> 0 | I21: =+I20 -> 0 | J21: =+J20 -> 0 | K21: =+K20 -> 0 | ... M21: =+M20 -> 0 | N21: =+SUM(C21:M21) -> 3 | O21: 1 | P21: 12 | Q21: =+(N21*B21*O21)/P21 -> 12.5 | S21: =+P21*Q21 -> 150
A22: CASCO | B22: 39.45 | C22: 3 | D22: =+D21 -> 0 | E22: =+E21 -> 0 | F22: =+F21 -> 0 | G22: =+G21 -> 0 | H22: =+H21 -> 0 | I22: =+I21 -> 0 | J22: =+J21 -> 0 | K22: =+K21 -> 0 | ... M22: =+M21 -> 0 | N22: =+SUM(C22:M22) -> 3 | O22: 1 | P22: 12 | Q22: =+(N22*B22*O22)/P22 -> 9.8625 | S22: =+P22*Q22 -> 118.35
S23: =+P23*Q23 -> 0
A24: TOTAL IMPL. SEGURIDAD | Q24: =SUM(Q10:Q23) -> 500.5125 | S24: =SUM(S10:S23) -> 3763.05
A26: TOTAL EPPS Y UNIFORMES | B26: =+Q24 -> 500.5125
A32: EPPS ESPECIALES | B32: CANTIDAD | C32: PRECIO | D32: DURACIÓN MES | E32: COSTO MENSUAL | F32: COBRO AL CLIENTE
A33: MASCARA MEDIA CARA | B33: 3 | C33: 88.2 | D33: 12 | E33: =+C33/D33 -> 7.35 | F33: =+E33*B33 -> 22.05
A34: MASCARA CARA COMPLETA | B34: 0 | C34: 425 | D34: 12 | E34: =+C34/D34 -> 35.416667 | F34: =+E34*B34 -> 0
A35: FILTROS MEDIA CARA | B35: 3 | C35: 43.2 | D35: 1 | E35: =+C35/D35 -> 43.2 | F35: =+E35*B35 -> 129.6
A36: FILTROS CARA COMPLETA | B36: 0 | C36: 200 | D36: 1 | E36: =+C36/D36 -> 200 | F36: =+E36*B36 -> 0
A37: BOTAS JEBE | B37: 3 | C37: 59.2 | D37: 3 | E37: =+C37/D37 -> 19.733333 | F37: =+E37*B37 -> 59.2
A38: MAMELUCO ANTIFLAMA | B38: 0 | C38: 400 | D38: 6 | E38: =+C38/D38 -> 66.666667 | F38: =+E38*B38 -> 0
A39: ROPA PVC | B39: 0 | C39: 50 | D39: 3 | E39: =+C39/D39 -> 16.666667 | F39: =+E39*B39 -> 0
A40: SCBA | B40: 0 | C40: 6800 | D40: 36 | E40: =+C40/D40 -> 188.88889 | F40: =+E40*B40 -> 0
A41: ARNES Y LÍNEA DE VIDA | B41: 0 | C41: 400 | D41: 12 | E41: =+C41/D41 -> 33.333333 | F41: =+E41*B41 -> 0
A42: TYVEX PREMIUM | B42: 0 | C42: 22 | D42: 1 | E42: =+C42/D42 -> 22 | F42: =+E42*B42 -> 0
A43: TYVEX | B43: 30 | C43: 11.825622 | D43: 1 | E43: =+C43/D43 -> 11.825622 | F43: =+E43*B43 -> 354.76867
A44: TOTAL MES | F44: =SUM(F33:F43) -> 565.61867
A48: TOTAL EPPS | B48: =+B26+F44 -> 1066.1312

Sheet V.-Seguros, Otros
A2: V. SEGUROS / OTROS
A7: A.- DATOS DE INSUMOS | B7: Unidad | C7: COSTO | D7: CANTIDAD | E7: IMPORTE
C8: UNITARIO SOLES | D8: MENSUAL | E8: MENSUAL SOLES
A9: SERVICIO CELULAR | B9: UND | C9: 45 | D9: 1 | E9: =+C9*D9 -> 45
A10: SERVICIO INTERNET CELULAR | B10: UND | C10: 65 | D10: 1 | E10: =+C10*D10 -> 65
A11: CARTA FIANZA | B11: UND | C11: 251 | D11: 1 | E11: =+C11*D11 -> 251
A12: 0 | B12: UND | C12: 0 | D12: 0 | E12: 0
A13: 0 | B13: UND | C13: 0 | D13: 0 | E13: =+C13*D13 -> 0
A14: 0 | B14: UND | C14: 0 | D14: 0 | E14: =+C14*D14 -> 0
A15: 0 | B15: UND | C15: 0 | D15: 0 | E15: =+C15*D15 -> 0
A16: 0 | B16: UND | C16: 0 | D16: 0 | E16: =+C16*D16 -> 0
A17: 0 | B17: UND | C17: 0 | D17: 0 | E17: =+C17*D17 -> 0
A18: 0 | B18: UND | C18: 0 | D18: 0 | E18: =+C18*D18 -> 0
A19: TOTAL VARIOS | E19: =SUM(E9:E18) -> 361

Sheet VI.-Alojamiento y alimentación
A1: ESTRUCTURA DE COSTO TARIFARIO
A7: VI. ALIMENTACION Y ALOJAMIENTO
A9: A.- DATOS | B9: Unidad | C9: COSTO | D9: CANTIDAD | E9: DIAS | F9: IMPORTE
C10: UNITARIO | D10: PERSONAS | F10: MENSUAL
A11: VI.1 ALIMENTACION
A12: Desayuno | B12: EA | C12: 0 | D12: 2 | E12: 30.5 | F12: =E12*D12*C12 -> 0
A13: Almuerzo | B13: EA | C13: 15 | D13: 2 | E13: 30.5 | F13: =E13*D13*C13 -> 915
A14: Cena | B14: EA | C14: 0 | D14: 2 | E14: 30.5 | F14: =E14*D14*C14 -> 0
A15: SUB-TOTAL | F15: =SUM(F12:F14) -> 915
A16: VI.2 ALQUILER
A17: Alojamiento y lavandería | B17: Día | C17: 0 | D17: 2 | E17: 30.5 | F17: =E17*D17*C17 -> 0
A19: SUB-TOTAL | F19: =SUM(F17:F18) -> 0
A20: TOTAL ALIMENTACION Y ALOJAMIENTO | F20: =+F19+F15 -> 915

Sheet VII.-Insumos
A2: ESTRUCTURA DE INSUMOS
A5: VII. INSUMOS | I5: DEBEN DE CONSIDERAR TODOS L0S INSUMOS A UTILIZAR,
I6: AL IGUAL QUE LOS CUADROS ANTERIORES LAS CELDAS EN
A7: A.- DATOS DE INSUMOS | B7: CANTIDAD | C7: UNIDAD | D7: COSTO | E7: CANTIDAD | G7: IMPORTE | I7: VERDE PUEDEN SER MODIFICADAS, LAS AMARILLAS NO.
B8: UNITARIO | D8: UNITARIO | E8: MENSUAL | F8: Unidad | G8: MENSUAL
A10: BAÑO PORTATIL - ATACOCHA + PORVENIR | B10: 0 | E10: 0
A12: DETERGENTE QUIMICO BIODEGRADABLE | B12: 0 | C12: Kg. x Limpieza | D12: 0 | E12: 0 | F12: limpieza | G12: 0 | J12: 200 | K12: ML DE MUESTRA
A13: PAPEL HIGIENICO | B13: 0 | C13: und | D13: 0 | E13: 0 | F13: limpieza | G13: 0
A14: PAPEL TOALLA | B14: 0 | C14: und | D14: 0 | E14: 0 | F14: limpieza | G14: 0
A15: DESINFECTANTE | B15: 0 | C15: LT. | D15: 0 | E15: 0 | F15: limpieza | G15: 0 | I15: 0.8 | J15: 160 | K15: ML. DE AGUA
A16: AMBIENTADOR | B16: 0 | C16: LT. | D16: 0 | E16: 0 | F16: limpieza | G16: 0 | I16: 0.2 | J16: 40 | K16: ML. DE QUIMICO CONCENTRADO
A17: JABON LIQUIDO | B17: 0 | C17: LT. | D17: 0 | E17: 0 | F17: limpieza | G17: 0 | J17: 0.044 | K17: KG. DE QUIMICO
A18: BOLSAS PLASTICAS 40 | B18: 0 | C18: und | D18: 0 | E18: 0 | F18: limpieza | G18: 0 | J18: 2.54 | K18: dolares por limpieza
A19: ALCOHOL EN GEL | B19: 0 | C19: und | D19: 0 | E19: 0 | F19: limpieza | G19: 0
A20: TRAPO INDUSTRIAL | B20: 0 | C20: Kg | D20: 0 | E20: 0 | F20: limpieza | G20: 0 | J20: 6.44 | K20: plancha de 20 unidades (Papel Higienico)
A21: DETERGENTE INDUSTRIAL | B21: 0 | C21: Kg | D21: 0 | E21: 0 | F21: limpieza | G21: 0 | J21: 0.322 | K21: soles por papel
A22: TOTAL INSUMOS - BAÑOS | G22: 0 | I22: ESTE CUADRO NO DEBE DE SER MODIFICADO, SALVO QUE EL
A26: LAVAMANOS - ATACOCHA + PORVENIR | B26: 0 | E26: 8.6
A28: PAPEL TOALLA | B28: 0 | C28: und | D28: 0 | E28: 0 | F28: limpieza | G28: 0
A29: DESINFECTANTE | B29: 0 | C29: LT. | D29: 0 | E29: 0 | F29: limpieza | G29: 0
A30: JABON LIQUIDO | B30: 0 | C30: LT. | D30: 0 | E30: 0 | F30: limpieza | G30: 0
A31: ESCOBAS DE NYLON | B31: 0 | C31: und | D31: 0 | E31: 0 | F31: limpieza | G31: 0
A32: TRAPO INDUSTRIAL | B32: 0 | C32: Kg | D32: 0 | E32: 0 | F32: limpieza | G32: 0
A33: DETERGENTE INDUSTRIAL | B33: 0 | C33: Kg | D33: 0 | E33: 0 | F33: limpieza | G33: 0
A34: TOTAL INSUMOS - LAVAMANOS | G34: 0
D37: TOTAL INSUMOS | G37: 0
