Workbook
Name a: [1]Compra_54MOD!#REF!
Name CALPH: [2]SHEET1!$M$1:$M$4
Name CBNPR: [2]SHEET1!$X$1:$X$4
Name CDCTO: [2]SHEET1!$B$1:$B$4
Name CDOCO: [2]SHEET1!$C$1:$C$4
Name CDSC1: [2]SHEET1!$E$1:$E$4
Name CDSC2: [2]SHEET1!$F$1:$F$4
Name CKCOO: [2]SHEET1!$A$1:$A$4
Name CPDDJ: [2]SHEET1!$S$1:$S$4
Name CPRRC: [2]SHEET1!$Q$1:$Q$4
Name CPTC: [2]SHEET1!$W$1:$W$4
Name CUM: [2]SHEET1!$G$1:$G$4
Name CUORG: [2]SHEET1!$I$1:$I$4
Name pag_2: [3]Compra_5!$B$69
Name pag_3: [3]Compra_5!$B$132
Name total: [4]OC215!#REF!
Name total1: [3]Compra_1!$I$311
Name total10: [3]Compra_10!$I$59
Name total100: [4]OC215!#REF!
Name total11: [3]Compra_11!$I$161
Name total12: [3]Compra_12!$I$36
Name total13: [3]Compra_13!$I$36
Name total14: [3]Compra_14!$I$32
Name total15: [3]Compra_15!$I$33
Name total16: [5]Compra_16!$I$33
Name total17: [5]Compra_17!$I$47
Name total18: [5]Compra_18!$I$44
Name total19: [5]Compra_19!$I$58
Name total1AMP: [3]Compra_1AMP!$I$36
Name total1MOD: [3]Compra_1MOD!$G$141
Name total2: [3]Compra_2!$I$53
Name total20: [5]Compra_20!$I$34
Name total21: [5]Compra_21!$I$35
Name total22: [5]Compra_22!$I$106
Name total23: [5]Compra_23!$I$101
Name total24: [5]Compra_24!$I$102
Name total25: [5]Compra_25!$I$36
Name total26: [5]Compra_26!$I$102
Name total27: [5]Compra_27!$I$105
Name total28: [5]Compra_28!$I$101
Name total29: [5]Compra_29!$I$106
Name total3: [3]Compra_3!$I$50
Name total30: [5]Compra_30!$I$105
Name total31: [6]Compra_31!$I$102
Name total32: [6]Compra_32!$I$105
Name total33: [6]Compra_33!$I$106
Name total34: [6]Compra_34!$I$46
Name total35: [6]Compra_35!$I$33
Name total36: [6]Compra_36!$I$33
Name total37: [6]Compra_37!$I$47
Name total38: [6]Compra_38!$I$45
Name total39: [6]Compra_39!$I$45
Name total4: [3]Compra_4!$I$33
Name total40: [6]Compra_40!$I$40
Name total41: [6]Compra_41!$I$45
Name total42: [6]Compra_42!$I$46
Name total43: [6]Compra_43!$I$46
Name total44: [6]Compra_44!$I$46
Name total45: [6]Compra_45!$I$112
Name total45AMP: [6]Compra_45AMP!$I$33

Sheet CONSOLIDADO
E1: LISTADO DE ACTIVIDADES
K3: RV.00
K4: Fecha de versión
A5: Obra: Defensas Ribereñas Río Lacramarca
A6: Dirección: Nuevo Chimbote - Ancash
A7: DATOS DEL OFERTANTE:
A8: Razon Social:
A9: Domicilio:
A10: Teléfono/Fax:
A11: Contacto:
K12: FECHA LIMITE ENTREGA OFERTA:
A13: ITEM | B13: U/M | C13: CANTIDAD | E13: DESCRIPCION | K13: Prec. Unit. | L13: Prec. Total
A14: EJECUCIÓN DEL SUBPROYCTO A3
A15: 1 | E15: DEFENSAS RIBEREÑAS
A16: 1.1 | E16: OBRAS PRELIMINARES | F16: OBRAS PRELIMINARES | G16: OBRAS PRELIMINARES | H16: OBRAS PRELIMINARES | I16: OBRAS PRELIMINARES | J16: OBRAS PRELIMINARES
A17: 1.1.1 | B17: und | C17: 1 | E17: CARTEL DE IDENTIFICACIÓN OBRA 4.80 x 3.60 m. | F17: CARTEL DE IDENTIFICACIÓN OBRA 4.80 x 3.60 m. | G17: CARTEL DE IDENTIFICACIÓN OBRA 4.80 x 3.60 m. | H17: CARTEL DE IDENTIFICACIÓN OBRA 4.80 x 3.60 m. | I17: CARTEL DE IDENTIFICACIÓN OBRA 4.80 x 3.60 m. | J17: CARTEL DE IDENTIFICACIÓN OBRA 4.80 x 3.60 m. | L17: =+K17*C17 -> 0
A18: 1.1.2 | B18: glb | C18: 1 | E18: INSTALACIONES PROVISIONALES PARA LA OBRA | F18: INSTALACIONES PROVISIONALES PARA LA OBRA | G18: INSTALACIONES PROVISIONALES PARA LA OBRA | H18: INSTALACIONES PROVISIONALES PARA LA OBRA | I18: INSTALACIONES PROVISIONALES PARA LA OBRA | J18: INSTALACIONES PROVISIONALES PARA LA OBRA | L18: =+K18*C18 -> 0
A19: 1.1.3 | B19: mes | C19: 7.17 | E19: MANTENIMIENTO DE TRÁNSITO Y SEGURIDAD VIAL | F19: MANTENIMIENTO DE TRÁNSITO Y SEGURIDAD VIAL | G19: MANTENIMIENTO DE TRÁNSITO Y SEGURIDAD VIAL | H19: MANTENIMIENTO DE TRÁNSITO Y SEGURIDAD VIAL | I19: MANTENIMIENTO DE TRÁNSITO Y SEGURIDAD VIAL | J19: MANTENIMIENTO DE TRÁNSITO Y SEGURIDAD VIAL | L19: =+K19*C19 -> 0
A20: 1.2 | E20: TRABAJOS PRELIMINARES | F20: TRABAJOS PRELIMINARES | G20: TRABAJOS PRELIMINARES | H20: TRABAJOS PRELIMINARES | I20: TRABAJOS PRELIMINARES | J20: TRABAJOS PRELIMINARES
A21: 1.2.1 | B21: glb | C21: 1 | E21: MOVILIZACION Y DESMOVILIZACION DE EQUIPOS | F21: MOVILIZACION Y DESMOVILIZACION DE EQUIPOS | G21: MOVILIZACION Y DESMOVILIZACION DE EQUIPOS | H21: MOVILIZACION Y DESMOVILIZACION DE EQUIPOS | I21: MOVILIZACION Y DESMOVILIZACION DE EQUIPOS | J21: MOVILIZACION Y DESMOVILIZACION DE EQUIPOS | L21: =+K21*C21 -> 0
A22: 1.2.2 | B22: mes | C22: 6.87 | E22: TOPOGRAFÍA Y GEOREFERENCIACIÓN | F22: TOPOGRAFÍA Y GEOREFERENCIACIÓN | G22: TOPOGRAFÍA Y GEOREFERENCIACIÓN | H22: TOPOGRAFÍA Y GEOREFERENCIACIÓN | I22: TOPOGRAFÍA Y GEOREFERENCIACIÓN | J22: TOPOGRAFÍA Y GEOREFERENCIACIÓN | L22: =+K22*C22 -> 0
A23: 1.3 | E23: MEJORAMIENTO DE VÍAS EXISTENTES | F23: MEJORAMIENTO DE VÍAS EXISTENTES | G23: MEJORAMIENTO DE VÍAS EXISTENTES | H23: MEJORAMIENTO DE VÍAS EXISTENTES | I23: MEJORAMIENTO DE VÍAS EXISTENTES | J23: MEJORAMIENTO DE VÍAS EXISTENTES
A24: 1.3.1 | E24: MOVIMIENTO DE TIERRAS | F24: MOVIMIENTO DE TIERRAS | G24: MOVIMIENTO DE TIERRAS | H24: MOVIMIENTO DE TIERRAS | I24: MOVIMIENTO DE TIERRAS | J24: MOVIMIENTO DE TIERRAS
A25: 1.3.1.1 | B25: m2 | C25: 933 | E25: ROCE Y LIMPIEZA DE MALEZA | F25: ROCE Y LIMPIEZA DE MALEZA | G25: ROCE Y LIMPIEZA DE MALEZA | H25: ROCE Y LIMPIEZA DE MALEZA | I25: ROCE Y LIMPIEZA DE MALEZA | J25: ROCE Y LIMPIEZA DE MALEZA | L25: =+K25*C25 -> 0
A26: 1.3.1.2 | B26: km | C26: 4.61 | E26: MEJORAMIENTO DE VIAS EXISTENTES | F26: MEJORAMIENTO DE VIAS EXISTENTES | G26: MEJORAMIENTO DE VIAS EXISTENTES | H26: MEJORAMIENTO DE VIAS EXISTENTES | I26: MEJORAMIENTO DE VIAS EXISTENTES | J26: MEJORAMIENTO DE VIAS EXISTENTES | L26: =+K26*C26 -> 0
A27: 1.3.2 | E27: REPOSICIÓN DE ESTRUCTURAS | F27: REPOSICIÓN DE ESTRUCTURAS | G27: REPOSICIÓN DE ESTRUCTURAS | H27: REPOSICIÓN DE ESTRUCTURAS | I27: REPOSICIÓN DE ESTRUCTURAS | J27: REPOSICIÓN DE ESTRUCTURAS
A28: 1.3.2.1 | B28: m3 | C28: 5.6 | E28: DEMOLICIÓN DE ESTRUCTURAS EXISTENTES | F28: DEMOLICIÓN DE ESTRUCTURAS EXISTENTES | G28: DEMOLICIÓN DE ESTRUCTURAS EXISTENTES | H28: DEMOLICIÓN DE ESTRUCTURAS EXISTENTES | I28: DEMOLICIÓN DE ESTRUCTURAS EXISTENTES | J28: DEMOLICIÓN DE ESTRUCTURAS EXISTENTES | L28: =+K28*C28 -> 0
A29: 1.3.2.2 | B29: m | C29: 5 | E29: REPOSICIÓN DE PASE DE AGUA TUBO HDPE Ø=18" | F29: REPOSICIÓN DE PASE DE AGUA TUBO HDPE Ø=18" | G29: REPOSICIÓN DE PASE DE AGUA TUBO HDPE Ø=18" | H29: REPOSICIÓN DE PASE DE AGUA TUBO HDPE Ø=18" | I29: REPOSICIÓN DE PASE DE AGUA TUBO HDPE Ø=18" | J29: REPOSICIÓN DE PASE DE AGUA TUBO HDPE Ø=18" | L29: =+K29*C29 -> 0
A30: 1.3.2.3 | B30: m | C30: 5 | E30: REPOSICIÓN DE PASE DE AGUA TUBO HDPE Ø=36" | F30: REPOSICIÓN DE PASE DE AGUA TUBO HDPE Ø=36" | G30: REPOSICIÓN DE PASE DE AGUA TUBO HDPE Ø=36" | H30: REPOSICIÓN DE PASE DE AGUA TUBO HDPE Ø=36" | I30: REPOSICIÓN DE PASE DE AGUA TUBO HDPE Ø=36" | J30: REPOSICIÓN DE PASE DE AGUA TUBO HDPE Ø=36" | L30: =+K30*C30 -> 0
A31: 1.3.2.4 | B31: und | C31: 7 | E31: SUMINISTRO Y MONTAJE DE PANELES DE C°A° 1.6mx1.0mx0.20m EN PASE DE AGUA | F31: SUMINISTRO Y MONTAJE DE PANELES DE C°A° 1.6mx1.0mx0.20m EN PASE DE AGUA | G31: SUMINISTRO Y MONTAJE DE PANELES DE C°A° 1.6mx1.0mx0.20m EN PASE DE AGUA | H31: SUMINISTRO Y MONTAJE DE PANELES DE C°A° 1.6mx1.0mx0.20m EN PASE DE AGUA | I31: SUMINISTRO Y MONTAJE DE PANELES DE C°A° 1.6mx1.0mx0.20m EN PASE DE AGUA | J31: SUMINISTRO Y MONTAJE DE PANELES DE C°A° 1.6mx1.0mx0.20m EN PASE DE AGUA | L31: =+K31*C31 -> 0
A32: 1.3.2.5 | B32: und | C32: 5 | E32: SUMINISTRO Y MONTAJE DE PANELES DE C°A° 2.20mx1.0mx0.20m EN PASE DE AGUA | F32: SUMINISTRO Y MONTAJE DE PANELES DE C°A° 2.20mx1.0mx0.20m EN PASE DE AGUA | G32: SUMINISTRO Y MONTAJE DE PANELES DE C°A° 2.20mx1.0mx0.20m EN PASE DE AGUA | H32: SUMINISTRO Y MONTAJE DE PANELES DE C°A° 2.20mx1.0mx0.20m EN PASE DE AGUA | I32: SUMINISTRO Y MONTAJE DE PANELES DE C°A° 2.20mx1.0mx0.20m EN PASE DE AGUA | J32: SUMINISTRO Y MONTAJE DE PANELES DE C°A° 2.20mx1.0mx0.20m EN PASE DE AGUA | L32: =+K32*C32 -> 0
A33: 1.3.3 | E33: CABEZAL DE ENTRADA Y SALIDA | F33: CABEZAL DE ENTRADA Y SALIDA | G33: CABEZAL DE ENTRADA Y SALIDA | H33: CABEZAL DE ENTRADA Y SALIDA | I33: CABEZAL DE ENTRADA Y SALIDA | J33: CABEZAL DE ENTRADA Y SALIDA
A34: 1.3.3.1 | B34: m3 | C34: 3.0164 | E34: CONCRETOS | F34: CONCRETOS | G34: CONCRETOS | H34: CONCRETOS | I34: CONCRETOS | J34: CONCRETOS | L34: =+K34*C34 -> 0
A35: 1.3.3.2 | B35: m2 | C35: 21.176 | E35: ENCOFRADO Y DESENCOFRADO RECTO | F35: ENCOFRADO Y DESENCOFRADO RECTO | G35: ENCOFRADO Y DESENCOFRADO RECTO | H35: ENCOFRADO Y DESENCOFRADO RECTO | I35: ENCOFRADO Y DESENCOFRADO RECTO | J35: ENCOFRADO Y DESENCOFRADO RECTO | L35: =+K35*C35 -> 0
A36: 1.4 | E36: DESCOLMATACIÓN DE CAUCE y OBRAS AUXILIARES | F36: DESCOLMATACIÓN DE CAUCE y OBRAS AUXILIARES | G36: DESCOLMATACIÓN DE CAUCE y OBRAS AUXILIARES | H36: DESCOLMATACIÓN DE CAUCE y OBRAS AUXILIARES | I36: DESCOLMATACIÓN DE CAUCE y OBRAS AUXILIARES | J36: DESCOLMATACIÓN DE CAUCE y OBRAS AUXILIARES
A37: 1.4.1 | B37: m2 | C37: 304613 | E37: DESBROCE Y LIMPIEZA EN ZONA NO BOSCOSA | F37: DESBROCE Y LIMPIEZA EN ZONA NO BOSCOSA | G37: DESBROCE Y LIMPIEZA EN ZONA NO BOSCOSA | H37: DESBROCE Y LIMPIEZA EN ZONA NO BOSCOSA | I37: DESBROCE Y LIMPIEZA EN ZONA NO BOSCOSA | J37: DESBROCE Y LIMPIEZA EN ZONA NO BOSCOSA | L37: =+K37*C37 -> 0
A38: 1.4.2 | B38: m3 | C38: 116188.11 | E38: DESCOLMATACIÓN DE CAUCE NATURAL DEL RÍO LACRAMARCA | F38: DESCOLMATACIÓN DE CAUCE NATURAL DEL RÍO LACRAMARCA | G38: DESCOLMATACIÓN DE CAUCE NATURAL DEL RÍO LACRAMARCA | H38: DESCOLMATACIÓN DE CAUCE NATURAL DEL RÍO LACRAMARCA | I38: DESCOLMATACIÓN DE CAUCE NATURAL DEL RÍO LACRAMARCA | J38: DESCOLMATACIÓN DE CAUCE NATURAL DEL RÍO LACRAMARCA | L38: =+K38*C38 -> 0
A39: 1.4.3 | B39: m3 | C39: 57167 | E39: CONFORMACIÓN DE DESVIO EN CAUCE DE RÍO | F39: CONFORMACIÓN DE DESVIO EN CAUCE DE RÍO | G39: CONFORMACIÓN DE DESVIO EN CAUCE DE RÍO | H39: CONFORMACIÓN DE DESVIO EN CAUCE DE RÍO | I39: CONFORMACIÓN DE DESVIO EN CAUCE DE RÍO | J39: CONFORMACIÓN DE DESVIO EN CAUCE DE RÍO | L39: =+K39*C39 -> 0
A40: 1.4.4 | B40: m3 | C40: 57377 | E40: RELLENO NO ESTRUCTURAL CON MATERIAL PROPIO | F40: RELLENO NO ESTRUCTURAL CON MATERIAL PROPIO | G40: RELLENO NO ESTRUCTURAL CON MATERIAL PROPIO | H40: RELLENO NO ESTRUCTURAL CON MATERIAL PROPIO | I40: RELLENO NO ESTRUCTURAL CON MATERIAL PROPIO | J40: RELLENO NO ESTRUCTURAL CON MATERIAL PROPIO | L40: =+K40*C40 -> 0
A41: 1.5 | E41: DIQUES DE TIERRA COMPACTADA CON ENROCADO | F41: DIQUES DE TIERRA COMPACTADA CON ENROCADO | G41: DIQUES DE TIERRA COMPACTADA CON ENROCADO | H41: DIQUES DE TIERRA COMPACTADA CON ENROCADO | I41: DIQUES DE TIERRA COMPACTADA CON ENROCADO | J41: DIQUES DE TIERRA COMPACTADA CON ENROCADO
...

Sheet DETALLADO
E1: LISTADO DE ACTIVIDADES
K3: RV.00
K4: Fecha de versión
A5: Obra: Defensas Ribereñas Río Lacramarca
A6: Dirección: Nuevo Chimbote - Ancash
A7: DATOS DEL OFERTANTE:
A8: Razon Social:
A9: Domicilio:
A10: Teléfono/Fax:
A11: Contacto:
K12: FECHA LIMITE ENTREGA OFERTA: | L12: =IF(+CONSOLIDADO!L12="","",+CONSOLIDADO!L12)
A13: ITEM | B13: U/M | C13: CANTIDAD | E13: DESCRIPCION | K13: Prec. Unit. | L13: Prec. Total
A14: =IF(+CONSOLIDADO!A14="","",CONSOLIDADO!A14) -> EJECUCIÓN DEL SUBPROYCTO A3
A15: 1 | E15: DEFENSAS RIBEREÑAS
A16: 1.1 | E16: OBRAS PRELIMINARES | F16: OBRAS PRELIMINARES | G16: OBRAS PRELIMINARES | H16: OBRAS PRELIMINARES | I16: OBRAS PRELIMINARES | J16: OBRAS PRELIMINARES
A17: 1.1.1 | B17: und | C17: 1 | E17: CARTEL DE IDENTIFICACIÓN OBRA 4.80 x 3.60 m. | F17: CARTEL DE IDENTIFICACIÓN OBRA 4.80 x 3.60 m. | G17: CARTEL DE IDENTIFICACIÓN OBRA 4.80 x 3.60 m. | H17: CARTEL DE IDENTIFICACIÓN OBRA 4.80 x 3.60 m. | I17: CARTEL DE IDENTIFICACIÓN OBRA 4.80 x 3.60 m. | J17: CARTEL DE IDENTIFICACIÓN OBRA 4.80 x 3.60 m. | L17: =+K17*C17 -> 0
A18: 1.1.2 | B18: glb | C18: 1 | E18: INSTALACIONES PROVISIONALES PARA LA OBRA | F18: INSTALACIONES PROVISIONALES PARA LA OBRA | G18: INSTALACIONES PROVISIONALES PARA LA OBRA | H18: INSTALACIONES PROVISIONALES PARA LA OBRA | I18: INSTALACIONES PROVISIONALES PARA LA OBRA | J18: INSTALACIONES PROVISIONALES PARA LA OBRA | L18: =+K18*C18 -> 0
A19: 1.1.3 | B19: mes | C19: 7.17 | E19: MANTENIMIENTO DE TRÁNSITO Y SEGURIDAD VIAL | F19: MANTENIMIENTO DE TRÁNSITO Y SEGURIDAD VIAL | G19: MANTENIMIENTO DE TRÁNSITO Y SEGURIDAD VIAL | H19: MANTENIMIENTO DE TRÁNSITO Y SEGURIDAD VIAL | I19: MANTENIMIENTO DE TRÁNSITO Y SEGURIDAD VIAL | J19: MANTENIMIENTO DE TRÁNSITO Y SEGURIDAD VIAL | L19: =+K19*C19 -> 0
A20: 1.2 | E20: TRABAJOS PRELIMINARES | F20: TRABAJOS PRELIMINARES | G20: TRABAJOS PRELIMINARES | H20: TRABAJOS PRELIMINARES | I20: TRABAJOS PRELIMINARES | J20: TRABAJOS PRELIMINARES
A21: 1.2.1 | B21: glb | C21: 1 | E21: MOVILIZACION Y DESMOVILIZACION DE EQUIPOS | F21: MOVILIZACION Y DESMOVILIZACION DE EQUIPOS | G21: MOVILIZACION Y DESMOVILIZACION DE EQUIPOS | H21: MOVILIZACION Y DESMOVILIZACION DE EQUIPOS | I21: MOVILIZACION Y DESMOVILIZACION DE EQUIPOS | J21: MOVILIZACION Y DESMOVILIZACION DE EQUIPOS | L21: =+K21*C21 -> 0
A22: 1.2.2 | B22: mes | C22: 6.87 | E22: TOPOGRAFÍA Y GEOREFERENCIACIÓN | F22: TOPOGRAFÍA Y GEOREFERENCIACIÓN | G22: TOPOGRAFÍA Y GEOREFERENCIACIÓN | H22: TOPOGRAFÍA Y GEOREFERENCIACIÓN | I22: TOPOGRAFÍA Y GEOREFERENCIACIÓN | J22: TOPOGRAFÍA Y GEOREFERENCIACIÓN | L22: =+K22*C22 -> 0
A23: 1.3 | E23: MEJORAMIENTO DE VÍAS EXISTENTES | F23: MEJORAMIENTO DE VÍAS EXISTENTES | G23: MEJORAMIENTO DE VÍAS EXISTENTES | H23: MEJORAMIENTO DE VÍAS EXISTENTES | I23: MEJORAMIENTO DE VÍAS EXISTENTES | J23: MEJORAMIENTO DE VÍAS EXISTENTES
A24: 1.3.1 | E24: MOVIMIENTO DE TIERRAS | F24: MOVIMIENTO DE TIERRAS | G24: MOVIMIENTO DE TIERRAS | H24: MOVIMIENTO DE TIERRAS | I24: MOVIMIENTO DE TIERRAS | J24: MOVIMIENTO DE TIERRAS
A25: 1.3.1.1 | B25: m2 | C25: 933 | E25: ROCE Y LIMPIEZA DE MALEZA | F25: ROCE Y LIMPIEZA DE MALEZA | G25: ROCE Y LIMPIEZA DE MALEZA | H25: ROCE Y LIMPIEZA DE MALEZA | I25: ROCE Y LIMPIEZA DE MALEZA | J25: ROCE Y LIMPIEZA DE MALEZA | L25: =+K25*C25 -> 0
A26: 1.3.1.2 | B26: km | C26: 4.61 | E26: MEJORAMIENTO DE VIAS EXISTENTES | F26: MEJORAMIENTO DE VIAS EXISTENTES | G26: MEJORAMIENTO DE VIAS EXISTENTES | H26: MEJORAMIENTO DE VIAS EXISTENTES | I26: MEJORAMIENTO DE VIAS EXISTENTES | J26: MEJORAMIENTO DE VIAS EXISTENTES | L26: =+K26*C26 -> 0
A27: 1.3.2 | E27: REPOSICIÓN DE ESTRUCTURAS | F27: REPOSICIÓN DE ESTRUCTURAS | G27: REPOSICIÓN DE ESTRUCTURAS | H27: REPOSICIÓN DE ESTRUCTURAS | I27: REPOSICIÓN DE ESTRUCTURAS | J27: REPOSICIÓN DE ESTRUCTURAS
A28: 1.3.2.1 | B28: m3 | C28: 5.6 | E28: DEMOLICIÓN DE ESTRUCTURAS EXISTENTES | F28: DEMOLICIÓN DE ESTRUCTURAS EXISTENTES | G28: DEMOLICIÓN DE ESTRUCTURAS EXISTENTES | H28: DEMOLICIÓN DE ESTRUCTURAS EXISTENTES | I28: DEMOLICIÓN DE ESTRUCTURAS EXISTENTES | J28: DEMOLICIÓN DE ESTRUCTURAS EXISTENTES | L28: =+K28*C28 -> 0
A29: 1.3.2.2 | B29: m | C29: 5 | E29: REPOSICIÓN DE PASE DE AGUA TUBO HDPE Ø=18" | F29: REPOSICIÓN DE PASE DE AGUA TUBO HDPE Ø=18" | G29: REPOSICIÓN DE PASE DE AGUA TUBO HDPE Ø=18" | H29: REPOSICIÓN DE PASE DE AGUA TUBO HDPE Ø=18" | I29: REPOSICIÓN DE PASE DE AGUA TUBO HDPE Ø=18" | J29: REPOSICIÓN DE PASE DE AGUA TUBO HDPE Ø=18" | L29: =+K29*C29 -> 0
A30: 1.3.2.3 | B30: m | C30: 5 | E30: REPOSICIÓN DE PASE DE AGUA TUBO HDPE Ø=36" | F30: REPOSICIÓN DE PASE DE AGUA TUBO HDPE Ø=36" | G30: REPOSICIÓN DE PASE DE AGUA TUBO HDPE Ø=36" | H30: REPOSICIÓN DE PASE DE AGUA TUBO HDPE Ø=36" | I30: REPOSICIÓN DE PASE DE AGUA TUBO HDPE Ø=36" | J30: REPOSICIÓN DE PASE DE AGUA TUBO HDPE Ø=36" | L30: =+K30*C30 -> 0
A31: 1.3.2.4 | B31: und | C31: 7 | E31: SUMINISTRO Y MONTAJE DE PANELES DE C°A° 1.6mx1.0mx0.20m EN PASE DE AGUA | F31: SUMINISTRO Y MONTAJE DE PANELES DE C°A° 1.6mx1.0mx0.20m EN PASE DE AGUA | G31: SUMINISTRO Y MONTAJE DE PANELES DE C°A° 1.6mx1.0mx0.20m EN PASE DE AGUA | H31: SUMINISTRO Y MONTAJE DE PANELES DE C°A° 1.6mx1.0mx0.20m EN PASE DE AGUA | I31: SUMINISTRO Y MONTAJE DE PANELES DE C°A° 1.6mx1.0mx0.20m EN PASE DE AGUA | J31: SUMINISTRO Y MONTAJE DE PANELES DE C°A° 1.6mx1.0mx0.20m EN PASE DE AGUA | L31: =+K31*C31 -> 0
A32: 1.3.2.5 | B32: und | C32: 5 | E32: SUMINISTRO Y MONTAJE DE PANELES DE C°A° 2.20mx1.0mx0.20m EN PASE DE AGUA | F32: SUMINISTRO Y MONTAJE DE PANELES DE C°A° 2.20mx1.0mx0.20m EN PASE DE AGUA | G32: SUMINISTRO Y MONTAJE DE PANELES DE C°A° 2.20mx1.0mx0.20m EN PASE DE AGUA | H32: SUMINISTRO Y MONTAJE DE PANELES DE C°A° 2.20mx1.0mx0.20m EN PASE DE AGUA | I32: SUMINISTRO Y MONTAJE DE PANELES DE C°A° 2.20mx1.0mx0.20m EN PASE DE AGUA | J32: SUMINISTRO Y MONTAJE DE PANELES DE C°A° 2.20mx1.0mx0.20m EN PASE DE AGUA | L32: =+K32*C32 -> 0
A33: 1.3.3 | E33: CABEZAL DE ENTRADA Y SALIDA | F33: CABEZAL DE ENTRADA Y SALIDA | G33: CABEZAL DE ENTRADA Y SALIDA | H33: CABEZAL DE ENTRADA Y SALIDA | I33: CABEZAL DE ENTRADA Y SALIDA | J33: CABEZAL DE ENTRADA Y SALIDA
A34: 1.3.3.1 | B34: m3 | C34: 3.0164 | E34: CONCRETOS | F34: CONCRETOS | G34: CONCRETOS | H34: CONCRETOS | I34: CONCRETOS | J34: CONCRETOS | L34: =+K34*C34 -> 0
A35: 1.3.3.2 | B35: m2 | C35: 21.176 | E35: ENCOFRADO Y DESENCOFRADO RECTO | F35: ENCOFRADO Y DESENCOFRADO RECTO | G35: ENCOFRADO Y DESENCOFRADO RECTO | H35: ENCOFRADO Y DESENCOFRADO RECTO | I35: ENCOFRADO Y DESENCOFRADO RECTO | J35: ENCOFRADO Y DESENCOFRADO RECTO | L35: =+K35*C35 -> 0
A36: 1.4 | E36: DESCOLMATACIÓN DE CAUCE y OBRAS AUXILIARES | F36: DESCOLMATACIÓN DE CAUCE y OBRAS AUXILIARES | G36: DESCOLMATACIÓN DE CAUCE y OBRAS AUXILIARES | H36: DESCOLMATACIÓN DE CAUCE y OBRAS AUXILIARES | I36: DESCOLMATACIÓN DE CAUCE y OBRAS AUXILIARES | J36: DESCOLMATACIÓN DE CAUCE y OBRAS AUXILIARES
A37: 1.4.1 | B37: m2 | C37: 304613 | E37: DESBROCE Y LIMPIEZA EN ZONA NO BOSCOSA | F37: DESBROCE Y LIMPIEZA EN ZONA NO BOSCOSA | G37: DESBROCE Y LIMPIEZA EN ZONA NO BOSCOSA | H37: DESBROCE Y LIMPIEZA EN ZONA NO BOSCOSA | I37: DESBROCE Y LIMPIEZA EN ZONA NO BOSCOSA | J37: DESBROCE Y LIMPIEZA EN ZONA NO BOSCOSA | L37: =+K37*C37 -> 0
A38: 1.4.2 | B38: m3 | C38: 116188.11 | E38: DESCOLMATACIÓN DE CAUCE NATURAL DEL RÍO LACRAMARCA | F38: DESCOLMATACIÓN DE CAUCE NATURAL DEL RÍO LACRAMARCA | G38: DESCOLMATACIÓN DE CAUCE NATURAL DEL RÍO LACRAMARCA | H38: DESCOLMATACIÓN DE CAUCE NATURAL DEL RÍO LACRAMARCA | I38: DESCOLMATACIÓN DE CAUCE NATURAL DEL RÍO LACRAMARCA | J38: DESCOLMATACIÓN DE CAUCE NATURAL DEL RÍO LACRAMARCA | L38: =+K38*C38 -> 0
A39: 1.4.3 | B39: m3 | C39: 57167 | E39: CONFORMACIÓN DE DESVIO EN CAUCE DE RÍO | F39: CONFORMACIÓN DE DESVIO EN CAUCE DE RÍO | G39: CONFORMACIÓN DE DESVIO EN CAUCE DE RÍO | H39: CONFORMACIÓN DE DESVIO EN CAUCE DE RÍO | I39: CONFORMACIÓN DE DESVIO EN CAUCE DE RÍO | J39: CONFORMACIÓN DE DESVIO EN CAUCE DE RÍO | L39: =+K39*C39 -> 0
A40: 1.4.4 | B40: m3 | C40: 57377 | E40: RELLENO NO ESTRUCTURAL CON MATERIAL PROPIO | F40: RELLENO NO ESTRUCTURAL CON MATERIAL PROPIO | G40: RELLENO NO ESTRUCTURAL CON MATERIAL PROPIO | H40: RELLENO NO ESTRUCTURAL CON MATERIAL PROPIO | I40: RELLENO NO ESTRUCTURAL CON MATERIAL PROPIO | J40: RELLENO NO ESTRUCTURAL CON MATERIAL PROPIO | L40: =+K40*C40 -> 0
A41: 1.5 | E41: DIQUES DE TIERRA COMPACTADA CON ENROCADO | F41: DIQUES DE TIERRA COMPACTADA CON ENROCADO | G41: DIQUES DE TIERRA COMPACTADA CON ENROCADO | H41: DIQUES DE TIERRA COMPACTADA CON ENROCADO | I41: DIQUES DE TIERRA COMPACTADA CON ENROCADO | J41: DIQUES DE TIERRA COMPACTADA CON ENROCADO
...
