Workbook

Sheet PROPUESTA 
G1: PLANTILLA DE PRESUPUESTO
K3: RV.00
K4: Fecha de versión
B5: Obra: Defensas Ribereñas Río Lacramarca
B6: Dirección: Nuevo Chimbote - Ancash
B7: DATOS DEL OFERTANTE:
B8: Razon Social: | F8: EVITESAC - CSI
B9: Domicilio:
B10: Teléfono/Fax: | F10: 043-708163
B11: Contacto: | F11: 902665572
K12: FECHA LIMITE ENTREGA OFERTA:
C14: SERVICIO DE SEGURIDAD Y VIGILANCIA PRIVADA - RIO LACRAMARCA
C15: Descripción | E15: Unidad | F15: Cantidad | G15: Cant. Personal | H15: Participación (%) | I15: Precio Unitario | J15: Precio total
C16: 1 | D16: Personal | J16: =SUM(J17:J19) -> 898715.11
C17: 1.1 | D17: Supervisor | E17: Mes | F17: 12 | G17: 2 | H17: 1 | I17: =+Supervisor!F29 -> 5994.49 | J17: =+I17*H17*G17*F17 -> 143867.76
C18: 1.2 | D18: Agente con arma | E18: Mes | F18: 12 | G18: 6 | H18: 1 | I18: =+'Agente CON ARMA'!F28 -> 3962.2303 | J18: =+I18*H18*G18*F18 -> 285280.58
C19: 1.3 | D19: Agente sin arma | E19: Mes | F19: 12 | G19: 11 | H19: 1 | I19: =+'Agente SIN ARMA '!F26 -> 3557.324 | J19: =+I19*H19*G19*F19 -> 469566.77
C20: 2 | D20: Recursos y equipos | J20: =SUM(J21:J25) -> 269762.6
C21: 2.1 | D21: Materiales, herramientas de campo | E21: Glb | F21: 1 | G21: 1 | H21: 1 | I21: =+'APU''s'!G12 -> 26803.1 | J21: =+I21*H21*G21*F21 -> 26803.1
C22: 2.2 | D22: Equipos informáticos, GPS, impresiones, otros. | E22: Glb | F22: 1 | G22: 1 | H22: 1 | I22: =+'APU''s'!G18 -> 6897.5 | J22: =+I22*H22*G22*F22 -> 6897.5
C23: 2.3 | D23: Camioneta 4x4 del AÑO 2024 [Incluye mantenimientos y combustible (420KM POR TURNO DE 24H)] | E23: Mes | F23: 12 | G23: 1 | H23: 1 | I23: =+'APU''s'!G26 -> 16936 | J23: =+I23*H23*G23*F23 -> 203232
C24: 2.4 | D24: EPPs y Señalética | E24: Glb | F24: 1 | G24: 1 | H24: 1 | I24: =+'APU''s'!G37 -> 10030 | J24: =+I24*H24*G24*F24 -> 10030
C25: 2.5 | D25: Uniforme | E25: Glb | F25: 1 | G25: 1 | H25: 1 | I25: =+'APU''s'!G42 -> 22800 | J25: =+I25*H25*G25*F25 -> 22800
C26: 3 | D26: Alimentación | J26: =SUM(J27:J28) -> 152820
C27: 3.1 | D27: Alimentación del personal | E27: Mes | F27: 12 | G27: 12 | H27: 1 | I27: =+'APU''s'!G50 -> 8640 | J27: =+I27*H27*F27 -> 103680
C28: 3.2 | D28: Rancho caliente | E28: Mes | F28: 12 | G28: 7 | H28: 1 | I28: =+'APU''s'!G58 -> 4095 | J28: =+I28*H28*F28 -> 49140
C29: 4 | D29: Seguros | J29: =SUM(J30:J34) -> 24528.749
C30: 4.1 | D30: Póliza SCTR Salud | E30: Mes | F30: 12 | G30: =SUM($G$17:$G$19) -> 19 | H30: 1 | I30: 27.896062 | J30: =+I30*H30*G30*F30 -> 6360.302
C31: 4.1 | D31: Póliza SCTR Pensión | E31: Mes | F31: 12 | G31: =SUM($G$17:$G$19) -> 19 | H31: 1 | I31: 26.823136 | J31: =+I31*H31*G31*F31 -> 6115.675
C32: 4.1 | D32: Vida Ley | E32: Mes | F32: 12 | G32: =SUM($G$17:$G$19) -> 19 | H32: 1 | I32: 26.823136 | J32: =+I32*H32*G32*F32 -> 6115.675
C33: 4.1 | D33: Seguro de Resposabilidad Civil | E33: Mes | F33: 12 | G33: =SUM($G$17:$G$19) -> 19 | H33: 1 | I33: 11.716346 | J33: =+I33*H33*G33*F33 -> 2671.3269
C34: 4.1 | D34: Póliza de deshonestidad | E34: Mes | F34: 12 | G34: =SUM($G$17:$G$19) -> 19 | H34: 1 | I34: 14.323555 | J34: =+I34*H34*G34*F34 -> 3265.7705
H35: Parcial (S/) | J35: =+$J$29+$J$26+$J$20+$J$16 -> 1345826.5
H36: Impuesto (IGV) 18% | J36: =+J35*0.18 -> 242248.76
H37: TOTAL | J37: =+J36+J35 -> 1588075.2
B40: CONDICIONES GENERALES:
B42: DESCRIPCION | G42: SOLICITADO | J42: OFERTADO
B43: FORMA DE PAGO | G43: VALORIZACION MENSUAL A 30 DÍAS | J43: VALORIZACION MENSUAL A 90 DÍAS
B44: MONEDA | G44: SOLES | J44: SOLES
B45: ANTICIPO | G45: 0 | J45: 0
...

Sheet Supervisor
B1: 1.1. Supervisor
B2: DESCRIPCIÓN | E2: %
B3: I. COSTO DE PERSONAL
B4: A. Remuneraciones
C5: Salario | F5: 1025
C6: Horas extras | F6: =+F5*0.5 -> 512.5
C7: Asignación familiar | E7: 10 | F7: =+$F$5*E7/100 -> 102.5
C8: Bonificacion Servicio Nocturno | F8: =0.35*F5 -> 358.75
C9: Volante | F9: =0.2*F5 -> 205
C10: Feriados | F10: =+F5*0.05 -> 51.25
C11: Total Remuneraciones | F11: =SUM(F5:F10) -> 2255
B13: B. Beneficios Sociales
C14: Gratificaciones | E14: 16.67 | F14: =+$F$5*E14/100 -> 170.8675
C15: Vacaciones | E15: 8.33 | F15: =+$F$5*E15/100 -> 85.3825
C16: C.T.S. | E16: 9.72 | F16: =+$F$5*E16/100 -> 99.63
C17: Total Beneficios Sociales | F17: =SUM(F14:F16) -> 355.88
C19: SUB TOTAL TRABAJADOR (1+4) | F19: =+F17+F11 -> 2610.88
B21: C. Aportaciones de la empresa ESSALUD % | E21: 9 | F21: =+F19*E21/100 -> 234.9792
C23: TOTAL DE COSTO DE PERSONAL | F23: =+F21+F19 -> 2845.8592
B24: II. GASTOS ADMINISTRATIVOS Y OPERATIVOS | E24: 10 | F24: =+E24*$F$23/100 -> 284.58592
B25: III. ARMAMENTO DE FUEGO | E25: 7 | F25: =+E25*$F$23/100 -> 199.21014
B26: IV. CHALECO ANTIBALAS | E26: 7 | F26: =+E26*$F$23/100 -> 199.21014
B27: IV. CERTIFICACIÓN Y ACREDITACION DEL SERVICIO | F27: 2038.7457
B28: V. UTILIDAD | E28: 15 | F28: =+E28*$F$23/100 -> 426.87888
B29: COSTO TOTAL DEL PERSONAL | F29: =SUM(F23:F28) -> 5994.49

Sheet Agente CON ARMA
B1: 1.2. Agente con arma
B2: DESCRIPCIÓN | E2: %
B3: I. COSTO DE PERSONAL
B4: A. Remuneraciones
C5: Salario basico | F5: 1025
C6: Horas extras | F6: =+F5*0.5 -> 512.5
C7: Asignación familiar | E7: 10 | F7: =+$F$5*E7/100 -> 102.5
C8: Bonificacion Servicio Nocturno | F8: =0.35*F5 -> 358.75
C9: Volante | F9: =0.2*F5 -> 205
C10: Feriados | F10: 55.530882
C11: Total Remuneraciones | F11: =SUM(F5:F10) -> 2259.2809
B13: B. Beneficios Sociales
C14: Gratificaciones | E14: 16.67 | F14: =+$F$5*E14/100 -> 170.8675
C15: Vacaciones | E15: 8.33 | F15: =+$F$5*E15/100 -> 85.3825
C16: C.T.S. | E16: 9.72 | F16: =+$F$5*E16/100 -> 99.63
C17: Total Beneficios Sociales | F17: =SUM(F14:F16) -> 355.88
C19: SUB TOTAL TRABAJADOR (1+4) | F19: =+F17+F11 -> 2615.1609
B21: C. Aportaciones de la empresa ESSALUD % | E21: 9 | F21: =+F19*E21/100 -> 235.36448
C23: TOTAL DE COSTO DE PERSONAL | F23: =+F21+F19 -> 2850.5254
B24: II. GASTOS ADMINISTRATIVOS Y OPERATIVOS | E24: 10 | F24: =+E24*$F$23/100 -> 285.05254
B25: III. ARMAMENTO DE FUEGO | E25: 7 | F25: =+E25*$F$23/100 -> 199.53678
B26: IV. CHALECO ANTIBALAS | E26: 7 | F26: =+E26*$F$23/100 -> 199.53678
B27: V. UTILIDAD | E27: 15 | F27: =+E27*$F$23/100 -> 427.5788
B28: COSTO TOTAL DEL PERSONAL | F28: =SUM(F23:F27) -> 3962.2303

Sheet Agente SIN ARMA 
B1: 1.3. Agente sin arma
B2: DESCRIPCIÓN | E2: %
B3: I. COSTO DE PERSONAL
B4: A. Remuneraciones
C5: Salario basico | F5: 1025
C6: Horas extras | F6: =+F5*0.5 -> 512.5
C7: Asignación familiar | E7: 10 | F7: =+$F$5*E7/100 -> 102.5
C8: Bonificacion Servicio Nocturno | F8: =0.35*F5 -> 358.75
C9: Volante | F9: =0.2*F5 -> 205
C10: Feriados | F10: =+F5*0.05 -> 51.25
C11: Total Remuneraciones | F11: =SUM(F5:F10) -> 2255
B13: B. Beneficios Sociales
C14: Gratificaciones | E14: 16.67 | F14: =+$F$5*E14/100 -> 170.8675
C15: Vacaciones | E15: 8.33 | F15: =+$F$5*E15/100 -> 85.3825
C16: C.T.S. | E16: 9.72 | F16: =+$F$5*E16/100 -> 99.63
C17: Total Beneficios Sociales | F17: =SUM(F14:F16) -> 355.88
C19: SUB TOTAL TRABAJADOR (1+4) | F19: =+F17+F11 -> 2610.88
B21: C. Aportaciones de la empresa ESSALUD % | E21: 9 | F21: =+F19*E21/100 -> 234.9792
C23: TOTAL DE COSTO DE PERSONAL | F23: =+F21+F19 -> 2845.8592
B24: II. GASTOS ADMINISTRATIVOS Y OPERATIVOS | E24: 10 | F24: =+E24*$F$23/100 -> 284.58592
B25: V. UTILIDAD | E25: 15 | F25: =+E25*$F$23/100 -> 426.87888
B26: COSTO TOTAL DEL PERSONAL | F26: =SUM(F23:F25) -> 3557.324

Sheet APU's
B1: 2.1. Materiales, herramientas de campo
B2: Insumo | C2: und | D2: cantidad | E2: c/personal | F2: PU | G2: subtotal
B3: Detector de metales (Garret). | C3: und | D3: 2 | E3: 3 | F3: 300 | G3: =+F3*E3*D3 -> 1800
B4: Linterna de mano | C4: und | D4: 1 | E4: 5 | F4: 50 | G4: =+F4*E4*D4 -> 250
B5: Binoculares de largo alcance | C5: und | D5: 1 | E5: 5 | F5: 150 | G5: =+F5*E5*D5 -> 750
B6: Silbato | C6: und | D6: 1 | E6: 19 | F6: 4.9 | G6: =+F6*E6*D6 -> 93.1
B7: Celular móvil con cámara y acceso a internet | C7: und | D7: 1 | E7: 19 | F7: =50*12+300 -> 900 | G7: =+F7*E7*D7 -> 17100
B8: Equipo Radio / Medio de Comunicación | C8: und | D8: 1 | E8: 19 | F8: 250 | G8: =+F8*E8*D8 -> 4750
B9: Garita con silla y escritorio | C9: und | D9: 1 | E9: 1 | F9: 1100 | G9: =+F9*E9*D9 -> 1100
B10: Cuaderno de ocurrencias diarias | C10: und | D10: 6 | E10: 12 | F10: 5 | G10: =+F10*E10*D10 -> 360
B11: Mobiliario, útiles de escritorio, etc. | C11: glb | D11: 1 | E11: 1 | F11: =50*12 -> 600 | G11: =+F11*E11*D11 -> 600
F12: TOTAL | G12: =SUM(G3:G11) -> 26803.1
B13: 2.2. Equipos informáticos, GPS, impresiones, otros.
B14: Insumo | C14: und | D14: cantidad | E14: c/personal | F14: PU | G14: subtotal
B15: GPS | C15: und | D15: 1 | E15: 1 | F15: =250*3.75 -> 937.5 | G15: =+F15*E15*D15 -> 937.5
B16: Equipos informáticos | C16: glb | D16: 1 | E16: 1 | F16: 3800 | G16: =+F16*E16*D16 -> 3800
B17: Otros | C17: glb | D17: 1 | E17: 1 | F17: =180*12 -> 2160 | G17: =+F17*E17*D17 -> 2160
F18: TOTAL | G18: =SUM(G15:G17) -> 6897.5
B20: 2.3. Camioneta 4x4 del AÑO 2024 [Incluye mantenimientos y combustible (420KM POR TURNO DE 24H)]
B21: Insumo | C21: und | D21: cantidad | E21: c/personal | F21: PU | G21: subtotal
B22: Camioneta 4x4 del AÑO 2024 (6 RONDAS EN UN TURNO DE 24HRS) | C22: und | D22: 1 | E22: 1 | F22: 10300 | G22: =+F22*E22*D22 -> 10300
B23: Combustible | C23: gln | D23: =(420/50)*30 -> 252 | E23: 1 | F23: 18 | G23: =+F23*E23*D23 -> 4536
B24: Mantenimiento y cambio de aceite (12600 KM MENSUAL) | C24: glb | D24: 1 | E24: 1 | F24: =400*3 -> 1200 | G24: =+F24*E24*D24 -> 1200
B25: Lavado | C25: glb | D25: 1 | E25: 1 | F25: =1*30*30 -> 900 | G25: =+F25*E25*D25 -> 900
F26: TOTAL | G26: =SUM(G22:G25) -> 16936
B28: 2.4. EPPs y Señalética
B29: Insumo | C29: und | D29: cantidad | E29: c/personal | F29: PU | G29: subtotal
B30: Botas de seguridad | C30: und | D30: 2 | E30: 16 | F30: 145 | G30: =+F30*E30*D30 -> 4640
B31: Casco | C31: und | D31: 2 | E31: 16 | F31: 40 | G31: =+F31*E31*D31 -> 1280
B32: Tapanuca | C32: und | D32: 4 | E32: 16 | F32: 30 | G32: =+F32*E32*D32 -> 1920
B33: Barbiquejo | C33: und | D33: 2 | E33: 16 | F33: 3.5 | G33: =+F33*E33*D33 -> 112
B34: Lentes | C34: und | D34: 2 | E34: 16 | F34: 28 | G34: =+F34*E34*D34 -> 896
B35: Tapón auditivo | C35: und | D35: 2 | E35: 16 | F35: 13.5 | G35: =+F35*E35*D35 -> 432
B36: Señaletica | C36: glb | D36: 1 | E36: 1 | F36: 750 | G36: =+F36*E36*D36 -> 750
G37: =SUM(G30:G36) -> 10030
B39: 2.5. Uniforme
B40: Insumo | C40: und | D40: cantidad | E40: c/personal | F40: PU | G40: subtotal
B41: Uniforme Completo segú TDR | C41: glb | D41: 2 | E41: 19 | F41: 600 | G41: =+F41*E41*D41 -> 22800
G42: =SUM(G41:G41) -> 22800
B44: 3.1. Alimentación del personal
...
