Workbook

Sheet DATOS GENERALES
D8: DATOS GENERALES
D11: CLIENTE: | G11: OBRASCON HUARTE LAIN S.A. SUC. DEL PERU
D13: PROYECTO: | G13: DEFENSAS RIBEREÑAS DEL RIO LACRAMARCA - PAQUETE R-07 - QDA PAMPA DEL TORO
D16: CONTRATO: | G16: EJECUCION DE OBRA
D18: PRESUPUESTO: | G18: =PRESUPUESTO!G83 -> 1867929.8 | H18: Soles
D20: TIEMPO DE EJECUCION: | G20: 1 | H20: Meses
D22: FECHA DE PRESENTACION DE OFERTTA: | G22: ='[4]DATOS GENERALES'!$G$21 -> 44843
D24: TIPO DE CAMBIO: | G24: ='[4]DATOS GENERALES'!$G$23 -> 3.97 | H24: Soles/dollar
D26: COSTO COMBUSTIBLE SIN IGV: | G26: ='[4]DATOS GENERALES'!$G$25 -> 17.738983 | H26: Soles/gln

Sheet PRESUPUESTO
B3: PRESUPUESTO
B5: PROYECTO: | C5: DEFENSAS RIBEREÑAS DEL RIO LACRAMARCA - PAQUETE R-07 - QDA PAMPA DEL TORO
F6: Fecha Pres. | G6: 44707
B7: ÍTEM | C7: DESCRIPCIÓN | D7: UNIDAD | E7: METRADO | F7: P.U. | G7: SUBTOTAL
B8: 1.01 | C8: OBRAS PRELIMINARES | G8: =SUM(G9:G11) -> 139925 | K8: ET | L8: 6.3.6
B9: 36892 | C9: CARTEL DE IDENTIFICACIÓN DE OBRA 4.8 m x 3.60 m | D9: und | E9: 1 | F9: =[4]PRESUPUESTO!$F$8 -> 2800 | G9: =F9*E9 -> 2800 | K9: TDR | L9: 22
B10: 37257 | C10: INSTALACIONES PROVISIONALES PARA LA OBRA | D10: glb | E10: 1 | F10: =[4]PRESUPUESTO!$F$9 -> 50000 | G10: =F10*E10 -> 50000
B11: 37622 | C11: MANTENIMIENTO DE TRANSITO Y SEGURIDAD VIAL | D11: mes | E11: 1 | F11: =[4]PRESUPUESTO!$F$10 -> 87125 | G11: =F11*E11 -> 87125
B12: 1.02 | C12: TRABAJOS PRELIMINARES | G12: =SUM(G13:G14) -> 115000
B13: 36893 | C13: MOVILIZACION Y DESMOVILIZACION DE EQUIPOS | D13: glb | E13: 1 | F13: =[4]PRESUPUESTO!$F$12 -> 72000 | G13: =F13*E13 -> 72000
B14: 37258 | C14: TOPOGRAFIA Y GEOREFERENCIACION | D14: mes | E14: 1 | F14: =[4]PRESUPUESTO!$F$13 -> 43000 | G14: =F14*E14 -> 43000
B15: 1.03 | C15: MEJORAMIENTO DE VIAS EXISTENTES | G15: =G16+G19+G24 -> 249190.95
B16: 01.03.01 | C16: MOVIMIENTO DE TIERRAS | G16: =SUM(G17:G18) -> 217762.45
B17: 1.03.01.01 | C17: ROCE Y LIMPIEZA DE MALEZA | D17: m2 | E17: 1407 | F17: =[4]PRESUPUESTO!$F$16 -> 13.642366 | G17: =F17*E17 -> 19194.809
B18: 1.03.01.02 | C18: MEJORAMIENTO DE VIAS EXISTENTES | D18: km | E18: 4.69 | F18: =[4]PRESUPUESTO!$F$17 -> 42338.517 | G18: =F18*E18 -> 198567.64
B19: 1.03.02 | C19: REPOSICIÓN DE ESTRUCTURAS | G19: =SUM(G20:G23) -> 26982.435
B20: 1.03.02.01 | C20: DEMOLICIÓN DE ESTRUCTURAS EXISTENTES | D20: m3 | E20: 0.12 | F20: =[4]PRESUPUESTO!$F$19 -> 2782.708 | G20: =F20*E20 -> 333.92496
B21: 1.03.02.02 | C21: REPOSICIÓN DE PASE DE AGUA TUBERÍA HDPE Ø=36" | D21: M | E21: 8.4 | F21: =[4]PRESUPUESTO!$F$20 -> 1722.2306 | G21: =F21*E21 -> 14466.737
B22: 1.03.02.03 | C22: REPOSICIÓN DE PASE DE AGUA TUBERÍA HDPE Ø=24" | D22: M | E22: 7.4 | F22: =[4]PRESUPUESTO!$F$21 -> 1596.1181 | G22: =F22*E22 -> 11811.274
B23: 1.03.02.04 | C23: SUMINISTRO Y MONTAJE DE LOSAS DE C°A° 1.6mx1.0mx0.20m EN PASE DE AGUA | D23: und | E23: 1 | F23: =[4]PRESUPUESTO!$F$22 -> 370.49976 | G23: =F23*E23 -> 370.49976
B24: 01.03.03 | C24: ESTRUCTURAS DE CONCRETO | G24: =SUM(G25:G26) -> 4446.0623
B25: 1.03.03.01 | C25: CONCRETO 175 Kg/Cm2 | D25: m3 | E25: 3.54 | F25: =[4]PRESUPUESTO!$F$24 -> 541.22856 | G25: =F25*E25 -> 1915.9491
B26: 1.03.03.02 | C26: ENCOFRADO Y DESENCOFRADO NORMAL | D26: m2 | E26: 27.8 | F26: =[4]PRESUPUESTO!$F$25 -> 91.011267 | G26: =F26*E26 -> 2530.1132
B27: 1.04 | C27: DIQUES Y PROTECCIÓN DE CAUCE CON ENROCADO | G27: =G28+G37+G46 -> 254603.51
B28: 01.04.01 | C28: DIQUE DE TIERRA COMPACTADA A4-PT-D-05 | G28: =SUM(G29:G36) -> 123052.36
B29: 01.04.01.01 | C29: DESBROCE Y LIMPIEZA EN ZONA NO BOSCOSA | D29: m2 | E29: 1947 | F29: =[4]PRESUPUESTO!$F$28 -> 5.2843458 | G29: =F29*E29 -> 10288.621
B30: 01.04.01.02 | C30: EXCAVACIÓN EN TERRENO NATURAL CON EQUIPO | D30: m3 | E30: 613.78 | F30: =[4]PRESUPUESTO!$F$29 -> 7.0343928 | G30: =F30*E30 -> 4317.5696
B31: 01.04.01.03 | C31: PERFILADO Y COMPACTACIÓN EN ZONA DE CORTE | D31: m2 | E31: 2026.468 | F31: =[4]PRESUPUESTO!$F$30 -> 2.8450377 | G31: =F31*E31 -> 5765.3778
B32: 01.04.01.04 | C32: CONFORMACIÓN DE CUERPO DE DIQUE | D32: m3 | E32: 823.966 | F32: =[4]PRESUPUESTO!$F$31 -> 30.024547 | G32: =F32*E32 -> 24739.206
B33: 01.04.01.05 | C33: CONFORMACIÓN DE MATERIAL GRANULAR EN CORONA DE DIQUE | D33: m3 | E33: 190.44 | F33: =[4]PRESUPUESTO!$F$32 -> 37.530684 | G33: =F33*E33 -> 7147.3435
B34: 01.04.01.06 | C34: GEOTEXTIL NO TEJIDO 400 G/M2, INC. COLOCACIÓN | D34: m2 | E34: 555.1766 | F34: =[4]PRESUPUESTO!$F$33 -> 17.052433 | G34: =F34*E34 -> 9467.1118
B35: 01.04.01.07 | C35: COLOCACION Y ACOMODO DE ROCA EN UÑA DE DIQUE | D35: m3 | E35: 506 | F35: =[4]PRESUPUESTO!$F$34 -> 88.2 | G35: =F35*E35 -> 44629.2 | I35: =E35 -> 506
B36: 01.04.01.08 | C36: COLOCACION Y ACOMODO DE ROCA EN TALUD DE DIQUE | D36: m3 | E36: 170.04 | F36: =[4]PRESUPUESTO!$F$35 -> 98.2 | G36: =F36*E36 -> 16697.928 | I36: =E36 -> 170.04
B37: 01.04.02 | C37: DIQUE DE TIERRA COMPACTADA A4-PT-D-04 | G37: =SUM(G38:G45) -> 35150.416
B38: 01.04.02.01 | C38: DESBROCE Y LIMPIEZA EN ZONA NO BOSCOSA | D38: m2 | E38: 512 | F38: =[4]PRESUPUESTO!$F$37 -> 5.2843458 | G38: =F38*E38 -> 2705.585
B39: 01.04.02.02 | C39: EXCAVACIÓN EN TERRENO NATURAL CON EQUIPO | D39: m3 | E39: 190.63 | F39: =[4]PRESUPUESTO!$F$38 -> 7.0343928 | G39: =F39*E39 -> 1340.9663
B40: 01.04.02.03 | C40: PERFILADO Y COMPACTACIÓN EN ZONA DE CORTE | D40: m2 | E40: 550.48821 | F40: =[4]PRESUPUESTO!$F$39 -> 2.8450377 | G40: =F40*E40 -> 1566.1597
B41: 01.04.02.04 | C41: CONFORMACIÓN DE CUERPO DE DIQUE | D41: m3 | E41: 206.76 | F41: =[4]PRESUPUESTO!$F$40 -> 30.024547 | G41: =F41*E41 -> 6207.8754
B42: 01.04.02.05 | C42: CONFORMACIÓN DE MATERIAL GRANULAR EN CORONA DE DIQUE | D42: m3 | E42: 47.07 | F42: =[4]PRESUPUESTO!$F$41 -> 37.530684 | G42: =F42*E42 -> 1766.5693
B43: 01.04.02.06 | C43: GEOTEXTIL NO TEJIDO 400 G/M2, INC. COLOCACIÓN | D43: m2 | E43: 157.64806 | F43: =[4]PRESUPUESTO!$F$42 -> 17.052433 | G43: =F43*E43 -> 2688.283 | I43: =E44 -> 125.072
...

Sheet GG Y UTLIDAD
A5: GASTOS GENERALES Y UTILIDAD
A7: ='DATOS GENERALES'!D13 -> PROYECTO: | C7: SERVICIO DE CONSTRUCCIÓN DE DIQUES Y PROTECCIÓN DE TALUDES DE DIQUES CON ENROCADO DEL SECTOR 2 SUBPROYECTO A4 PAMPA DEL TORO
A8: ='DATOS GENERALES'!D16 -> CONTRATO: | C8: ='DATOS GENERALES'!G16 -> EJECUCION DE OBRA | F8: =PRESUPUESTO!F6 -> Fecha Pres. | G8: =PRESUPUESTO!G6 -> 44707
A9: DESCRIPCIÓN | F9: MONEDA NACIONAL
F10: S/. | G10: %
B12: 1.- | C12: COSTO DIRECTO | F12: =PRESUPUESTO!G78 -> 1052677.8
B15: GASTOS GENERALES
B17: A.- | C17: GASTOS FIJOS | F17: ='DESAGREGADO GG'!F25 -> 55201.062 | G17: =ROUND(F17/$F$12,8) -> 0.05243871
C18: No directamente relacionados con el tiempo
B20: B.- | C20: GASTOS VARIABLES | F20: ='DESAGREGADO GG'!F12 -> 369844.7 | G20: =ROUND(F20/$F$12,8) -> 0.35133704
C21: Directamente relacionados con el tiempo
B24: 2.- | C24: TOTAL DE GASTOS GENERALES | F24: =F20+F17 -> 425045.76 | G24: =ROUND(F24/F12,8) -> 0.40377574
B26: 3.- | C26: UTILIDAD | F26: =F12*G26 -> 105267.78 | G26: 0.1
B28: 4.- | C28: SUBTOTAL | F28: =ROUND(+F12+F24+F26,2) -> 1582991.4 | G28: =G24+G26 -> 0.50377574
B31: I.G.V. | F31: =ROUND(F28*G31,2) -> 284938.44 | G31: 0.18
B34: 5.- | C34: TOTAL PRESUPUESTO | F34: =SUM(F28:F31) -> 1867929.8
C38: PRESUPUESTO OFERTADO | F38: 41303138 | G38: =+F38/F38 -> 1 | J38: =+F38*1.5 -> 61954707
F41: 97037604
F43: =+F41-F34 -> 95169674

Sheet DESAGREGADO GG
B5: DESAGREGADO DE GASTOS GENERALES
B7: ='DATOS GENERALES'!D13 -> PROYECTO: | C7: ='DATOS GENERALES'!G13 -> DEFENSAS RIBEREÑAS DEL RIO LACRAMARCA - PAQUETE R-07 - QDA PAMPA DEL TORO
B8: ='DATOS GENERALES'!D16 -> CONTRATO: | C8: ='DATOS GENERALES'!G16 -> EJECUCION DE OBRA
B10: Item | C10: Descripción | D10: Incidencia | E10: Mon | F10: Parcial S/
B12: 1 | C12: GASTOS GENERALES VARIABLES | E12: S/ | F12: =SUM(F13:F23) -> 369844.7
C13: Remuneración de PERSONAL DE DIRECCIÓN | E13: S/ | F13: ='DETALLE GG'!L14 -> 124837.5
C14: Remuneración de PERSONAL DE APOYO | E14: S/ | F14: ='DETALLE GG'!L38 -> 32400
C15: FLOTA LIVIANA (Camionetas, VAN, Couster, Camiones de 4 ton) | E15: S/ | F15: ='DETALLE GG'!L44 -> 110328
C16: Equipos de Laboratorio | E16: S/ | F16: ='DETALLE GG'!L48 -> 2500
C17: Equipos de Topografía | E17: S/ | F17: ='DETALLE GG'!L50 -> 5250
C18: Equipos y Sotfware para sistema de comunicación | E18: S/ | F18: ='DETALLE GG'!L52 -> 11859.2
C19: Consumibles | E19: S/ | F19: ='DETALLE GG'!L57 -> 2250
C20: Exámenes Médicos | E20: S/ | F20: ='DETALLE GG'!L60 -> 16320
C21: Alojamiento, Alimentación, Lavandería & Agua para consumo | E21: S/ | F21: ='DETALLE GG'!L63 -> 31680
C22: Transporte de Personal a Obra | E22: S/ | F22: ='DETALLE GG'!L67 -> 3000
C23: Costos varios de la Mano de Obra de Construcción Civil (Obreros) | E23: S/ | F23: ='DETALLE GG'!L69 -> 29420
B25: 2 | C25: GASTOS GENERALES FIJOS | E25: S/ | F25: ='DETALLE GG'!L74 -> 55201.062
C26: Costos Financieros | E26: S/ | F26: ='DETALLE GG'!L74 -> 55201.062
B28: ** | C28: Sub-total GASTOS GENERALES S/ | E28: S/ | F28: =F25+F12 -> 425045.76
B30: Comentarios:

Sheet DETALLE GG
B7: DETALLE DEL GASTO GENERAL
B8: ='DATOS GENERALES'!D13 -> PROYECTO: | C8: ='DATOS GENERALES'!G13 -> DEFENSAS RIBEREÑAS DEL RIO LACRAMARCA - PAQUETE R-07 - QDA PAMPA DEL TORO
B9: ='DATOS GENERALES'!D16 -> CONTRATO: | C9: ='DATOS GENERALES'!G16 -> EJECUCION DE OBRA | I9: ='DATOS GENERALES'!D22 -> FECHA DE PRESENTACION DE OFERTTA: | L9: ='DATOS GENERALES'!G22 -> 44843
B11: *** Recursos *** | E11: *** Escala Temporal (meses) *** | I11: *** Costo *** | L11: Parcial S/ ( 5 ) = ( 1 ) * ( 4 )
B12: Item | C12: Descripción | D12: Unidad | E12: 1 | F12: =+E12+1 -> 2 | G12: =+F12+1 -> 3 | H12: Cantidad ( 1 ) | I12: Salario Básico S/ ( 2 ) / Costo recurso | J12: LL.SS. ( 3 ) | K12: Salario Bruto S/ ( 4 ) = ( 2 ) + ( 3 )
B13: A | C13: PERSONAL DE DIRECCIÓN Y APOYO DE OBRA | L13: =+SUM(L14,L38) -> 157237.5
B14: A.1 | C14: Remuneración de PERSONAL DE DIRECCIÓN | L14: =L15+L17+L20+L22+L26+L29+L31+L33+L36 -> 124837.5
B15: 1 | C15: Residencia de Proyecto | L15: =SUM(L16:L16) -> 19500
B16: 1.1 | C16: Residente de PROYECTO (PERSONAL CLAVE) | D16: H-mes | F16: 1 | H16: =+SUM(E16:G16) -> 1 | I16: 13000 | J16: =I16*0.5 -> 6500 | K16: =J16+I16 -> 19500 | L16: =H16*K16 -> 19500 | N16: =F16 -> 1
B17: 2 | C17: Gestión de la Seguridad, Medio Ambiente y Salud Ocupacional | L17: =SUM(L18:L19) -> 17250
B18: 2.1 | C18: Jefe de Seguridad, Salud y Medio Ambiente (PERSONAL CLAVE) | D18: H-mes | F18: 1 | H18: =+SUM(E18:G18) -> 1 | I18: 6500 | J18: =I18*0.5 -> 3250 | K18: =J18+I18 -> 9750 | L18: =H18*K18 -> 9750
B19: 2.2 | C19: Médico | D19: H-mes | F19: 1 | H19: =+SUM(E19:G19) -> 1 | I19: 5000 | J19: =I19*0.5 -> 2500 | K19: =J19+I19 -> 7500 | L19: =H19*K19 -> 7500 | N19: =SUM(F18:F19) -> 2
B20: 3 | C20: Administración de CONTRATOS | L20: =SUM(L21:L21) -> 9750
B21: 3.1 | C21: Administrador de Contratos / Contrato Principal | D21: H-mes | F21: 1 | H21: =+SUM(E21:G21) -> 1 | I21: 6500 | J21: =I21*0.5 -> 3250 | K21: =J21+I21 -> 9750 | L21: =H21*K21 -> 9750 | N21: =F21 -> 1
B22: 4 | C22: Gestión de OFICINA TÉCNICA & CONTROL DE PROYECTO | L22: =SUM(L23:L25) -> 23400
B23: 4.1 | C23: Ingeniero de Planeamiento (PERSONAL CLAVE) | D23: H-mes | F23: 1 | H23: =+SUM(E23:G23) -> 1 | I23: 6500 | J23: =I23*0.5 -> 3250 | K23: =J23+I23 -> 9750 | L23: =H23*K23 -> 9750
B24: 4.2 | C24: Topógrafos | D24: H-mes | E24: 0.3 | F24: 1 | H24: =+SUM(E24:G24) -> 1.3 | I24: 3500 | J24: =I24*0.5 -> 1750 | K24: =J24+I24 -> 5250 | L24: =H24*K24 -> 6825
B25: 4.3 | C25: Cadistas | D25: H-mes | E25: 0.3 | F25: 1 | H25: =+SUM(E25:G25) -> 1.3 | I25: 3500 | J25: =I25*0.5 -> 1750 | K25: =J25+I25 -> 5250 | L25: =H25*K25 -> 6825 | N25: =SUM(F23:F25) -> 3
B26: 5 | C26: Gestion de la Calidad | L26: =SUM(L27:L28) -> 15000
B27: 5.1 | C27: Jefe de Calidad (PERSONAL CLAVE) | D27: H-mes | F27: 1 | H27: =+SUM(E27:G27) -> 1 | I27: 6500 | J27: =I27*0.5 -> 3250 | K27: =J27+I27 -> 9750 | L27: =H27*K27 -> 9750
B28: 5.2 | C28: Técnico de Laboratorio | D28: H-mes | F28: 1 | H28: =+SUM(E28:G28) -> 1 | I28: 3500 | J28: =I28*0.5 -> 1750 | K28: =J28+I28 -> 5250 | L28: =H28*K28 -> 5250 | N28: =F28+F27 -> 2
B29: 6 | C29: Gestión de la Construcción | L29: =SUM(L30:L30) -> 9750
B30: 6.1 | C30: Ingeniero de Producción | D30: H-mes | F30: 1 | H30: =+SUM(E30:G30) -> 1 | I30: 6500 | J30: =I30*0.5 -> 3250 | K30: =J30+I30 -> 9750 | L30: =H30*K30 -> 9750 | N30: =F30 -> 1
B31: 7 | C31: Gestión de Relaciones Comunitarias | L31: =L32 -> 7875
B32: 7.1 | C32: Asistenta Social | D32: H-mes | E32: 0.5 | F32: 1 | H32: =+SUM(E32:G32) -> 1.5 | I32: 3500 | J32: =I32*0.5 -> 1750 | K32: =J32+I32 -> 5250 | L32: =H32*K32 -> 7875 | N32: =F32 -> 1
B33: 8 | C33: Administración | L33: =SUM(L34:L35) -> 15750
B34: 8.1 | C34: Administrador de Obra | D34: H-mes | E34: 0.5 | F34: 1 | H34: =+SUM(E34:G34) -> 1.5 | I34: 3500 | J34: =I34*0.5 -> 1750 | K34: =J34+I34 -> 5250 | L34: =H34*K34 -> 7875
B35: 8.2 | C35: Responsable de Recursos Humanos (RRHH) | D35: H-mes | E35: 0.5 | F35: 1 | H35: =+SUM(E35:G35) -> 1.5 | I35: 3500 | J35: =I35*0.5 -> 1750 | K35: =J35+I35 -> 5250 | L35: =H35*K35 -> 7875 | N35: =SUM(F34:F37) -> 3
B36: 9 | C36: Gestión de Equipos | L36: =SUM(L37:L37) -> 6562.5
B37: 9.1 | C37: Responsable de Equipos | D37: H-mes | E37: 0.25 | F37: 1 | H37: =+SUM(E37:G37) -> 1.25 | I37: 3500 | J37: =I37*0.5 -> 1750 | K37: =J37+I37 -> 5250 | L37: =H37*K37 -> 6562.5 | N37: =F37 -> 1 | O37: =SUM(N14:N37) -> 15
B38: A.2 | C38: Remuneración de PERSONAL DE APOYO | L38: =L39 -> 32400
B39: 1 | C39: Auxiliares | L39: =SUM(L40:L43) -> 32400
B40: 1.1 | C40: Auxiliares de administración | D40: H-mes | F40: 1 | H40: =+SUM(E40:G40) -> 1 | I40: 2400 | J40: =I40*0.5 -> 1200 | K40: =J40+I40 -> 3600 | L40: =H40*K40 -> 3600
B41: 1.2 | C41: Auxiliares de topografía | D41: H-mes | F41: 2 | H41: =+SUM(E41:G41) -> 2 | I41: 2400 | J41: =I41*0.5 -> 1200 | K41: =J41+I41 -> 3600 | L41: =H41*K41 -> 7200
B42: 1.3 | C42: Vigilancia | D42: H-mes | F42: 2 | H42: =+SUM(E42:G42) -> 2 | I42: 2400 | J42: =I42*0.5 -> 1200 | K42: =J42+I42 -> 3600 | L42: =H42*K42 -> 7200
B43: 1.4 | C43: Vigias (Peon) | D43: H-mes | F43: 4 | H43: =+SUM(E43:G43) -> 4 | I43: 2400 | J43: =I43*0.5 -> 1200 | K43: =J43+I43 -> 3600 | L43: =H43*K43 -> 14400 | N43: =SUM(H40:H43) -> 9 | O43: =N43+N46 -> 14
B44: B | C44: FLOTA LIVIANA (Camionetas, VAN, Couster, Camiones de 4 ton) | L44: =SUM(L45:L46) -> 110328
B45: 1.1 | C45: CAMIONETA PICK UP Doble cabina 4x4 (incluye chofer + B5) | D45: Veh-mes | E45: 2 | F45: 2 | H45: =+SUM(E45:G45) -> 4 | I45: =((1650*3.88)+(2400*1.5)+(15*30*16.5)) -> 17427 | K45: =J45+I45 -> 17427 | L45: =H45*K45 -> 69708
B46: 1.2 | C46: CISTERNA de Combustible de 2500 galones (incluye chofer + B5) | D46: Veh-mes | E46: 0.5 | F46: 1 | H46: =+SUM(E46:G46) -> 1.5 | I46: =((3500*3.88)+(2400*1.5)+(20*30*16.5)) -> 27080 | K46: =J46+I46 -> 27080 | L46: =H46*K46 -> 40620 | N46: 5
B47: C | C47: EQUIPOS DE LABORATORIO, COMUNICACIÓN Y SISTEMAS | L47: =L48+L50+L52 -> 19609.2
...

Sheet EPPS
A4: Implementos de Seguridad Profesionales y Técnicos | D4: Implementos de Seguridad Administrativo y Auxiliar | G4: Implementos de Seguridad Operadores | J4: Implementos de Seguridad Obreros
A6: EPP | B6: P.U | D6: EPP | E6: P.U | G6: EPP | H6: P.U | J6: EPP | K6: P.U
A7: CASCO | B7: 47 | D7: CASCO | E7: 47 | G7: CASCO | H7: 47 | J7: CASCO | K7: 47
A8: BARBIQUEJO | B8: 2 | D8: BARBIQUEJO | E8: 2 | G8: BARBIQUEJO | H8: 2 | J8: BARBIQUEJO | K8: 2
A9: TAPONES AUDITIVOS | B9: 1.5 | D9: TAPONES AUDITIVOS | E9: 1.5 | G9: TAPONES AUDITIVOS | H9: 1.5 | J9: TAPONES AUDITIVOS | K9: 1.5
A10: PANTALON | B10: 40 | D10: PANTALON | E10: 40 | G10: PANTALON | H10: 40 | J10: PANTALON | K10: 40
A11: CAMISA | B11: 60 | D11: CAMISA | E11: 60 | G11: CAMISA | H11: 0 | J11: CAMISA | K11: 0
A12: POLO MANGA LARGA | B12: 0 | D12: POLO MANGA LARGA | E12: 0 | G12: POLO MANGA LARGA | H12: 21 | J12: POLO MANGA LARGA | K12: 21
A13: BOTAS PUNTA DE ACERO | B13: 99.9 | D13: BOTAS PUNTA DE ACERO | E13: 99.9 | G13: BOTAS PUNTA DE ACERO | H13: 99.9 | J13: BOTAS PUNTA DE ACERO | K13: 99.9
A14: GUANTES | B14: 12.2 | D14: GUANTES | E14: 12.2 | G14: GUANTES | H14: 12.2 | J14: GUANTES | K14: 12.2
A15: LENTES .OSCUROS | B15: 5.5 | D15: LENTES .OSCUROS | E15: 5.5 | G15: LENTES .OSCUROS | H15: 5.5 | J15: LENTES .OSCUROS | K15: 5.5
A16: LENTES BLANCOS | B16: 5.5 | D16: LENTES BLANCOS | E16: 5.5 | G16: LENTES BLANCOS | H16: 5.5 | J16: LENTES BLANCOS | K16: 5.5
A17: CORTAVIENTOS | B17: 7 | D17: CORTAVIENTOS | E17: 7 | G17: CORTAVIENTOS | H17: 7 | J17: CORTAVIENTOS | K17: 7
A18: MASCARILLA KM95 CAJA | B18: 66 | D18: MASCARILLA KM95 CAJA | E18: 66 | G18: MASCARILLA KM95 CAJA | H18: 66 | J18: MASCARILLA KM95 CAJA | K18: 66
B19: =SUM(B7:B18) -> 346.6 | E19: =SUM(E7:E18) -> 346.6 | H19: =SUM(H7:H18) -> 307.6 | K19: =SUM(K7:K18) -> 307.6
A20: *No incluye IGV
