Workbook
Name a: [1]Compra_54MOD!#REF!
Name a: [1]Compra_54MOD!#REF!
Name a: [1]Compra_54MOD!#REF!
Name a: [1]Compra_54MOD!#REF!
Name a: [1]Compra_54MOD!#REF!
Name a: [1]Compra_54MOD!#REF!
Name CALPH: [2]SHEET1!$M$1:$M$4
Name CBNPR: [2]SHEET1!$X$1:$X$4
Name CDCTO: [2]SHEET1!$B$1:$B$4
Name CDOCO: [2]SHEET1!$C$1:$C$4
Name CDSC1: [2]SHEET1!$E$1:$E$4
Name CDSC2: [2]SHEET1!$F$1:$F$4
Name CKCOO: [2]SHEET1!$A$1:$A$4
Name CPDDJ: [2]SHEET1!$S$1:$S$4
Name CPRRC: [2]SHEET1!$Q$1:$Q$4
Name CPTC: [2]SHEET1!$W$1:$W$4
Name CUM: [2]SHEET1!$G$1:$G$4
Name CUORG: [2]SHEET1!$I$1:$I$4
Name pag_2: [3]Compra_5!$B$69
Name pag_3: [3]Compra_5!$B$132
Name Print_Area: CONSOLIDADO!$A$1:$M$39
Name Print_Area: DETALLADO!$A$1:$M$41
Name Q: [4]OC215!#REF!
Name Q: [4]OC215!#REF!
Name Q: [4]OC215!#REF!
Name SP: [4]OC215!#REF!
Name total: [4]OC215!#REF!
Name total: [4]OC215!#REF!
Name total: [4]OC215!#REF!
Name total: [4]OC215!#REF!
Name total: [4]OC215!#REF!
Name total: [4]OC215!#REF!
Name total1: [3]Compra_1!$I$311
Name total10: [3]Compra_10!$I$59
Name total100: [4]OC215!#REF!
Name total100: [4]OC215!#REF!
Name total100: [4]OC215!#REF!
Name total100: [4]OC215!#REF!
Name total100: [4]OC215!#REF!
Name total100: [4]OC215!#REF!
Name total11: [3]Compra_11!$I$161
Name total12: [3]Compra_12!$I$36
Name total13: [3]Compra_13!$I$36
Name total14: [3]Compra_14!$I$32
Name total15: [3]Compra_15!$I$33
Name total16: [5]Compra_16!$I$33
Name total17: [5]Compra_17!$I$47
Name total18: [5]Compra_18!$I$44
Name total19: [5]Compra_19!$I$58
Name total1AMP: [3]Compra_1AMP!$I$36
Name total1MOD: [3]Compra_1MOD!$G$141
Name total2: [3]Compra_2!$I$53
Name total20: [5]Compra_20!$I$34
Name total21: [5]Compra_21!$I$35
Name total22: [5]Compra_22!$I$106
Name total23: [5]Compra_23!$I$101
Name total24: [5]Compra_24!$I$102
Name total25: [5]Compra_25!$I$36
Name total26: [5]Compra_26!$I$102
Name total27: [5]Compra_27!$I$105

Sheet CONSOLIDADO
F1: PLANTILLA DE PRESUPUESTO
L3: RV.00
L4: Fecha de versión
A5: Obra: Defensas Ribereñas Río Lacramarca
A6: Dirección: Nuevo Chimbote - Ancash
A7: DATOS DEL OFERTANTE:
A8: Razon Social: | E8: GRUPO L&S SERVICIOS EMPRESARIALES SAC
A9: Domicilio: | E9: AV PANORAMICA S/N - TERCERA CUADRA
A10: Teléfono/Fax: | E10: 942427829
A11: Contacto: | E11: LIZ LEON
L12: FECHA LIMITE ENTREGA OFERTA: | M12: 45503
A13: ITEM | B13: U/M | C13: MES | D13: CANTIDAD | F13: DESCRIPCION | L13: Prec. Unit. | M13: Prec. Total
A14: SERVICIO DE VIGILANCIA
F15: Personal
B16: mes | C16: 12 | D16: 2 | F16: Supervisor con arma | L16: =+SUPERVISOR!C38 -> 4268.3572 | M16: =+L16*D16*C16 -> 102440.57
B17: mes | C17: 12 | D17: 6 | F17: Agente con Armas | L17: =+'AGENTE CON ARMA'!C38 -> 3983.8 | M17: =+L17*D17*C17 -> 286833.6
B18: mes | C18: 12 | D18: 2 | F18: Agente conductor sin Armas | L18: =+'AGENTE CONDUCTOR'!C38 -> 3699.2429 | M18: =+L18*D18*C18 -> 88781.829
B19: mes | C19: 12 | D19: 9 | F19: Agente sin Armas | L19: =+'AGENTE SIN ARMA'!C38 -> 3194.4554 | M19: =+L19*D19*C19 -> 345001.18
F20: Recursos y Equipos
B21: glb | C21: 1 | D21: 1 | F21: Materiales, Herramienta de campo | M21: ='MATERIALES '!C13+36270.4 -> 42164.4
B22: glb | C22: 1 | D22: 1 | F22: Equipos informaticos, GPS, impresiones | M22: ='EQUIPOS INFORMATICOS'!F8+28734.01 -> 30204.01
B23: mes | C23: 12 | D23: 1 | F23: Camioneta 4x4 (incluye mantenimiento) | L23: =CAMIONETA!F8 -> 9300 | M23: =+L23*D23*C23 -> 111600
B24: glb | C24: 1 | D24: 1 | F24: Epps y Señaletica | M24: ='EPPS '!F13+28734.01 -> 34514.01
B25: glb | C25: 1 | D25: 1 | F25: Uniformes | M25: =UNIFORMES!C15+28734.01 -> 41916.57
F26: Alimentacion
B27: glb | C27: 1 | D27: 1 | F27: Alimentacion del personal | L27: =+ALIMENTACION!D8 -> 102600 | M27: =+L27*C27 -> 102600
F28: Seguros
B29: mes | C29: 12 | D29: 19 | F29: Póliza SCTR Salud | L29: =+POLIZAS!I3 -> 8.73 | M29: =+L29*D29*C29 -> 1990.44
B30: mes | C30: 12 | D30: 19 | F30: Póliza SCTR Pensión | L30: =+POLIZAS!I4 -> 16.57 | M30: =+L30*D30*C30 -> 3777.96
B31: mes | C31: 12 | D31: 19 | F31: Vida Ley | L31: =+POLIZAS!I5 -> 6.15 | M31: =+L31*D31*C31 -> 1402.2
B32: mes | C32: 12 | D32: 19 | F32: Seguro de resonsabilida Civil | L32: =+POLIZAS!I6 -> 13.305432 | M32: =+L32*D32*C32 -> 3033.6384
B33: mes | C33: 12 | D33: 19 | F33: Poliza de Deshonestidad | L33: =+POLIZAS!I7 -> 16.392758 | M33: =+L33*D33*12 -> 3737.5488
A34: COSTO DIRECTO | M34: =SUM(M15:M33) -> 1199998
A35: SUB TOTAL | M35: =SUM(M34:M34) -> 1199998
A36: IGV | L36: 0.18 | M36: =IF(M35="","",+M35*L36) -> 215999.63
A37: IMPORTE TOTAL | M37: =IF(M36="","",+M36+M35) -> 1415997.6
A41: CONDICIONES GENERALES:
A43: DESCRIPCION | F43: SOLICITADO | I43: OFERTADO
A44: FORMA DE PAGO | F44: VALORIZACION MENSUAL A 30 DÍAS | I44: =+F44 -> VALORIZACION MENSUAL A 30 DÍAS
A45: MONEDA | F45: SOLES | I45: SOLES
...

Sheet DETALLADO
F1: PLANTILLA DE PRESUPUESTO
L3: RV.00
L4: Fecha de versión
A5: Obra: Defensas Ribereñas Río Lacramarca
A6: Dirección: Nuevo Chimbote - Ancash
A7: DATOS DEL OFERTANTE:
A8: Razon Social: | E8: GRUPO L&S SERVICIOS EMPRESARIALES SAC
A9: Domicilio: | E9: AV PANORAMICA S/N - TERCERA CUADRA
A10: Teléfono/Fax: | E10: 942427829
A11: Contacto: | E11: LIZ LEON
L12: FECHA LIMITE ENTREGA OFERTA: | M12: 45503
A13: ITEM | B13: U/M | C13: MES | D13: CANTIDAD | F13: DESCRIPCION | L13: Prec. Unit. | M13: Prec. Total
A14: SERVICIO DE VIGILANCIA
F15: Personal
B16: mes | C16: 12 | D16: 2 | F16: Supervisor con arma | L16: =+SUPERVISOR!C38 -> 4268.3572 | M16: =+L16*D16*C16 -> 102440.57
B17: mes | C17: 12 | D17: 6 | F17: Agente con Armas | L17: =+'AGENTE CON ARMA'!C38 -> 3983.8 | M17: =+L17*D17*C17 -> 286833.6
B18: mes | C18: 12 | D18: 2 | F18: Agente conductor sin Armas | L18: =+'AGENTE CONDUCTOR'!C38 -> 3699.2429 | M18: =+L18*D18*C18 -> 88781.829
B19: mes | C19: 12 | D19: 9 | F19: Agente sin Armas | L19: =+'AGENTE SIN ARMA'!C38 -> 3194.4554 | M19: =+L19*D19*C19 -> 345001.18
F20: Recursos y Equipos
B21: glb | C21: 1 | D21: 1 | F21: Materiales, Herramienta de campo | M21: ='MATERIALES '!C13 -> 5894
B22: glb | C22: 1 | D22: 1 | F22: Equipos informaticos, GPS, impresiones | M22: ='EQUIPOS INFORMATICOS'!F8 -> 1470
B23: mes | C23: 12 | D23: 1 | F23: Camioneta 4x4 (incluye mantenimiento) | L23: =CAMIONETA!F8 -> 9300 | M23: =+L23*D23*C23 -> 111600
B24: glb | C24: 1 | D24: 1 | F24: Epps y Señaletica | M24: ='EPPS '!F13 -> 5780
B25: glb | C25: 1 | D25: 1 | F25: Uniformes | M25: =UNIFORMES!C15 -> 13182.56
F26: Alimentacion
B27: glb | C27: 1 | D27: 1 | F27: Alimentacion del personal | L27: =+ALIMENTACION!D8 -> 102600 | M27: =+L27*C27 -> 102600
F28: Seguros
B29: mes | C29: 12 | D29: 19 | F29: Póliza SCTR Salud | L29: =+POLIZAS!I3 -> 8.73 | M29: =+L29*D29*C29 -> 1990.44
B30: mes | C30: 12 | D30: 19 | F30: Póliza SCTR Pensión | L30: =+POLIZAS!I4 -> 16.57 | M30: =+L30*D30*C30 -> 3777.96
B31: mes | C31: 12 | D31: 19 | F31: Vida Ley | L31: =+POLIZAS!I5 -> 6.15 | M31: =+L31*D31*C31 -> 1402.2
B32: mes | C32: 12 | D32: 19 | F32: Seguro de resonsabilida Civil | L32: =+POLIZAS!I6 -> 13.305432 | M32: =+L32*D32*C32 -> 3033.6384
B33: mes | C33: 12 | D33: 19 | F33: Poliza de Deshonestidad | L33: =+POLIZAS!I7 -> 16.392758 | M33: =+L33*D33*12 -> 3737.5488
A34: COSTO DIRECTO | M34: =SUM(M15:M33) -> 1077525.5
B35: GLB | D35: 1 | E35: GASTOS GENERALES | L35: =+'GASTOS GENERALES'!B10 -> 36270.4 | M35: =IF(L35="","",+L35*D35) -> 36270.4
B36: GLB | D36: 1 | E36: UTILIDADES | L36: =+M34*8% -> 86202.042 | M36: =IF(L36="","",+L36*D36) -> 86202.042
A37: SUB TOTAL | M37: =SUM(M34:M36) -> 1199998
A38: IGV | L38: 0.18 | M38: =IF(M37="","",+M37*L38) -> 215999.64
A39: IMPORTE TOTAL | M39: =IF(M38="","",+M38+M37) -> 1415997.6
A43: CONDICIONES GENERALES:
A45: DESCRIPCION | F45: SOLICITADO | I45: OFERTADO
...

Sheet SUPERVISOR
A1: ANEXO A1
A2: ESTRUCTURA DE COSTOS MENSUAL DE LUNES A DOMINGO
A3: SERVICIO DE VIGILANCIA PRIVADA
A4: (En Soles)
C5: SUPERVISOR
A6: Descripción | B6: % | C6: 12hrs Día | D6: 12hrs Noche
A7: Remuneración
A8: Remuneración Mínima Mensual (RMM) | C8: 1500 | D8: 1500
A9: Asignación Familiar (10% RMV) o Bonificación | B9: 10 | C9: =0.1*C8 -> 150 | D9: =0.1*D8 -> 150
A10: Otras cargas laborales (Detallar todos los conceptos)
A11: * Bonificación Nocturna de RMM (RMM de 30 días)*0.35 | B11: 35 | C11: 0 | D11: =D8*0.35 -> 525
A12: * Horas Extras dos primeras | B12: 25 | C12: =(((C8+C9)/30)/8)*1.25*2*20 -> 343.75 | D12: =(((D8+D9+D11)/30)/8)*1.25*2*20 -> 453.125
A13: * Horas Extras restantes | B13: 35 | C13: =(((C8+C9)/30)/8)*1.35*2*20 -> 371.25 | D13: =(((D8+D9+D11)/30)/8)*1.35*2*20 -> 489.375
A14: Sub total de Remuneración | C14: =SUM(C8:C13) -> 2365 | D14: =SUM(D8:D13) -> 3117.5
A15: Feriados (RMM /30dias/8horas*2*12h.d.) | C15: =+((C8/30)/8*2)*12 -> 150 | D15: =+((D8/30)/8*2)*12 -> 150
A16: Descansero () | C16: =C14*(1/6) -> 394.16667 | D16: =D14*(1/6) -> 519.58333
A17: A. Remuneración Total | C17: =SUM(C14:C16) -> 2909.1667 | D17: =SUM(D14:D16) -> 3787.0833
A18: B. Vacaciones de (A) (Corresponde 1 mes al año = 1/12 - 8.33%) | B18: 8.33 | C18: =+C17*$B$18/100/2 -> 121.16679 | D18: =+D17*$B$18/100/2 -> 157.73202
A19: C. Gratificaciones de (A) (En Julio - Diciembre, 1 vez por semestre = 1/6 = 16.67%) | B19: 16.67 | C19: =+C17*$B$19/100/2 -> 242.47904 | D19: =+D17*$B$19/100/2 -> 315.6534
A20: Bonificacion Extraordinaria (LEY Nº 30334) | B20: 9 | C20: =+C19*$B$20/100 -> 21.823114 | D20: =+D19*$B$20/100 -> 28.408806
A21: D. CTS de ( A) | B21: 9.72 | C21: =+C17*$B$21/100/2 -> 141.3855 | D21: =+D17*$B$21/100/2 -> 184.05225
A22: Total a pagar al personal | C22: =SUM(C17:C21) -> 3436.0211 | D22: =SUM(D17:D21) -> 4472.9298
A23: Aportes de la empresa (Leyes Sociales)
A24: Aportes ESSALUD de (A+B) | B24: 9 | C24: =+(C17+C18)*$B$24/100 -> 272.73001 | D24: =+(D17+D18)*$B$24/100 -> 355.03338
A25: S.C.T.R. de (A+B) | B25: 1.5
A26: Costo Total de personal | C26: =SUM(C22:C25) -> 3708.7511 | D26: =SUM(D22:D25) -> 4827.9632
A27: Uniformes, equipos y suministros relacionados
A28: Poliza de seguros, Carta Fianza, etc.
A29: Otros Gastos Operativos (carnet, licencia, alimentacion,etc.)
A30: Gastos COVID-19 (Mascarillas y pruebas Serológicas) (**)
A31: SUB TOTAL COSTO POR PUESTO | C31: =SUM(C26:C30) -> 3708.7511 | D31: =SUM(D26:D30) -> 4827.9632
A32: Gastos Administrativos
A33: Utilidad
A34: Monto Total antes de IGV | C34: =SUM(C31:C33) -> 3708.7511 | D34: =SUM(D31:D33) -> 4827.9632
A35: IGV (18%)
A36: COSTO TOTAL POR PUESTO 12 H. INC. I.G.V. S/. | C36: =SUM(C34:C35) -> 3708.7511 | D36: =SUM(D34:D35) -> 4827.9632
A37: COSTO TOTAL POR PUESTO 24 H. INC. I.G.V. S/. | C37: =SUM(C36:D36) -> 8536.7143
A38: PRECIO UNITARIO | C38: =+C37/2 -> 4268.3572

Sheet AGENTE CONDUCTOR
A1: ANEXO A1
A2: ESTRUCTURA DE COSTOS MENSUAL DE LUNES A DOMINGO
A3: SERVICIO DE VIGILANCIA PRIVADA
A4: (En Soles)
C5: AGENTE CONDUCTOR
A6: Descripción | B6: % | C6: 12hrs Día | D6: 12hrs Noche
A7: Remuneración
A8: Remuneración Mínima Mensual (RMM) | C8: 1300 | D8: 1300
A9: Asignación Familiar (10% RMV) o Bonificación | B9: 10 | C9: =0.1*C8 -> 130 | D9: =0.1*D8 -> 130
A10: Otras cargas laborales (Detallar todos los conceptos)
A11: * Bonificación Nocturna de RMM (RMM de 30 días)*0.35 | B11: 35 | C11: 0 | D11: =D8*0.35 -> 455
A12: * Horas Extras dos primeras | B12: 25 | C12: =(((C8+C9)/30)/8)*1.25*2*20 -> 297.91667 | D12: =(((D8+D9+D11)/30)/8)*1.25*2*20 -> 392.70833
A13: * Horas Extras restantes | B13: 35 | C13: =(((C8+C9)/30)/8)*1.35*2*20 -> 321.75 | D13: =(((D8+D9+D11)/30)/8)*1.35*2*20 -> 424.125
A14: Sub total de Remuneración | C14: =SUM(C8:C13) -> 2049.6667 | D14: =SUM(D8:D13) -> 2701.8333
A15: Feriados (RMM /30dias/8horas*2*12h.d.) | C15: =+((C8/30)/8*2)*12 -> 130 | D15: =+((D8/30)/8*2)*12 -> 130
A16: Descansero () | C16: =+C14/6 -> 341.61111 | D16: =+D14/6 -> 450.30556
A17: A. Remuneración Total | C17: =SUM(C14:C16) -> 2521.2778 | D17: =SUM(D14:D16) -> 3282.1389
A18: B. Vacaciones de (A) (Corresponde 1 mes al año = 1/12 - 8.33%) | B18: 8.33 | C18: =+C17*$B$18/100/2 -> 105.01122 | D18: =+D17*$B$18/100/2 -> 136.70108
A19: C. Gratificaciones de (A) (En Julio - Diciembre, 1 vez por semestre = 1/6 = 16.67%) | B19: 16.67 | C19: =+C17*$B$19/100/2 -> 210.1485 | D19: =+D17*$B$19/100/2 -> 273.56628
A20: Bonificacion Extraordinaria (LEY Nº 30334) | B20: 9 | C20: =+C19*$B$20/100 -> 18.913365 | D20: =+D19*$B$20/100 -> 24.620965
A21: D. CTS de ( A) | B21: 9.72 | C21: =+C17*$B$21/100/2 -> 122.5341 | D21: =+D17*$B$21/100/2 -> 159.51195
A22: Total a pagar al personal | C22: =SUM(C17:C21) -> 2977.885 | D22: =SUM(D17:D21) -> 3876.5392
A23: Aportes de la empresa (Leyes Sociales)
A24: Aportes ESSALUD de (A+B) | B24: 9 | C24: =+(C17+C18)*$B$24/100 -> 236.36601 | D24: =+(D17+D18)*$B$24/100 -> 307.6956
A25: S.C.T.R. de (A+B) | B25: 1.5
A26: Costo Total de personal | C26: =SUM(C22:C25) -> 3214.251 | D26: =SUM(D22:D25) -> 4184.2348
A27: Uniformes, equipos y suministros relacionados
A28: Poliza de seguros, Carta Fianza, etc.
A29: Otros Gastos Operativos (carnet, licencia, alimentacion,etc.)
A30: Gastos COVID-19 (Mascarillas y pruebas Serológicas) (**)
A31: SUB TOTAL COSTO POR PUESTO | C31: =SUM(C26:C30) -> 3214.251 | D31: =SUM(D26:D30) -> 4184.2348
A32: Gastos Administrativos
A33: Utilidad
A34: Monto Total antes de IGV | C34: =SUM(C31:C33) -> 3214.251 | D34: =SUM(D31:D33) -> 4184.2348
A35: IGV (18%)
A36: COSTO TOTAL POR PUESTO 12 H. INC. I.G.V. S/. | C36: =SUM(C34:C35) -> 3214.251 | D36: =SUM(D34:D35) -> 4184.2348
A37: COSTO TOTAL POR PUESTO 24 H. INC. I.G.V. S/. | C37: =SUM(C36:D36) -> 7398.4857
A38: PRECIO UNITARIO | C38: =+C37/2 -> 3699.2429

Sheet AGENTE CON ARMA
A1: ANEXO A1
A2: ESTRUCTURA DE COSTOS MENSUAL DE LUNES A DOMINGO
A3: SERVICIO DE VIGILANCIA PRIVADA
A4: (En Soles)
C5: AGENTE ARMADO
A6: Descripción | B6: % | C6: 12hrs Día | D6: 12hrs Noche
A7: Remuneración
A8: Remuneración Mínima Mensual (RMM) | C8: 1400 | D8: 1400
A9: Asignación Familiar (10% RMV) o Bonificación | B9: 10 | C9: =0.1*C8 -> 140 | D9: =0.1*D8 -> 140
A10: Otras cargas laborales (Detallar todos los conceptos)
A11: * Bonificación Nocturna de RMM (RMM de 30 días)*0.35 | B11: 35 | C11: 0 | D11: =D8*0.35 -> 490
A12: * Horas Extras dos primeras | B12: 25 | C12: =(((C8+C9)/30)/8)*1.25*2*20 -> 320.83333 | D12: =(((D8+D9+D11)/30)/8)*1.25*2*20 -> 422.91667
A13: * Horas Extras restantes | B13: 35 | C13: =(((C8+C9)/30)/8)*1.35*2*20 -> 346.5 | D13: =(((D8+D9+D11)/30)/8)*1.35*2*20 -> 456.75
A14: Sub total de Remuneración | C14: =SUM(C8:C13) -> 2207.3333 | D14: =SUM(D8:D13) -> 2909.6667
A15: Feriados (RMM /30dias/8horas*2*12h.d.) | C15: =+((C8/30)/8*2)*12 -> 140 | D15: =+((D8/30)/8*2)*12 -> 140
A16: Descansero () | C16: =+C14/6 -> 367.88889 | D16: =+D14/6 -> 484.94444
A17: A. Remuneración Total | C17: =SUM(C14:C16) -> 2715.2222 | D17: =SUM(D14:D16) -> 3534.6111
A18: B. Vacaciones de (A) (Corresponde 1 mes al año = 1/12 - 8.33%) | B18: 8.33 | C18: =+C17*$B$18/100/2 -> 113.08901 | D18: =+D17*$B$18/100/2 -> 147.21655
A19: C. Gratificaciones de (A) (En Julio - Diciembre, 1 vez por semestre = 1/6 = 16.67%) | B19: 16.67 | C19: =+C17*$B$19/100/2 -> 226.31377 | D19: =+D17*$B$19/100/2 -> 294.60984
A20: Bonificacion Extraordinaria (LEY Nº 30334) | B20: 9 | C20: =+C19*$B$20/100 -> 20.36824 | D20: =+D19*$B$20/100 -> 26.514885
A21: D. CTS de ( A) | B21: 9.72 | C21: =+C17*$B$21/100/2 -> 131.9598 | D21: =+D17*$B$21/100/2 -> 171.7821
A22: Total a pagar al personal | C22: =SUM(C17:C21) -> 3206.953 | D22: =SUM(D17:D21) -> 4174.7345
A23: Aportes de la empresa (Leyes Sociales)
A24: Aportes ESSALUD de (A+B) | B24: 9 | C24: =+(C17+C18)*$B$24/100 -> 254.54801 | D24: =+(D17+D18)*$B$24/100 -> 331.36449
A25: S.C.T.R. de (A+B) | B25: 1.5
A26: Costo Total de personal | C26: =SUM(C22:C25) -> 3461.5011 | D26: =SUM(D22:D25) -> 4506.099
A27: Uniformes, equipos y suministros relacionados
A28: Poliza de seguros, Carta Fianza, etc.
A29: Otros Gastos Operativos (carnet, licencia, alimentacion,etc.)
A30: Gastos COVID-19 (Mascarillas y pruebas Serológicas) (**)
A31: SUB TOTAL COSTO POR PUESTO | C31: =SUM(C26:C30) -> 3461.5011 | D31: =SUM(D26:D30) -> 4506.099
A32: Gastos Administrativos
A33: Utilidad
A34: Monto Total antes de IGV | C34: =SUM(C31:C33) -> 3461.5011 | D34: =SUM(D31:D33) -> 4506.099
A35: IGV (18%)
A36: COSTO TOTAL POR PUESTO 12 H. INC. I.G.V. S/. | C36: =SUM(C34:C35) -> 3461.5011 | D36: =SUM(D34:D35) -> 4506.099
A37: COSTO TOTAL POR PUESTO 24 H. INC. I.G.V. S/. | C37: =SUM(C36:D36) -> 7967.6
A38: PRECIO UNITARIO | C38: =+C37/2 -> 3983.8

Sheet AGENTE SIN ARMA
A1: ANEXO A1
A2: ESTRUCTURA DE COSTOS MENSUAL DE LUNES A DOMINGO
A3: SERVICIO DE VIGILANCIA PRIVADA
A4: (En Soles)
C5: AGENTE SIN ARMA
A6: Descripción | B6: % | C6: 12hrs Día | D6: 12hrs Noche
A7: Remuneración
A8: Remuneración Mínima Mensual (RMM) | C8: 1300 | D8: 1300
A9: Asignación Familiar (10% RMV) o Bonificación | B9: 10 | C9: =0.1*C8 -> 130 | D9: =0.1*D8 -> 130
A10: Otras cargas laborales (Detallar todos los conceptos)
A11: * Bonificación Nocturna de RMM (RMM de 30 días)*0.35 | B11: 35 | C11: 0 | D11: =D8*0.35 -> 455
A12: * Horas Extras dos primeras | B12: 25 | C12: =(((C8+C9)/30)/8)*1.25*2*20 -> 297.91667 | D12: =(((D8+D9+D11)/30)/8)*1.25*2*20 -> 392.70833
A13: * Horas Extras restantes | B13: 35 | C13: =(((C8+C9)/30)/8)*1.35*2*20 -> 321.75 | D13: =(((D8+D9+D11)/30)/8)*1.35*2*20 -> 424.125
A14: Sub total de Remuneración | C14: =SUM(C8:C13) -> 2049.6667 | D14: =SUM(D8:D13) -> 2701.8333
A15: Feriados (RMM /30dias/8horas*2*12h.d.) | C15: =+((C8/30)/8*2)*12 -> 130 | D15: =+((D8/30)/8*2)*12 -> 130
A16: Descansero ()
A17: A. Remuneración Total | C17: =SUM(C14:C16) -> 2179.6667 | D17: =SUM(D14:D16) -> 2831.8333
A18: B. Vacaciones de (A) (Corresponde 1 mes al año = 1/12 - 8.33%) | B18: 8.33 | C18: =+C17*$B$18/100/2 -> 90.783117 | D18: =+D17*$B$18/100/2 -> 117.94586
A19: C. Gratificaciones de (A) (En Julio - Diciembre, 1 vez por semestre = 1/6 = 16.67%) | B19: 16.67 | C19: =+C17*$B$19/100/2 -> 181.67522 | D19: =+D17*$B$19/100/2 -> 236.03331
A20: Bonificacion Extraordinaria (LEY Nº 30334) | B20: 9 | C20: =+C19*$B$20/100 -> 16.35077 | D20: =+D19*$B$20/100 -> 21.242998
A21: D. CTS de ( A) | B21: 9.72 | C21: =+C17*$B$21/100/2 -> 105.9318 | D21: =+D17*$B$21/100/2 -> 137.6271
A22: Total a pagar al personal | C22: =SUM(C17:C21) -> 2574.4076 | D22: =SUM(D17:D21) -> 3344.6826
A23: Aportes de la empresa (Leyes Sociales)
A24: Aportes ESSALUD de (A+B) | B24: 9 | C24: =+(C17+C18)*$B$24/100 -> 204.34048 | D24: =+(D17+D18)*$B$24/100 -> 265.48013
A25: S.C.T.R. de (A+B) | B25: 1.5
A26: Costo Total de personal | C26: =SUM(C22:C25) -> 2778.748 | D26: =SUM(D22:D25) -> 3610.1627
A27: Uniformes, equipos y suministros relacionados
A28: Poliza de seguros, Carta Fianza, etc.
A29: Otros Gastos Operativos (carnet, licencia, alimentacion,etc.)
A30: Gastos COVID-19 (Mascarillas y pruebas Serológicas) (**)
A31: SUB TOTAL COSTO POR PUESTO | C31: =SUM(C26:C30) -> 2778.748 | D31: =SUM(D26:D30) -> 3610.1627
A32: Gastos Administrativos
A33: Utilidad
A34: Monto Total antes de IGV | C34: =SUM(C31:C33) -> 2778.748 | D34: =SUM(D31:D33) -> 3610.1627
A35: IGV (18%)
A36: COSTO TOTAL POR PUESTO 12 H. INC. I.G.V. S/. | C36: =SUM(C34:C35) -> 2778.748 | D36: =SUM(D34:D35) -> 3610.1627
A37: COSTO TOTAL POR PUESTO 24 H. INC. I.G.V. S/. | C37: =SUM(C36:D36) -> 6388.9108
A38: PRECIO UNITARIO | C38: =+C37/2 -> 3194.4554

Sheet MATERIALES 
B2: MATERIALES
C3: S/.
B4: Un (03) Detector de metales (Garret). | C4: =250*2 -> 500
B5: Un (04) Linterna de mano (en perfecto estado, con baterías recargables, largo alcance mínimo de 50 metros). | C5: =120*4 -> 480
B6: Un (01) par de binoculares de largo alcance (Mínimo 01 Km) | C6: =150*2 -> 300
B7: Un (12) Silbato | C7: 24
B8: Un (04) equipo celular móvil con cámara y acceso a internet. | C8: =600*4 -> 2400
B9: Un (01) equipo Radio / Medio de Comunicación (de forma permanente) | C9: 1200
B10: GARITA | C10: 350
B11: CUADERNOS | C11: 220
B12: UTILES DE ESCRITORIO ( LAPICEROS, PAPELERIA, REGLAS, ETC) | C12: 420
B13: TOTAL ANUAL | C13: =SUM(C4:C12) -> 5894
B14: PU MES | C14: =+C13/12 -> 491.16667

Sheet EQUIPOS INFORMATICOS
C3: EQUIPOS INFORMATICOS, GPS
C5: 2 CAMARAS | F5: =700*2 -> 1400
C6: IMPRESIONES MANUALES | F6: 70
D8: TOTAL ANUAL | F8: =SUM(F5:F6) -> 1470

Sheet CAMIONETA
C3: CAMIONETA
C5: CAMIONETA PICK UP 4X4 | F5: =240*30 -> 7200
C6: COMBUSTIBLE | F6: =70*30 -> 2100
C8: TOTAL | F8: =+F5+F6 -> 9300

Sheet EPPS 
B2: EPPS
F3: 1ER SEMESTRE | G3: 2DO SEMESTRE
B4: CASCO TRIDENTE | F4: =45*13 -> 585 | G4: =+F4 -> 585
B5: BOTAS DE SEGURIDAD PUNTA DE ACERO SEGPRO | F5: =90*12 -> 1080 | G5: =+F5 -> 1080
B6: CHALECOS DRILL | F6: =65*12 -> 780 | G6: =+F6 -> 780
B7: BARBIQUEJO | F7: =6*13 -> 78 | G7: =+F7 -> 78
B8: LENTES DE SEGURIDAD | F8: =11*13 -> 143 | G8: =+F8 -> 143
B9: TAPONES AUDITIVOS | F9: =2*13 -> 26 | G9: =+F9 -> 26
B10: GUANTE ANTICORTE | F10: =6*13 -> 78 | G10: =+F10 -> 78
B11: SEÑALETICAS | F11: 120 | G11: 120
D12: SUB TOTAL | F12: =SUM(F4:F11) -> 2890 | G12: =SUM(G4:G11) -> 2890
D13: TOTAL | F13: =+F12+G12 -> 5780

Sheet UNIFORMES
B2: UNIFORMES | C2: 1ER SEMESTRE | D2: 2DO SEMESTRE
B4: dos (02) camisas c/cuello y manga larga, | C4: =48.06*2*19 -> 1826.28 | D4: =+C4 -> 1826.28 | E4: =+C4+D4 -> 3652.56
B5: dos (02) pantalones en tela drill con reactivo UV, | C5: =45*2*19 -> 1710 | D5: =+C5 -> 1710 | E5: =+C5+D5 -> 3420
B6: un (01) par de borceguís tipo militar | C6: 0 | D6: =+C6 -> 0 | E6: =+C6+D6 -> 0
B7: una (01) correa de cuero, | C7: =10*19 -> 190 | D7: =+C7 -> 190 | E7: =+C7+D7 -> 380
B8: un (01) casco de seguridad color verde, | C8: 0 | D8: =+C8 -> 0 | E8: =+C8+D8 -> 0
B9: una (01) chompa con logotipo de la empresa subcontratista y dos cintas reflectivas en ambos brazos. | C9: =65*19 -> 1235 | D9: =+C9 -> 1235 | E9: =+C9+D9 -> 2470
B10: una (01) porta vara de cuero, | C10: =12*5 -> 60 | D10: =+C10 -> 60 | E10: =+C10+D10 -> 120
B11: una (01) vara de goma, | C11: =35*5 -> 175 | D11: =+C11 -> 175 | E11: =+C11+D11 -> 350
B12: un (01) chaleco antibalas, | C12: =45*12 -> 540 | D12: =+C12 -> 540 | E12: =+C12+D12 -> 1080
B13: un (01) poncho impermeable de PVC con capucha y broches. | C13: =45*19 -> 855 | D13: =+C13 -> 855 | E13: =+C13+D13 -> 1710
B14: SUB TOTALES | C14: =SUM(C4:C13) -> 6591.28 | D14: =SUM(D4:D13) -> 6591.28 | E14: =+C14+D14 -> 13182.56
B15: TOTAL | C15: =+C14+D14 -> 13182.56

Sheet ALIMENTACION
B2: ALIMENTACION
B4: ALIMENTACION PERSONAL | D4: =30*15*19 -> 8550
B5: Comprende almuerzo y rancho frio
B8: ANUAL | D8: =+D4*12 -> 102600

Sheet GASTOS GENERALES
A2: GASTOS GENERALES
A4: ARMAS | B4: =6*1800 -> 10800
A5: SEGURO CAMIONETA | B5: =2180*3.78 -> 8240.4
A6: EXMANES MEDICOS OCUP | B6: =170*19 -> 3230
A7: MANTENIMIENTO EQUIPOS | B7: 1000
A8: CAPACITACIONES | B8: 1000
A9: ADMINISTRATIVOS | B9: =1000*12 -> 12000
A10: TOTAL | B10: =SUM(B4:B9) -> 36270.4

Sheet POLIZAS
I2: CU/ PERSONA | J2: COSTO ANUAL
C3: Póliza SCTR Salud | I3: 8.73
C4: Póliza SCTR Pensión | I4: 16.57
C5: Vida Ley TASA 0.6% | I5: 6.15
C6: Seguro de resonsabilida Civil | I6: =+J6/19/12 -> 13.305432 | J6: =790.01*3.84 -> 3033.6384
C7: Poliza de Deshonestidad | I7: =+J7/19/12 -> 16.392758 | J7: =973.32*3.84 -> 3737.5488
