Workbook
Name a: [1]Compra_54MOD!#REF!
Name a: [1]Compra_54MOD!#REF!
Name CALPH: [2]SHEET1!$M$1:$M$4
Name CBNPR: [2]SHEET1!$X$1:$X$4
Name CDCTO: [2]SHEET1!$B$1:$B$4
Name CDOCO: [2]SHEET1!$C$1:$C$4
Name CDSC1: [2]SHEET1!$E$1:$E$4
Name CDSC2: [2]SHEET1!$F$1:$F$4
Name CKCOO: [2]SHEET1!$A$1:$A$4
Name CPDDJ: [2]SHEET1!$S$1:$S$4
Name CPRRC: [2]SHEET1!$Q$1:$Q$4
Name CPTC: [2]SHEET1!$W$1:$W$4
Name CUM: [2]SHEET1!$G$1:$G$4
Name CUORG: [2]SHEET1!$I$1:$I$4
Name pag_2: [3]Compra_5!$B$69
Name pag_3: [3]Compra_5!$B$132
Name Print_Area: CONSOLIDADO!$A$1:$M$41
Name total: [4]OC215!#REF!
Name total: [4]OC215!#REF!
Name total1: [3]Compra_1!$I$311
Name total10: [3]Compra_10!$I$59
Name total100: [4]OC215!#REF!
Name total100: [4]OC215!#REF!
Name total11: [3]Compra_11!$I$161
Name total12: [3]Compra_12!$I$36
Name total13: [3]Compra_13!$I$36
Name total14: [3]Compra_14!$I$32
Name total15: [3]Compra_15!$I$33
Name total16: [5]Compra_16!$I$33
Name total17: [5]Compra_17!$I$47
Name total18: [5]Compra_18!$I$44
Name total19: [5]Compra_19!$I$58
Name total1AMP: [3]Compra_1AMP!$I$36
Name total1MOD: [3]Compra_1MOD!$G$141
Name total2: [3]Compra_2!$I$53
Name total20: [5]Compra_20!$I$34
Name total21: [5]Compra_21!$I$35
Name total22: [5]Compra_22!$I$106
Name total23: [5]Compra_23!$I$101
Name total24: [5]Compra_24!$I$102
Name total25: [5]Compra_25!$I$36
Name total26: [5]Compra_26!$I$102
Name total27: [5]Compra_27!$I$105
Name total28: [5]Compra_28!$I$101
Name total29: [5]Compra_29!$I$106
Name total3: [3]Compra_3!$I$50
Name total30: [5]Compra_30!$I$105
Name total31: [6]Compra_31!$I$102
Name total32: [6]Compra_32!$I$105
Name total33: [6]Compra_33!$I$106
Name total34: [6]Compra_34!$I$46
Name total35: [6]Compra_35!$I$33
Name total36: [6]Compra_36!$I$33
Name total37: [6]Compra_37!$I$47
Name total38: [6]Compra_38!$I$45
Name total39: [6]Compra_39!$I$45
Name total4: [3]Compra_4!$I$33
Name total40: [6]Compra_40!$I$40
Name total41: [6]Compra_41!$I$45
Name total42: [6]Compra_42!$I$46

Sheet DETALLADO
F1: SERVICIO DE SEGURIDAD Y VIGILANCIA PRIVADA - RÍO LACRAMARCA
L3: RV.00
L4: Fecha de versión | M4: 15.07.2024
A5: Obra: Defensas Ribereñas Río Lacramarca
A6: Dirección: Nuevo Chimbote - Ancash
A7: DATOS DEL OFERTANTE:
A8: Razon Social: | E8: DHAR SOLUTION SAC
A9: Domicilio: | E9: JR. PARIAHUANCA 879 - LOS OLIVOS
A10: Teléfono/Fax: | E10: 978548699
A11: Contacto: | E11: HEITOR VARILLAS
L12: FECHA LIMITE ENTREGA OFERTA: | M12: 45488
A13: ITEM | B13: U/M | C13: # mes | D13: CANTIDAD | F13: DESCRIPCION | L13: Prec. Unit. (S/) | M13: Prec. Total (S/)
A14: SERVICIO DE VIGILANCIA
A15: 1 | D15: Personal | M15: =SUM(M16:M19) -> 1189248
A16: 1.01 | B16: mes | C16: 12 | D16: 2 | F16: Supervisor con arma | L16: =(4500*1.52) -> 6840 | M16: =+C16*D16*L16 -> 164160
A17: 1.02 | B17: mes | C17: 12 | D17: 6 | F17: Agente con arma | L17: =(3500*1.52) -> 5320 | M17: =+C17*D17*L17 -> 383040
A18: 1.03 | B18: mes | C18: 12 | D18: 2 | F18: Agente conductor sin arma | L18: =(3200*1.52) -> 4864 | M18: =+C18*D18*L18 -> 116736
A19: 1.04 | B19: mes | C19: 12 | D19: 9 | F19: Agente sin arma | L19: =(3200*1.52) -> 4864 | M19: =+C19*D19*L19 -> 525312
A20: 2 | D20: Recursos y Equipos | M20: =SUM(M21:M25) -> 212704
A21: 2.01 | B21: glb | C21: 1 | D21: 1 | F21: Materiales, herramienta de campo | L21: =+'DESAGREGADO RECURSOS Y EQUIPOS'!H5 -> 37660 | M21: =+C21*D21*L21 -> 37660
A22: 2.02 | B22: glb | C22: 1 | D22: 1 | F22: Equipos informaticos, GPS, impresiones | L22: =+'DESAGREGADO RECURSOS Y EQUIPOS'!H20 -> 21060 | M22: =+C22*D22*L22 -> 21060
A23: 2.03 | B23: mes | C23: 12 | D23: 1 | F23: Camioneta 4x4 (incluye combustible y mantenimiento) | L23: =+'DESAGREGADO RECURSOS Y EQUIPOS'!G25 -> 7500 | M23: =+C23*D23*L23 -> 90000
A24: 2.04 | B24: glb | C24: 1 | D24: 1 | F24: Epps y Señaletica | L24: =+'DESAGREGADO RECURSOS Y EQUIPOS'!H26 -> 47074 | M24: =+C24*D24*L24 -> 47074
A25: 2.05 | B25: glb | C25: 1 | D25: 1 | F25: Uniformes | L25: =+'DESAGREGADO RECURSOS Y EQUIPOS'!H41 -> 16910 | M25: =+C25*D25*L25 -> 16910
A26: 3 | D26: Alimentacion | M26: =SUM(M27) -> 162000
A27: 3.01 | B27: glb | C27: 1 | D27: 1 | F27: Alimentacion del personal | L27: 162000 | M27: =+C27*D27*L27 -> 162000
A28: 4 | D28: Seguros | M28: =SUM(M29:M33) -> 139960
A29: 4.01 | B29: mes | C29: 12 | D29: 19 | F29: Póliza SCTR Salud | L29: 190 | M29: =+L29*D29*C29 -> 43320
A30: 4.02 | B30: mes | C30: 12 | D30: 19 | F30: Póliza SCTR Pensión | L30: 190 | M30: =+L30*D30*C30 -> 43320
A31: 4.03 | B31: mes | C31: 12 | D31: 19 | F31: Vida Ley | L31: 190 | M31: =+L31*D31*C31 -> 43320
A32: 4.04 | B32: año | C32: 1 | D32: 1 | F32: Seguro de Responsabilidad Civil | L32: 5000 | M32: =+L32*D32*C32 -> 5000
A33: 4.05 | B33: año | C33: 1 | D33: 1 | F33: Póliza de Deshonestidad | L33: 5000 | M33: =+L33*D33*C33 -> 5000
A34: COSTO DIRECTO | M34: =+M15+M20+M26+M28 -> 1703912
B35: GLB | D35: 1 | E35: GASTOS GENERALES | L35: =+'DESAGREGADO GG'!J21 -> 289200 | M35: =IF(L35="","",+L35*D35) -> 289200
B36: GLB | D36: 1 | E36: UTILIDAD | L36: =+M34*0.1 -> 170391.2 | M36: =IF(L36="","",+L36*D36) -> 170391.2
A37: SUB TOTAL | M37: =SUM(M34:M36) -> 2163503.2
A38: IGV | L38: 0.18 | M38: =IF(M37="","",+M37*L38) -> 389430.58
A39: IMPORTE TOTAL | M39: =IF(M38="","",+M38+M37) -> 2552933.8
A41: CONDICIONES GENERALES DE CONTRATACIÓN:
A43: DESCRIPCION | F43: SOLICITADO | I43: OFERTADO
...

Sheet CONSOLIDADO
F1: SERVICIO DE SEGURIDAD Y VIGILANCIA PRIVADA - RÍO LACRAMARCA
L3: RV.00
L4: Fecha de versión | M4: 15.07.2024
A5: Obra: Defensas Ribereñas Río Lacramarca
A6: Dirección: Nuevo Chimbote - Ancash
A7: DATOS DEL OFERTANTE:
A8: Razon Social: | E8: DHAR SOLUTION SAC
A9: Domicilio: | E9: JR. PARIAHUANCA 879 - LOS OLIVOS
A10: Teléfono/Fax: | E10: 978548699
A11: Contacto: | E11: HEITOR VARILLAS
L12: FECHA LIMITE ENTREGA OFERTA: | M12: 45488
A13: ITEM | B13: U/M | C13: # mes | D13: CANTIDAD | F13: DESCRIPCION | L13: Prec. Unit. (S/) | M13: Prec. Total (S/)
A14: SERVICIO DE VIGILANCIA
A15: 1 | D15: Personal | M15: =SUM(M16:M19) -> 1189248
A16: 1.01 | B16: mes | C16: 12 | D16: 2 | F16: Supervisor con arma | L16: =(4500*1.52) -> 6840 | M16: =+C16*D16*L16 -> 164160
A17: 1.02 | B17: mes | C17: 12 | D17: 6 | F17: Agente con arma | L17: =(3500*1.52) -> 5320 | M17: =+C17*D17*L17 -> 383040
A18: 1.03 | B18: mes | C18: 12 | D18: 2 | F18: Agente conductor sin arma | L18: =(3200*1.52) -> 4864 | M18: =+C18*D18*L18 -> 116736
A19: 1.04 | B19: mes | C19: 12 | D19: 9 | F19: Agente sin arma | L19: =(3200*1.52) -> 4864 | M19: =+C19*D19*L19 -> 525312
A20: 2 | D20: Recursos y Equipos | M20: =SUM(M21:M25) -> 212704
A21: 2.01 | B21: glb | C21: 1 | D21: 1 | F21: Materiales, herramienta de campo | L21: =+'DESAGREGADO RECURSOS Y EQUIPOS'!H5 -> 37660 | M21: =+C21*D21*L21 -> 37660
A22: 2.02 | B22: glb | C22: 1 | D22: 1 | F22: Equipos informaticos, GPS, impresiones | L22: =+'DESAGREGADO RECURSOS Y EQUIPOS'!H20 -> 21060 | M22: =+C22*D22*L22 -> 21060
A23: 2.03 | B23: mes | C23: 12 | D23: 1 | F23: Camioneta 4x4 (incluye combustible y mantenimiento) | L23: =+'DESAGREGADO RECURSOS Y EQUIPOS'!G25 -> 7500 | M23: =+C23*D23*L23 -> 90000
A24: 2.04 | B24: glb | C24: 1 | D24: 1 | F24: Epps y Señaletica | L24: =+'DESAGREGADO RECURSOS Y EQUIPOS'!H26 -> 47074 | M24: =+C24*D24*L24 -> 47074
A25: 2.05 | B25: glb | C25: 1 | D25: 1 | F25: Uniformes | L25: =+'DESAGREGADO RECURSOS Y EQUIPOS'!H41 -> 16910 | M25: =+C25*D25*L25 -> 16910
A26: 3 | D26: Alimentacion | M26: =SUM(M27) -> 162000
A27: 3.01 | B27: glb | C27: 1 | D27: 1 | F27: Alimentacion del personal | L27: 162000 | M27: =+C27*D27*L27 -> 162000
A28: 4 | D28: Seguros | M28: =SUM(M29:M33) -> 139960
A29: 4.01 | B29: mes | C29: 12 | D29: 19 | F29: Póliza SCTR Salud | L29: 190 | M29: =+L29*D29*C29 -> 43320
A30: 4.02 | B30: mes | C30: 12 | D30: 19 | F30: Póliza SCTR Pensión | L30: 190 | M30: =+L30*D30*C30 -> 43320
A31: 4.03 | B31: mes | C31: 12 | D31: 19 | F31: Vida Ley | L31: 190 | M31: =+L31*D31*C31 -> 43320
A32: 4.04 | B32: año | C32: 1 | D32: 1 | F32: Seguro de Responsabilidad Civil | L32: 5000 | M32: =+L32*D32*C32 -> 5000
A33: 4.05 | B33: año | C33: 1 | D33: 1 | F33: Póliza de Deshonestidad | L33: 5000 | M33: =+L33*D33*C33 -> 5000
A34: IMPORTE SIN IGV | M34: =+M15+M20+M26+M28 -> 1703912
F35: IGV | L35: 0.18 | M35: =+L35*M34 -> 306704.16
A36: TOTAL | M36: =+M35+M34 -> 2010616.2
F38: CONDICIONES GENERALES:
F39: DESCRIPCION | I39: COTIZADO
A43: CONDICIONES GENERALES DE CONTRATACIÓN:
A45: DESCRIPCION | F45: SOLICITADO | I45: OFERTADO
A46: FORMA DE PAGO | F46: VALORIZACION MENSUAL A 30 DÍAS | I46: VALORIZACION MENSUAL A 30 DÍAS
...

Sheet DESAGREGADO RECURSOS Y EQUIPOS
D3: Unidad | E3: Cantidad | F3: Meses | G3: Costo S/ | H3: Parcial S/ | I3: Total S/
B4: B | C4: RECURSOS Y EQUIPOS | I4: =+H5+H20+H24+H26+I41 -> 195794
B5: B.1 | C5: Equipamientos (materiales, herramientas de campo) | H5: =SUM(H6:H19) -> 37660
B6: B.1.1 | C6: Botiquin de primeros auxilios | D6: Glb. | E6: 1 | F6: 2 | G6: 250 | H6: =E6*F6*G6 -> 500
B7: B.1.2 | C7: Extintores PQS | D7: Glb. | E7: 3 | F7: 1 | G7: 100 | H7: =E7*F7*G7 -> 300
B8: B.1.3 | C8: Extintores CO2 | D8: Glb. | E8: 3 | F8: 1 | G8: 300 | H8: =E8*F8*G8 -> 900
B9: B.1.4 | C9: Instrumentacion médica | D9: Glb. | E9: 1 | F9: 1 | G9: 2500 | H9: =E9*F9*G9 -> 2500
B10: B.1.5 | C10: Servicio de SO para atencion de emergencias | D10: Glb. | E10: 1 | F10: 12 | G10: 2500 | H10: =E10*F10*G10 -> 30000
B11: B.1.6 | C11: Estacion de emergencias fija para oficina | D11: Glb. | E11: 1 | F11: 1 | G11: 1200 | H11: =E11*F11*G11 -> 1200
B12: B.1.7 | C12: Estacion de emergencias movil para camioneta | D12: Glb. | E12: 1 | F12: 1 | G12: 0 | H12: =E12*F12*G12 -> 0
B13: B.1.8 | C13: Megafono | D13: Glb. | E13: 1 | F13: 1 | G13: 200 | H13: =E13*F13*G13 -> 200
B14: B.1.9 | C14: Alcoholimetro | D14: Glb. | E14: 1 | F14: 1 | G14: 0 | H14: =E14*F14*G14 -> 0
B15: B.1.10 | C15: Detector de metales | D15: Glb. | E15: 2 | F15: 1 | G15: 450 | H15: =E15*F15*G15 -> 900
B16: B.1.11 | C16: Linterna de mano | D16: Glb. | E16: 1 | F16: 1 | G16: 150 | H16: =E16*F16*G16 -> 150
B17: B.1.12 | C17: Binoculares de largo alcance | D17: Glb. | E17: 1 | F17: 1 | G17: 450 | H17: =E17*F17*G17 -> 450
... B19: B.1.14 | C19: Silbato | D19: Glb. | E19: 1 | F19: 1 | G19: 10 | H19: =E19*F19*G19 -> 10
B20: B.2 | C20: Equipos informaticos, mobiliario, impresiones | H20: =SUM(H21:H23) -> 21060
B21: B.2.1 | C21: Utiles de oficina | D21: Glb. | E21: 1 | F21: 6 | G21: 3500 | H21: =+E21*F21*G21 -> 21000
B22: B.2.2 | C22: Cintas aislantes de colores | D22: Glb. | E22: 1 | F22: 12 | G22: 5 | H22: =+E22*F22*G22 -> 60
B23: B.2.3 | C23: Proyector multimedia | D23: Glb. | E23: 1 | F23: 1 | G23: 0 | H23: =+E23*F23*G23 -> 0
B24: B.3 | C24: Camioneta 4x4 | H24: =E25*F25*G25 -> 90000
B25: B.3.1 | C25: Incluye combustible y gps, mantenimiento | D25: Unidad | E25: 1 | F25: 12 | G25: 7500
B26: B.4 | C26: EPP'S y Señalética | H26: =SUM(H27:H40) -> 47074
B27: B.4.1 | C27: Casco de seguridad | D27: Glb. | E27: 19 | F27: 1 | G27: 18 | H27: =+E27*F27*G27 -> 342
B28: B.4.2 | C28: Lentes de seguridad | D28: Glb. | E28: 19 | F28: 12 | G28: 5 | H28: =+E28*F28*G28 -> 1140
B29: B.4.3 | C29: Guantes de seguridad | D29: Glb. | E29: 19 | F29: 12 | G29: 7 | H29: =+E29*F29*G29 -> 1596
B30: B.4.4 | C30: Zapatos de segurudad | D30: Glb. | E30: 19 | F30: 6 | G30: 100 | H30: =+E30*F30*G30 -> 11400
B31: B.4.5 | C31: Guantes de neopreno | D31: Glb. | E31: 19 | F31: 12 | G31: 2 | H31: =+E31*F31*G31 -> 456
B32: B.4.6 | C32: Chaleco con cinta reflectiva | D32: Glb. | E32: 19 | F32: 6 | G32: 30 | H32: =+E32*F32*G32 -> 3420
B33: B.4.7 | C33: Casaca con cinta reflectiva | D33: Glb. | E33: 19 | F33: 6 | G33: 100 | H33: =+E33*F33*G33 -> 11400
B34: B.4.8 | C34: Tapones auditivos | D34: Glb. | E34: 19 | F34: 12 | G34: 2 | H34: =+E34*F34*G34 -> 456
B35: B.4.9 | C35: Cortavientos | D35: Glb. | E35: 19 | F35: 12 | G35: 10 | H35: =+E35*F35*G35 -> 2280
B36: B.4.10 | C36: Capotin - Traje de PVC | D36: Glb. | E36: 19 | F36: 12 | G36: 10 | H36: =+E36*F36*G36 -> 2280
B37: B.4.11 | C37: Barbiquejos | D37: Glb. | E37: 19 | F37: 12 | G37: 3 | H37: =+E37*F37*G37 -> 684
B38: B.4.12 | C38: Bloqueador solar | D38: Glb. | E38: 19 | F38: 12 | G38: 20 | H38: =+E38*F38*G38 -> 4560
... B40: B.4.14 | C40: Carteles y afiches | D40: Glb. | E40: 1 | F40: 1 | G40: 2500 | H40: =+E40*F40*G40 -> 2500
B41: B.5 | C41: Uniformes | D41: Glb. | H41: =SUM(H42:H48) -> 16910
B42: B.5.1 | C42: Camisa c/ cuello m/larga | D42: Glb. | E42: 19 | F42: =2*2 -> 4 | G42: 25 | H42: =+E42*F42*G42 -> 1900
B43: B.5.2 | C43: Pantalon en tela drill c/UV | D43: Glb. | E43: 19 | F43: =2*2 -> 4 | G43: 50 | H43: =+E43*F43*G43 -> 3800
B44: B.5.3 | C44: Correa de cuero | D44: Glb. | E44: 19 | F44: 1 | G44: 25 | H44: =+E44*F44*G44 -> 475
...

Sheet DESAGREGADO GG
B2: DESAGREGADO GASTOS GENERALES
B4: Concepto | F4: Unid | G4: Cantidad | H4: % participación | I4: Costo x mes | J4: Sub total
B5: Gastos de Administración
B6: Gerenciamiento del proyecto (servicio) | F6: HM | G6: 1 | H6: 0.25 | I6: 18000 | J6: =+G6*H6*I6 -> 4500
B7: Administrador | F7: HM | G7: 1 | H7: 0.25 | I7: 5000 | J7: =+G7*H7*I7 -> 1250
B8: Gestion Humana - GH | F8: HM | G8: 1 | H8: 0.2 | I8: 5000 | J8: =+G8*H8*I8 -> 1000
B9: Jefe de SST | F9: HM | G9: 1 | H9: 0.2 | I9: 6000 | J9: =+G9*H9*I9 -> 1200
B10: Medico Ocupacional | F10: HM | G10: 1 | H10: 0.25 | I10: 7000 | J10: =+G10*H10*I10 -> 1750
B11: Area legal | F11: HM | G11: 1 | H11: 0.2 | I11: 5000 | J11: =+G11*H11*I11 -> 1000
B12: Jefe Patrimonial | F12: HM | G12: 1 | H12: 0.25 | I12: 4000 | J12: =+G12*H12*I12 -> 1000
B13: Contador | F13: HM | G13: 1 | H13: 0.2 | I13: 3000 | J13: =+G13*H13*I13 -> 600
B14: Secretaria | F14: HM | G14: 1 | H14: 0.2 | I14: 2500 | J14: =+G14*H14*I14 -> 500
B15: Oficina regional (inc. mobiliario y servicios) | F15: Est | G15: 1 | H15: 1 | I15: 5500 | J15: =+G15*H15*I15 -> 5500
B16: Chofer | F16: HM | G16: 1 | H16: 0.5 | I16: 2000 | J16: =+G16*H16*I16 -> 1000
B17: Movilizacion y coordinaciones | F17: Est | G17: 1 | H17: 1 | I17: 1000 | J17: =+G17*H17*I17 -> 1000
B18: Comunicaciones | C18: completar | F18: Est | G18: 1 | H18: 1 | I18: 800 | J18: =+G18*H18*I18 -> 800
B19: Capacitacion y entrenamiento | C19: completar | F19: Est | G19: 1 | H19: 0.25 | I19: 12000 | J19: =+G19*H19*I19 -> 3000
B20: TOTAL MENSUAL | D20: S/ | J20: =SUM(J6:J19) -> 24100
B21: TOTAL ANUAL | D21: S/ | J21: =+J20*12 -> 289200
