Workbook
Name numero: #REF!
Name numero: #REF!
Name REVISION: [11]Portada!$H$39

Sheet EAP Chicama
A1: CHICAMA | B1: CUENCA CHICAMA
A2: 1 | B2: Estructura típica
A3: 1A-01 | B3: Dique de Retención (de concreto ciclópeo)
A4: 1A-01 -01 01 | B4: Construcción, mejoramiento y/o rehabilitación de acceso hasta dique de relleno | C4: km
A5: 1A-01 -01 02 | B5: Construcción de campamento provisional de obra
A6: 1A-01 -01 02.01 | B6: Terraplén para campamento provisional | C6: m2
A7: 1A-01 -01 02.02 | B7: Campamento | C7: m2
A8: 1A-01 -01 03 | B8: Desbroce y limpieza con equipo de suelo vegetal h=0.3m (área de influencia PIP) | C8: m2
A9: 1A-01 -01 04 | B9: Acopio de material orgánico en DMO distancia media …km | C9: m3
A10: 1A-01 -01 05 | B10: Excavación para fundación y empotramiento de dique de concreto (indicar el tipo de material y Fw)
A11: 1A-01 -01 05.01 | B11: Excavación hasta nivel de plataforma (indicar si incluye carguío o no dependiendo de la condición) | C11: m3
A12: 1A-01 -01 05.02 | B12: Excavación de base de dique | C12: m3
A13: 1A-01 -01 05.03 | B13: Excavación de uñas de empotramiento de dique h=2m | C13: m3
A14: 1A-01 -01 05.04 | B14: Excavación de uña de colchón de enrocado | C14: m3
A15: 1A-01 -01 05.05 | B15: Excavación en roca/material suelto en estribos de dique profundidad >=1m | C15: m3
A16: 1A-01 -01 05.06 | B16: Excavación para contradique | C16: m3
A17: 1A-01 -01 06 | B17: Conformación y compactación de superficie para fundación
A18: 1A-01 -01 06.01 | B18: Conformación y compactación de superficie para uñas y dique | C18: m2
A19: 1A-01 -01 06.02 | B19: Conformación y compactación de superficie para losa de disipación | C19: m2
A20: 1A-01 -01 06.03 | B20: Conformación y compactación de superficie para colchón de enrocado | C20: m2
A21: 1A-01 -01 07 | B21: Eliminación de material excedente | C21: m3
A22: 1A-01 -01 08 | B22: Colocación de concreto de solados y concreto de regularización
A23: 1A-01 -01 08.01 | B23: Colocación de concreto de regularización para uñas de empotramiento de dique | C23: m3
A24: 1A-01 -01 08.02 | B24: Solado para contradique | C24: m2
A25: 1A-01 -01 09 | B25: Encofrado y Desencofrado
A26: 1A-01 -01 09.01 | B26: Encofrado y desencofrado vertical de uñas de dique | C26: m2
A27: 1A-01 -01 09.02 | B27: Encofrado y desencofrado vertical de escalones de vertedero de dique | C27: m2
A28: 1A-01 -01 09.03 | B28: Encofrado y desencofrado de taludes de dique (1:2) | C28: m2
A29: 1A-01 -01 09.04 | B29: Encofrado y desencofrado vertical de corona de dique | C29: m2
A30: 1A-01 -01 09.05 | B30: Encofrado y desencofrado de contradique | C30: m2
A31: 1A-01 -01 09.06 | B31: Encofrado y desencofrado de muros guías del vertedero | C31: m2
A32: 1A-01 -01 10 | B32: Acero de refuerzo para concreto estructural
A33: 1A-01 -01 10.01 | B33: Habilitación de acero y/o suministro de acero habilitado puesto en obra | C33: kg
A34: 1A-01 -01 10.02 | B34: Colocación de acero estructural fy=4200kgf/cm2 para contradique | C34: kg
A35: 1A-01 -01 10.03 | B35: Colocación de acero estructural fy=4200kgf/cm2 para muros guías del vertedero | C35: kg
A36: 1A-01 -01 11 | B36: Concreto ciclópeo f´c=175kgf/cm2 + 30% PG
A37: 1A-01 -01 11.01 | B37: Colocación de C° Ciclópeo en uñas y base hasta Z1 | C37: m3
A38: 1A-01 -01 11.02 | B38: Colocación de C° Ciclópeo en cuerpo de dique hasta Z3 | C38: m3
A39: 1A-01 -01 11.03 | B39: Colocación de C° Ciclópeo de corona de dique hasta Z4 | C39: m3
A40: 1A-01 -01 11.04 | B40: Colocación de C° Ciclópeo de losa de disipación de energía | C40: m3
...

Sheet EAP Virú
A2: Paquete | B2: Descripición del paquete | C2: Und.
A3: VIRÚ | B3: CUENCA VIRÚ
A4: 1A | B4: Estructura típica de Quebradas Virú: Protección y Encauzamiento (DIQUES LONGITUDINALES)
B5: Construcción de defensas ribereñas en río/quebrada y encauzamiento
B6: Diques de encauzamiento y protección del río Carabamba Prog. 0+220 a. abajo @ 2+920 a. arriba
B7: Construcción, mejoramiento y/o rehabilitación de acceso hasta diques de relleno
B8: Construcción de campamento provisional de obra
B9: Terraplén para campamento provisional
B10: Campamento
B11: Desbroce y limpieza 110m de ancho | C11: m2
B12: Acopio de material orgánico en DMO
B13: Encauzamiento de aguas superficiales
B14: Descolmatación, limpieza y conformación del cauce | C14: m3
B15: Conformación y compactación de superficie para fundación | C15: m2
B16: Conformación de dique con material propio y material de préstamo | C16: m3
B17: Adecuación de depósito de material excedente (temporal) | C17: m3
B18: Eliminación de material excedente | C18: m3
B19: Perfilado de talud de cara húmeda de dique | C19: m2
B20: Excavación de uña antisocavante | C20: m3
B21: Conformación y perfilado de uña antisocavante
B22: Excavación de zanja para anclaje de geotextil
B23: Colocación de geotextil 400g/m2 en uña antisocavante y cara de dique | C23: m2
B24: Colocación de enrocado de protección en uña antisocavante (D=1.5m) | C24: m3
B25: Extracción y procesamiento de material para filtro | C25: m3
B26: Transporte de filtro desde cantera xxx (Dist. …km) | C26: m3
B27: Colocación de filtro (material de cantera) | C27: m3
B28: Producción en cantera para Enrocado de protección de diques con voladura | C28: m3
B29: Selección de material enrocado y acopio temporal
B30: Transporte de enrocado desde cantera yyy (Dist. …km) | C30: m3
B31: Colocación de enrocado de protección de dique (D=1m, e de 1m a 0.50m) | C31: m3
B32: Perfilado de talud de cara seca de dique | C32: m2
B33: Limpieza y entrega de obra
A35: 2 | B35: Estructura típica: Diques de Retención con GAVIONES
B36: Diques de encauzamiento y protección del río Carabamba Ciudad Prog. 0+000 @ 1+080
B37: Construcción, mejoramiento y/o rehabilitación de acceso hasta diques de relleno
B38: Construcción de campamento provisional de obra
B39: Terraplén para campamento provisional
B40: Campamento
B41: Desbroce y limpieza 30m de ancho | C41: m2
B42: Acopio de material orgánico en DMO
...

Sheet Resumen
C2: FORMATO C1- PROPUESTA ECONÓMICA | F2: CO-PE-1PE326-CM-HA-004
F3: Revisión 0
C4: “ENTREGA DE LAS DEFENSAS RIBEREÑAS DE LOS RÍOS CHICAMA Y VIRÚ (PAQUETE 9R-06)" | F4: Fecha: 09/03/2022
F5: Página 1 de 3
B9: Referencia: TDR-Anexo 13
C11: Proyecto: | D11: Entrega de las Defensas Ribereñas de los Ríos Chicama y Virú
C13: Paquete: | D13: “PLAN INTEGRAL PARA EL CONTROL DE INUNDACIONES Y MOVIMIENTOS DE MASA DE LAS CUENCAS DE LOS RÍOS VIRÚ Y CHICAMA – DEPARTAMENTO DE LA LIBERTAD” - SOLUCIONES INTEGRALES RIOS CHICAMA Y VIRU.
C15: Río: | D15: VIRÚ
C17: Cliente: | D17: OHLA
C19: Postor: | D19: JJR Servicios Generales SRL
C21: Lugar: | D21: Cajamrca
C24: Plazo: | D24: 15 meses
C27: Fecha de oferta: | D27: 45368
C30: Fecha de inicio para la ejecución:
B34: A. | C34: TOTAL COSTO DIRECTO | F34: ='Costo Directo'!G27 -> 698064
B35: B. | C35: GASTOS GENERALES | F35: ='Gastos Generales'!I44 -> 156100
B36: C. | C36: UTILIDAD (10 %) | F36: =+F34*0.1 -> 69806.4
B37: D. | C37: TOTAL COSTO DETERMINADO (A+B+C) | F37: =F34+F35+F36 -> 923970.4
B39: E. | C39: IGV (18% D) | E39: 0.18 | F39: =F37*E39 -> 166314.67
B41: F. | C41: TOTAL PRESUPUESTO INICIAL INCLUYE IGV (D+E) | F41: =F37+F39 -> 1090285.1 | I41: 1107253
C43: CONDICIONES: FORMA DE PAGO: | F43: 30 días

Sheet Costo Directo
C2: FORMATO C1: PROPUESTA ECONÓMICA | F2: CO-PE-1PE326-CM-HA-004
F3: Revisión 0
C4: “ENTREGA DE LAS DEFENSAS RIBEREÑAS DE LOS RÍOS CHICAMA Y VIRÚ (PAQUETE 9R-06)" | F4: Fecha: 09/03/2022
F5: Página 2 de 3
B7: Proyecto: | C7: Entrega de las Defensas Ribereñas de los Ríos Chicama y Virú
B8: Río: | C8: Virú
B9: N° del Paquete: | C9: 09 R-06
B10: Nombre del Paquete:
B12: Referencia:
B13: PLANILLA DE COSTO DIRECTO
B15: Item | C15: Descripción | D15: Unidad | E15: Total | F15: P.U. (S/) | G15: Total (S/)
B16: 1 | C16: MONITOREO AMBIENTAL - PROYECTO 01
B17: 1.01 | C17: Monitoreo Ambiental de Agua | D17: Visita | E17: 3 | F17: =+[14]AGUA!$H$42 -> 20340 | G17: =E17*F17 -> 61020
B18: 1.02 | C18: Monitoreo Ambiental de Aire | D18: Visita | E18: 3 | F18: =+[14]AIRE!$H$37 -> 35604 | G18: =E18*F18 -> 106812
B19: 1.03. | C19: Monitoreo Ambiental de Ruido | D19: Visita | E19: 3 | F19: =+[14]RUIDO!$H$25 -> 12100 | G19: =E19*F19 -> 36300
B20: 1.04. | C20: Monitoreo Biológico | D20: Visita | E20: 3 | F20: =+[14]BIOLÓGICO!$H$36 -> 20808 | G20: =E20*F20 -> 62424
B21: 1.05. | C21: Monitoreo Ambiental de Vibraciones | D21: Visita | E21: 4 | F21: =+[14]VIBRACIONES!$H$25 -> 5460 | G21: =E21*F21 -> 21840
B22: 2 | C22: MONITOREO AMBIENTAL - PROYECTO 02
B23: 2.01 | C23: Monitoreo Ambiental de Agua | D23: Visita | E23: 3 | F23: =+[14]AGUA!$H$42 -> 20340 | G23: =E23*F23 -> 61020
B24: 2.02 | C24: Monitoreo Ambiental de Aire | D24: Visita | E24: 6 | F24: =+[14]AIRE!$H$37 -> 35604 | G24: =E24*F24 -> 213624
B25: 2.03 | C25: Monitoreo Ambiental de Ruido | D25: Visita | E25: 6 | F25: =+[14]RUIDO!$H$25 -> 12100 | G25: =E25*F25 -> 72600
B26: 2.04 | C26: Monitoreo Biológico | D26: Visita | E26: 3 | F26: =+[14]BIOLÓGICO!$H$36 -> 20808 | G26: =E26*F26 -> 62424
C27: COSTO DIRECTO | G27: =SUM(G17:G26) -> 698064
C29: NOTA:Se ha midificado la visita del proyecto 2 de acuerdo a los TDR

Sheet Gastos Generales
C1: FORMATO C1- PROPUESTA ECONÓMICA | H1: CO-PE-1PE326-CM-HA-004
H2: Revisión 0
C3: “ENTREGA DE LAS DEFENSAS RIBEREÑAS DE LOS RÍOS CHICAMA Y VIRÚ (PAQUETE 9R-06)" | H3: Fecha: 09/03/2022
H4: Página 3 de 3
A6: Proyecto: | C6: Entrega de las Defensas Ribereñas de los Ríos Chicama y Virú
A7: Río: | C7: Virú
A8: N° del Paquete: | C8: 09 R-06
A9: Nombre del Paquete:
A11: Referencia:
C12: PLANILLA DE GASTOS GENERALES - GESTIÓN
A13: Instrucciones para el llenado de la planilla: El Postor deberá llenar cada concepto de acuerdo a su estructura, considerando su personal clave, personal administrativo, personal indirecto de todas las áreas y los gastos no contemplados en el costo directo de suministro y construcción, incluidos gastos financieros, seguros, fianzas, etc. La planilla a continuación puede modificarse de acuerdo a las premisas que el Postor considere necesarias, las mismas que deben estar específicadas por área y con unidad de medida mensual o en porcentaje para el caso de gastos financieros. Se sugiere evitar costos globales y verificar que los gastos generales no dupliquen gastos considerados en la planilla de costo directo.
C15: GASTOS VARIABLES | H15: COSTO DIRECTO | I15: ='Costo Directo'!G27 -> 698064
C17: GASTOS DE DIRECCION Y ADMINISTRACION DEL PROYECTO
A18: Item | B18: Descripción | D18: Unidad | E18: Catidad | F18: días | G18: Visitas | H18: Costo unitario (S/) | I18: Costo parcial (S/)
A19: CUI 1
A20: 1 | B20: Alimentación
B21: Alimentación personal Monitoreo de Agua | D21: personas | E21: 3 | F21: 7 | G21: 6 | H21: 35 | I21: =+E21*F21*G21*H21 -> 4410
B22: Alimentación personal Monitoreo Aire | D22: personas | E22: 4 | F22: 6 | G22: 9 | H22: 35 | I22: =+E22*F22*G22*H22 -> 7560
B23: Alimentación monitoreo de ruido | D23: personas | E23: 1 | F23: 7 | G23: 9 | H23: 35 | I23: =+E23*F23*G23*H23 -> 2205
B24: Alimentación Monitoreo Biológico | D24: personas | E24: 11 | F24: 8 | G24: 6 | H24: 35 | I24: =+E24*F24*G24*H24 -> 18480
B25: Alimentación Monitoreo Vibraciones | D25: personas | E25: 1 | F25: 3 | G25: 3 | H25: 35 | I25: =+E25*F25*G25*H25 -> 315
A26: 2 | B26: Alojamiento
B27: Alojamiento personal Monitoreo de Agua | D27: personas | E27: 3 | F27: 7 | G27: 6 | H27: 40 | I27: =+E27*F27*G27*H27 -> 5040
B28: Alojamiento personal Monitoreo Aire | D28: personas | E28: 4 | F28: 6 | G28: 9 | H28: 40 | I28: =+E28*F28*G28*H28 -> 8640
B29: Alojamiento monitoreo de ruido | D29: personas | E29: 1 | F29: 7 | G29: 9 | H29: 40 | I29: =+E29*F29*G29*H29 -> 2520
B30: Alojamiento Monitoreo Biológico | D30: personas | E30: 11 | F30: 8 | G30: 6 | H30: 40 | I30: =+E30*F30*G30*H30 -> 21120
B31: Alojamiento Monitoreo Vibraciones | D31: personas | E31: 1 | F31: 3 | G31: 3 | H31: 40 | I31: =+E31*F31*G31*H31 -> 360
A32: 3 | B32: Elaboración de Informe Ambiental | D32: Unidad | E32: 1 | F32: 1 | G32: 9 | H32: 1400 | I32: =+E32*F32*G32*H32 -> 12600
A33: 4 | B33: Elaboración de Informe Biológico | D33: Unidad | E33: 1 | F33: 1 | G33: 6 | H33: 1400 | I33: =+E33*F33*G33*H33 -> 8400
A34: 5 | B34: Impresión de Informe Ambiental | D34: Unidad | E34: 1 | F34: 1 | G34: 9 | H34: 1000 | I34: =+E34*F34*G34*H34 -> 9000
A35: 6 | B35: EMOS | D35: Persona | E35: 20 | F35: 1 | G35: 2 | H35: 380 | I35: =+E35*F35*G35*H35 -> 15200
A36: 7 | B36: Seguro Complementario de Trabajo de Riesgo (SCTR) x visita | D36: Visita | E36: 1 | F36: 1 | G36: 9 | H36: 850 | I36: =+E36*F36*G36*H36 -> 7650
A37: 8 | B37: Carta Fianza/gastos financieros | D37: Unidad | E37: 1 | F37: 1 | G37: 1 | H37: 5000 | I37: =+E37*F37*G37*H37 -> 5000
A38: 9 | B38: Pasajes Especilistas | D38: persona | E38: 20 | F38: 1 | G38: 1 | H38: 350 | I38: =+E38*F38*G38*H38 -> 7000
A39: 10 | B39: EPPs | D39: Persona | E39: 20 | F39: 1 | G39: 1 | H39: 380 | I39: =+E39*F39*G39*H39 -> 7600
A40: 11 | B40: SEGURIDAD-ACOMPAÑANTES | D40: VISITA | E40: 1 | F40: 2 | G40: 9 | H40: 500 | I40: =+E40*F40*G40*H40 -> 9000
A41: 12 | B41: GASTOS ADMINISTRATIVOS | D41: visita | E41: 1 | F41: 1 | G41: 5 | H41: 800 | I41: =+E41*F41*G41*H41 -> 4000
H42: SUB TOTAL S/ | I42: =SUM(I20:I41) -> 156100
C44: TOTAL GASTOS GENERALES S/ | I44: =I42 -> 156100
