Workbook
Name numero: #REF!
Name numero: #REF!
Name REVISION: [11]Portada!$H$39

Sheet EAP Chicama
A1: CHICAMA | B1: CUENCA CHICAMA
A2: 1 | B2: Estructura típica
A3: 1A-01 | B3: Dique de Retención (de concreto ciclópeo)
A4: 1A-01 -01 01 | B4: Construcción, mejoramiento y/o rehabilitación de acceso hasta dique de relleno | C4: km
A5: 1A-01 -01 02 | B5: Construcción de campamento provisional de obra
A6: 1A-01 -01 02.01 | B6: Terraplén para campamento provisional | C6: m2
A7: 1A-01 -01 02.02 | B7: Campamento | C7: m2
A8: 1A-01 -01 03 | B8: Desbroce y limpieza con equipo de suelo vegetal h=0.3m (área de influencia PIP) | C8: m2
A9: 1A-01 -01 04 | B9: Acopio de material orgánico en DMO distancia media …km | C9: m3
A10: 1A-01 -01 05 | B10: Excavación para fundación y empotramiento de dique de concreto (indicar el tipo de material y Fw)
A11: 1A-01 -01 05.01 | B11: Excavación hasta nivel de plataforma (indicar si incluye carguío o no dependiendo de la condición) | C11: m3
A12: 1A-01 -01 05.02 | B12: Excavación de base de dique | C12: m3
A13: 1A-01 -01 05.03 | B13: Excavación de uñas de empotramiento de dique h=2m | C13: m3
A14: 1A-01 -01 05.04 | B14: Excavación de uña de colchón de enrocado | C14: m3
A15: 1A-01 -01 05.05 | B15: Excavación en roca/material suelto en estribos de dique profundidad >=1m | C15: m3
A16: 1A-01 -01 05.06 | B16: Excavación para contradique | C16: m3
A17: 1A-01 -01 06 | B17: Conformación y compactación de superficie para fundación
A18: 1A-01 -01 06.01 | B18: Conformación y compactación de superficie para uñas y dique | C18: m2
A19: 1A-01 -01 06.02 | B19: Conformación y compactación de superficie para losa de disipación | C19: m2
A20: 1A-01 -01 06.03 | B20: Conformación y compactación de superficie para colchón de enrocado | C20: m2
A21: 1A-01 -01 07 | B21: Eliminación de material excedente | C21: m3
A22: 1A-01 -01 08 | B22: Colocación de concreto de solados y concreto de regularización
A23: 1A-01 -01 08.01 | B23: Colocación de concreto de regularización para uñas de empotramiento de dique | C23: m3
A24: 1A-01 -01 08.02 | B24: Solado para contradique | C24: m2
A25: 1A-01 -01 09 | B25: Encofrado y Desencofrado
A26: 1A-01 -01 09.01 | B26: Encofrado y desencofrado vertical de uñas de dique | C26: m2
A27: 1A-01 -01 09.02 | B27: Encofrado y desencofrado vertical de escalones de vertedero de dique | C27: m2
A28: 1A-01 -01 09.03 | B28: Encofrado y desencofrado de taludes de dique (1:2) | C28: m2
A29: 1A-01 -01 09.04 | B29: Encofrado y desencofrado vertical de corona de dique | C29: m2
A30: 1A-01 -01 09.05 | B30: Encofrado y desencofrado de contradique | C30: m2
A31: 1A-01 -01 09.06 | B31: Encofrado y desencofrado de muros guías del vertedero | C31: m2
A32: 1A-01 -01 10 | B32: Acero de refuerzo para concreto estructural
A33: 1A-01 -01 10.01 | B33: Habilitación de acero y/o suministro de acero habilitado puesto en obra | C33: kg
A34: 1A-01 -01 10.02 | B34: Colocación de acero estructural fy=4200kgf/cm2 para contradique | C34: kg
A35: 1A-01 -01 10.03 | B35: Colocación de acero estructural fy=4200kgf/cm2 para muros guías del vertedero | C35: kg
A36: 1A-01 -01 11 | B36: Concreto ciclópeo f´c=175kgf/cm2 + 30% PG
A37: 1A-01 -01 11.01 | B37: Colocación de C° Ciclópeo en uñas y base hasta Z1 | C37: m3
A38: 1A-01 -01 11.02 | B38: Colocación de C° Ciclópeo en cuerpo de dique hasta Z3 | C38: m3
A39: 1A-01 -01 11.03 | B39: Colocación de C° Ciclópeo de corona de dique hasta Z4 | C39: m3
A40: 1A-01 -01 11.04 | B40: Colocación de C° Ciclópeo de losa de disipación de energía | C40: m3
...

Sheet EAP Virú
A2: Paquete | B2: Descripición del paquete | C2: Und.
A3: VIRÚ | B3: CUENCA VIRÚ
A4: 1A | B4: Estructura típica de Quebradas Virú: Protección y Encauzamiento (DIQUES LONGITUDINALES)
B5: Construcción de defensas ribereñas en río/quebrada y encauzamiento
B6: Diques de encauzamiento y protección del río Carabamba Prog. 0+220 a. abajo @ 2+920 a. arriba
B7: Construcción, mejoramiento y/o rehabilitación de acceso hasta diques de relleno
B8: Construcción de campamento provisional de obra
B9: Terraplén para campamento provisional
B10: Campamento
B11: Desbroce y limpieza 110m de ancho | C11: m2
B12: Acopio de material orgánico en DMO
B13: Encauzamiento de aguas superficiales
B14: Descolmatación, limpieza y conformación del cauce | C14: m3
B15: Conformación y compactación de superficie para fundación | C15: m2
B16: Conformación de dique con material propio y material de préstamo | C16: m3
B17: Adecuación de depósito de material excedente (temporal) | C17: m3
B18: Eliminación de material excedente | C18: m3
B19: Perfilado de talud de cara húmeda de dique | C19: m2
B20: Excavación de uña antisocavante | C20: m3
B21: Conformación y perfilado de uña antisocavante
B22: Excavación de zanja para anclaje de geotextil
B23: Colocación de geotextil 400g/m2 en uña antisocavante y cara de dique | C23: m2
B24: Colocación de enrocado de protección en uña antisocavante (D=1.5m) | C24: m3
B25: Extracción y procesamiento de material para filtro | C25: m3
B26: Transporte de filtro desde cantera xxx (Dist. …km) | C26: m3
B27: Colocación de filtro (material de cantera) | C27: m3
B28: Producción en cantera para Enrocado de protección de diques con voladura | C28: m3
B29: Selección de material enrocado y acopio temporal
B30: Transporte de enrocado desde cantera yyy (Dist. …km) | C30: m3
B31: Colocación de enrocado de protección de dique (D=1m, e de 1m a 0.50m) | C31: m3
B32: Perfilado de talud de cara seca de dique | C32: m2
B33: Limpieza y entrega de obra
A35: 2 | B35: Estructura típica: Diques de Retención con GAVIONES
B36: Diques de encauzamiento y protección del río Carabamba Ciudad Prog. 0+000 @ 1+080
B37: Construcción, mejoramiento y/o rehabilitación de acceso hasta diques de relleno
B38: Construcción de campamento provisional de obra
B39: Terraplén para campamento provisional
B40: Campamento
B41: Desbroce y limpieza 30m de ancho | C41: m2
B42: Acopio de material orgánico en DMO
...

Sheet Resumen
C2: FORMATO C1- PROPUESTA ECONÓMICA | F2: CO-PE-1PE326-CM-HA-004
F3: Revisión 0
C4: “ENTREGA DE LAS DEFENSAS RIBEREÑAS DE LOS RÍOS CHICAMA Y VIRÚ (PAQUETE 9R-06)" | F4: Fecha: 09/03/2022
F5: Página 1 de 3
B9: Referencia: TDR-Anexo 13
B11: Proyecto: | C11: PLAN INTEGRAL PARA EL CONTROL DE INUNDACIONES Y MOVIMIENTO DE MASA DE LAS CUENCAS DE LOS RIOS VIRÚ Y CHICAMA - DEPARTAMENTO DE LA LIBERTAD (PAQUETE 9 R-06)
B14: Paquete: | C14: 1C "CONTRATACIÓN DE OPERADOR DE CANTERAS DE ROCA - RIO CHICAMA"
B16: Río: | C16: CHICAMA
B18: Cliente: | C18: OHLA
B20: Postor: | C20: OHLA
B22: Lugar: | C22: Chicama
B25: Plazo: | D25: 592 | E25: días calendario
B28: Fecha de oferta:
B31: Fecha de inicio para la ejecución: | D31: 44986
B35: A. | C35: TOTAL COSTO DIRECTO | F35: =+'Costo Directo'!G94 -> 0
B36: B. | C36: GASTOS GENERALES | F36: =+'Gastos Generales'!I220 -> 0
B37: C. | C37: UTILIDAD | F37: =+F35*0.1 -> 0
B38: D. | C38: TOTAL COSTO DETERMINADO (A+B+C) | F38: =F35+F36+F37 -> 0
B40: E. | C40: IGV (18% D) | E40: 0.18 | F40: =(F38+F39)*E40 -> 0
B42: F. | C42: TOTAL PRESUPUESTO INICIAL INCLUYE IGV (D+E) | F42: =F38+F39+F40 -> 0

Sheet Costo Directo
C2: FORMATO C1: PROPUESTA ECONÓMICA | F2: CO-PE-1PE326-CM-HA-004
F3: Revisión 0
C4: “ENTREGA DE LAS DEFENSAS RIBEREÑAS DE LOS RÍOS CHICAMA Y VIRÚ (PAQUETE 9R-06)" | F4: Fecha: 09/03/2022
F5: Página 2 de 3
B7: Proyecto: | C7: =+Resumen!C11 -> PLAN INTEGRAL PARA EL CONTROL DE INUNDACIONES Y MOVIMIENTO DE MASA DE LAS CUENCAS DE LOS RIOS VIRÚ Y CHICAMA - DEPARTAMENTO DE LA LIBERTAD (PAQUETE 9 R-06)
B8: Río: | C8: =+Resumen!C16 -> CHICAMA
B9: N° del Paquete: | C9: 1C
B10: Nombre del Paquete: | C10: =+Resumen!C14 -> 1C "CONTRATACIÓN DE OPERADOR DE CANTERAS DE ROCA - RIO CHICAMA"
B12: Referencia: | C12: TDR Anexo 13
B13: PLANILLA DE COSTO DIRECTO
B15: Item | C15: Descripción | D15: Unidad | E15: Total | F15: P.U. (S/) | G15: Total (S/)
B16: 1 | C16: OBRAS PROVISIONALES | G16: =SUM(G17:G20) -> 0
B17: 1.01 | C17: Tramite, gestión y obtención de permisos para uso y adquisición de explosivos | D17: Glb | E17: 1 | G17: =ROUND(E17*F17,2) -> 0
B18: 1.02 | C18: Tramite, gestión y obtención de permisos para manipulación de explosivos | D18: Glb | E18: 1 | G18: =ROUND(E18*F18,2) -> 0
B19: 1.03 | C19: Tramite, gestión y obtención de permisos para almacenamiento y uso de polvorín | D19: Glb | E19: 1 | G19: =ROUND(E19*F19,2) -> 0
B20: 1.04 | C20: Tramite, gestión y obtención de permisos para explotación de canteras | D20: Glb | E20: 1 | G20: =ROUND(E20*F20,2) -> 0
B21: 2 | C21: OBRAS PRELIMINARES | G21: =SUM(G23:G64) -> 0
B22: 2.01 | C22: Trazo y replanteo
B23: 2.0101 | C23: Trazo y replanteo topográfico al inicio de obra | D23: mes | E23: 0.5 | G23: =ROUND(E23*F23,2) -> 0
B24: 2.0102 | C24: Trazo y replanteo topográfico durante la ejecución de la obra | D24: mes | E24: 18.5 | G24: =ROUND(E24*F24,2) -> 0
B25: 2.0103 | C25: Levantamiento Topografico final de obra | D25: mes | E25: 0.5 | G25: =ROUND(E25*F25,2) -> 0
B26: 2.02 | C26: Construcción de acceso nuevo
B27: 2.0201 | C27: Desbroce y remoción de suelo vegetal con equipo | D27: m3 | E27: 0 | G27: =ROUND(E27*F27,2) -> 0
B28: 2.0202 | C28: Transporte de material excedente a DMO, d≤1km | D28: m3xkm | E28: 0 | G28: =ROUND(E28*F28,2) -> 0
B29: 2.0203 | C29: Transporte de material excedente a DMO, d>1km | D29: m3xkm | E29: 0 | G29: =ROUND(E29*F29,2) -> 0
B30: 2.0204 | C30: Excavación en material común | D30: m3 | E30: 133392 | G30: =ROUND(E30*F30,2) -> 0
B31: 2.0205 | C31: Excavación en roca fracturada | D31: m3 | E31: 5310.7 | G31: =ROUND(E31*F31,2) -> 0
B32: 2.0206 | C32: Excavación en roca fija con martillo hidráulico | D32: m3 | E32: 11450.5 | G32: =ROUND(E32*F32,2) -> 0
B33: 2.0207 | C33: Relleno compactado con equipo pesado para accesos | D33: m3 | E33: 12818 | G33: =ROUND(E33*F33,2) -> 0
B34: 2.0208 | C34: Proceso y selección de material propio | D34: m3 | E34: 12818 | G34: =ROUND(E34*F34,2) -> 0
B35: 2.0209 | C35: Transporte de material propio para relleno, d≤1km | D35: m3xkm | E35: 12818 | G35: =ROUND(E35*F35,2) -> 0
B36: 2.021 | C36: Transporte de material propio para relleno, d>1km | D36: m3xkm | E36: 12818 | G36: =ROUND(E36*F36,2) -> 0
B37: 2.0211 | C37: Producción de material de préstamo | D37: m3 | E37: 0 | G37: =ROUND(E37*F37,2) -> 0
B38: 2.0212 | C38: Transporte de material de préstamo, d≤1km | D38: m3xkm | E38: 0 | G38: =ROUND(E38*F38,2) -> 0
... B45: 2.06 | C45: Desmovilización de equipos de obra | D45: Glb | E45: 1 | G45: =ROUND(E45*F45,2) -> 0
B46: 2.07 | C46: Construcción de campamentos, zonas de acopio e instalación de polvorín
B47: 2.0701 | C47: Conformación de terraplén para campamentos | D47: m2 | E47: 58225.5 | G47: =ROUND(E47*F47,2) -> 0
B48: 2.0702 | C48: Construcción de campamentos | D48: Glb | E48: 1 | G48: =ROUND(E48*F48,2) -> 0
B49: 2.0703 | C49: Mantenimiento de campamentos | D49: mes | E49: 19.5 | G49: =ROUND(E49*F49,2) -> 0
B50: 2.0704 | C50: Desbroce y remoción de suelo vegetal con equipo | D50: m2 | E50: 0 | G50: =ROUND(E50*F50,2) -> 0
...

Sheet Gastos Generales
C1: FORMATO C1- PROPUESTA ECONÓMICA | H1: CO-PE-1PE326-CM-HA-004
H2: Revisión 0
C3: “ENTREGA DE LAS DEFENSAS RIBEREÑAS DE LOS RÍOS CHICAMA Y VIRÚ (PAQUETE 9R-06)" | H3: Fecha: 09/03/2022
H4: Página 3 de 3
A6: Proyecto: | C6: =+Resumen!C11 -> PLAN INTEGRAL PARA EL CONTROL DE INUNDACIONES Y MOVIMIENTO DE MASA DE LAS CUENCAS DE LOS RIOS VIRÚ Y CHICAMA - DEPARTAMENTO DE LA LIBERTAD (PAQUETE 9 R-06)
A7: Río: | C7: =+Resumen!C16 -> CHICAMA
A8: N° del Paquete: | C8: 1 C
A9: Nombre del Paquete: | C9: =+Resumen!C14 -> 1C "CONTRATACIÓN DE OPERADOR DE CANTERAS DE ROCA - RIO CHICAMA"
A11: Referencia: | B11: TDR Anexo 13
C12: PLANILLA DE GASTOS GENERALES - GESTIÓN
C14: GASTOS VARIABLES | H14: COSTO DIRECTO | I14: =+'Costo Directo'!G94 -> 0
A16: G1 | C16: GASTOS DE DIRECCION Y ADMINISTRACION DEL PROYECTO
A17: Item | B17: Descripción | D17: Unidad | E17: Personas /cantidad | F17: % incidencia | G17: Tiempo (mes) | H17: Costo mensual (S/) | I17: Costo parcial (S/)
B18: Residente de Obra | D18: mes | I18: =ROUND(F18*G18*H18,2) -> 0
B19: Administrador de Obra | D19: mes | I19: =ROUND(F19*G19*H19,2) -> 0
B20: Comprador | D20: mes | I20: =ROUND(F20*G20*H20,2) -> 0
B21: Jefe de Recursos Humanos | D21: mes | I21: =ROUND(F21*G21*H21,2) -> 0
B22: Asistente de RRHH | D22: mes | I22: =ROUND(F22*G22*H22,2) -> 0
B23: Responsable de Servicios Generales | D23: mes | I23: =ROUND(F23*G23*H23,2) -> 0
B24: Asistente administrativo | D24: mes | I24: =ROUND(F24*G24*H24,2) -> 0
B25: Personal de Mantenimiento y Limpieza | D25: mes | I25: =ROUND(F25*G25*H25,2) -> 0
B26: Encargado/Resp de Almacén | D26: mes | I26: =ROUND(F26*G26*H26,2) -> 0
B27: Auxiliar de Almacén | D27: mes | I27: =ROUND(F27*G27*H27,2) -> 0
B28: Asistente en asuntos sociales | D28: mes | I28: =ROUND(F28*G28*H28,2) -> 0
B29: Tareadores | D29: mes | I29: =ROUND(E29*F29*G29*H29,2) -> 0
B30: Choferes de camioneta | D30: pers*mes | I30: =ROUND(E30*F30*G30*H30,2) -> 0
B31: Chofer de Van, Bus | D31: mes | I31: =ROUND(E31*F31*G31*H31,2) -> 0
B32: Vigilancia - Polvorin (Resguardo policial 24h + supervisor) | D32: mes | I32: =ROUND(E32*F32*G32*H32,2) -> 0
B33: Alimentación y alojamiento Staff | D33: pers *mes | I33: =ROUND(E33*F33*G33*H33,2) -> 0
B34: Alimentación - asistentes - personal local (desayuno y almuerzo) | D34: pers *mes | I34: =ROUND(E34*F34*G34*H34,2) -> 0
B35: Alimentación choferes y personal local (desayuno y almuerzo) | D35: pers *mes | I35: =ROUND(E35*F35*G35*H35,2) -> 0
B36: Viajes avión staff | D36: Unidad | I36: =ROUND(E36*F36*G36*H36,2) -> 0
B37: Viajes terrestres - asistentes | D37: Unidad | I37: =ROUND(E37*F37*G37*H37,2) -> 0
B38: Camionetas | D38: mes | I38: =ROUND(E38*F38*G38*H38,2) -> 0
B39: Minivan para 15 personas | D39: mes | I39: =ROUND(E39*F39*G39*H39,2) -> 0
B40: Bus para 50 personas- MOI | D40: mes | I40: =ROUND(E40*F40*G40*H40,2) -> 0
... B51: Licencias software | D51: mes | I51: =ROUND(E51*F51*G51*H51,2) -> 0
H52: SUB TOTAL S/ | I52: =SUM(I18:I51) -> 0
C54: GASTOS DE OPERACIÓN - OFICINA TECNICA
A55: Item | B55: Descripción | D55: Unidad | E55: Personas | F55: % incidencia | G55: Tiempo (mes) | H55: Costo mensual (S/) | I55: Costo parcial (S/)
...
