Workbook

Sheet Nivel 4 LookAhead P
C2: CRONOGRAMA NIVEL 4
C3: REGISTRO DE PLANIFICACIÓN (JUNIO-2024)
B5: Proyecto | C5: : "DEFENSAS RIBEREÑAS DEL RÍO CHICAMA”
C6: PY 03 – PAQUETE 06 – 45+000 – 64+430
B7: Elaborado por | C7: ALTAVISTA IG SAC
B8: Fecha de Elaboración: | C8: 45460
B10: SEMANA DE CONTROL: N°01
B11: Del: | C11: 45491
B12: Al: | C12: =+C11+6 -> 45497
B14: ID | C14: ACTIVIDADES | D14: UNIDAD | E14: METRADO CONTRACTUAL | F14: SEMANA ANTERIOR | M14: ESTA SEMANA | T14: SEMANA SIGUIENTE_1 | AA14: SEMANA SIGUIENTE_2
F15: J | G15: V | H15: S | I15: D | J15: L | K15: M | L15: X | M15: J | N15: V | O15: S | P15: D | Q15: L | R15: M | S15: X | T15: J | U15: V | V15: S | W15: D | X15: L | Y15: M | Z15: X | AA15: J | AB15: V | AC15: S | AD15: D | AE15: L | AF15: M | AG15: X | AH15: COMENTARIOS
F16: =+G16-1 -> 45484 | G16: =+H16-1 -> 45485 | H16: =+I16-1 -> 45486 | I16: =+J16-1 -> 45487 | J16: =+K16-1 -> 45488 | K16: =+L16-1 -> 45489 | L16: =+M16-1 -> 45490 | M16: =C11 -> 45491 | N16: =+M16+1 -> 45492 | O16: =+N16+1 -> 45493 | P16: =+O16+1 -> 45494 | Q16: =+P16+1 -> 45495 | R16: =+Q16+1 -> 45496 | S16: =+R16+1 -> 45497 | T16: =+S16+1 -> 45498 | U16: =+T16+1 -> 45499 | ... AG16: =+AF16+1 -> 45511
B17: 0 | C17: ARRANQUE DE GESTIÓN
C18: GERENCIAL
C19: Reclutamiento + Contratación + "Habilitación" de personal Equipo de Dirección del Proyecto | F19: X | G19: X | H19: X | I19: X | J19: X | K19: X | L19: X | M19: X | N19: X | O19: X | P19: X | Q19: X | R19: X | S19: X | T19: X | U19: X | V19: X | W19: X | X19: X | Y19: X | Z19: X | AA19: X | AB19: X | AC19: X | AD19: X | AE19: X | AF19: X | AG19: X
C20: Definicióno de Proveedores Maquinarias y Contratar Maquinarias de Avanzada: | F20: X | G20: X | H20: X | I20: X | J20: X | K20: X | L20: X | M20: X | N20: X | O20: X | P20: X | Q20: X | R20: X | S20: X | T20: X | U20: X | V20: X | W20: X | X20: X | Y20: X | Z20: X | AA20: X | AB20: X | AC20: X | AD20: X | AE20: X | AF20: X | AG20: X
C21: Movilizar: 02 Tract. + 02 Excav. + Chancadora + 01 Motoniv. + 01 Rod.Vib. + 04 Volquetes + 01 C.Cist.Agua + 01 C.C.Combustible | T21: X | U21: X | V21: X | W21: X | X21: X | Y21: X | Z21: X | AA21: X | AB21: X | AC21: X | AD21: X | AE21: X | AF21: X | AG21: X
C22: Definicióno de Proveedor de Combustibles | F22: X | G22: X | H22: X | I22: X | J22: X | K22: X | L22: X | M22: X | N22: X | O22: X | P22: X | Q22: X | R22: X | S22: X | T22: X | U22: X | V22: X | W22: X | X22: X | Y22: X | Z22: X | AA22: X | AB22: X | AC22: X | AD22: X | AE22: X | AF22: X | AG22: X
C23: Reunión Transferencia y del Equipo de Dirección de Proyecto. | F23: X | G23: X | H23: X | I23: X | J23: X | K23: X | L23: X | M23: X | N23: X | O23: X | P23: X | Q23: X | R23: X | S23: X
C24: Contratación de Seguros, Polizas y Fianzas del Proyecto, Firma de Contrato | F24: X | G24: X | H24: X | I24: X | J24: X | K24: X | L24: X | M24: X | N24: X | O24: X | P24: X | Q24: X | R24: X | S24: X | T24: X | U24: X | V24: X | W24: X | X24: X | Y24: X | Z24: X | AA24: X | AB24: X | AC24: X | AD24: X | AE24: X | AF24: X | AG24: X
C25: Contratar con Comunidad (Plataforma para Campamento Oficinas y Talleres) | T25: X | U25: X | V25: X | W25: X | X25: X | Y25: X | Z25: X | AA25: X | AB25: X | AC25: X | AD25: X | AE25: X | AF25: X | AG25: X
C26: Contratar con Comunidad (DME, DMO, Accesos, etc.) | F26: X | G26: X | H26: X | I26: X | J26: X | K26: X | L26: X | M26: X | N26: X | O26: X | P26: X | Q26: X | R26: X | S26: X | T26: X | U26: X | V26: X | W26: X | X26: X | Y26: X | Z26: X | AA26: X | AB26: X | AC26: X | AD26: X | AE26: X | AF26: X | AG26: X
C27: ADMINISTRACION
C28: Reclutamiento de Profesionales y MANO DE OBRA CALIFICADA (Operadores y Capataces) | M28: X | N28: X | O28: X | P28: X | Q28: X | R28: X | S28: X | T28: X | U28: X | V28: X | W28: X | X28: X | Y28: X | Z28: X | AA28: X | AB28: X | AC28: X | AD28: X | AE28: X | AF28: X | AG28: X
C29: Reclutamiento de Personal MANO DE OBRA "NO CALIFICADA" | M29: X | N29: X | O29: X | P29: X | Q29: X | R29: X | S29: X | T29: X | U29: X | V29: X | W29: X | X29: X | Y29: X | Z29: X | AA29: X | AB29: X | AC29: X | AD29: X | AE29: X | AF29: X | AG29: X
C30: Examen Médico | M30: X | N30: X | O30: X | P30: X | Q30: X | R30: X | S30: X | T30: X | U30: X | V30: X | W30: X | X30: X | Y30: X | Z30: X | AA30: X | AB30: X | AC30: X | AD30: X | AE30: X | AF30: X | AG30: X
C31: Capacitaciones e Inducciones (del Subcontratista y del Contratista) | M31: X | N31: X | O31: X | P31: X | Q31: X | R31: X | S31: X | T31: X | U31: X | V31: X | W31: X | X31: X | Y31: X | Z31: X | AA31: X | AB31: X | AC31: X | AD31: X | AE31: X | AF31: X | AG31: X
C32: Alquiler Servicios: Hospedajes y Vehículos de Transportes | M32: X | N32: X | O32: X | P32: X | Q32: X | R32: X | S32: X | T32: X | U32: X | V32: X | W32: X | X32: X | Y32: X | Z32: X
C33: _______Definir Proveedor de Combustible Local (temporario 1 mes) | M33: X | N33: X | O33: X | P33: X | Q33: X | R33: X | S33: X | T33: X | U33: X | V33: X | W33: X | X33: X | Y33: X | Z33: X
C34: Logística de EPPs, Sistemas de Protección Colectiva, Materiales Seguridad y Ambiente, repuestos y consumibles | T34: X | U34: X | V34: X | W34: X | X34: X | Y34: X | Z34: X | AA34: X | AB34: X | AC34: X | AD34: X | AE34: X | AF34: X | AG34: X
C35: OPERACIONES
C36: Reconocimiento de Terreno Personal Especializado y Desarrollo Plan Ejecución Proyecto y otros documentos p/aprobación | O36: X | P36: X | Q36: X | R36: X | S36: X | T36: X | U36: X | V36: X | W36: X | X36: X | Y36: X | Z36: X | AA36: X | AB36: X | AC36: X | AD36: X | AE36: X | AF36: X | AG36: X
C37: Identificación y Priorización de accesos, definición de actividades de intervención. | O37: X | P37: X | Q37: X | R37: X | S37: X | T37: X | U37: X | V37: X | W37: X | X37: X | Y37: X | Z37: X | AA37: X | AB37: X | AC37: X | AD37: X | AE37: X | AF37: X | AG37: X
C38: Desarrollo de Instructivos o Procedimientos Operativos | Q38: X | R38: X | S38: X | T38: X | U38: X | V38: X | W38: X | X38: X | Y38: X | Z38: X | AA38: X | AB38: X | AC38: X | AD38: X | AE38: X | AF38: X | AG38: X
C39: Desarrollo de Planes y Programas de Seguridad y Manejo Ambiental | M39: X | N39: X | O39: X | P39: X | Q39: X | R39: X | S39: X | T39: X | U39: X | V39: X | W39: X | X39: X | Y39: X | Z39: X | AA39: X | AB39: X | AC39: X | AD39: X | AE39: X | AF39: X | AG39: X
C40: Implementaciones y Equipamientos para Vehículos () | AA40: X | AB40: X | AC40: X | AD40: X | AE40: X | AF40: X | AG40: X
C41: Evaluaciones de Desempeño Semanal y Reportabilidad | T41: X | U41: X | V41: X | W41: X | X41: X | Y41: X | Z41: X | AA41: X | AB41: X | AC41: X | AD41: X | AE41: X | AF41: X | AG41: X
C42: ______Habilitación de Poza de Cisternas Estacionarias de Combustible (y seguranza) | AA42: X | AB42: X | AC42: X | AD42: X | AE42: X | AF42: X | AG42: X
C43: ______Movilización y Montaje de Cisternas Estacionarias de Combustibles | AA43: X | AB43: X | AC43: X | AD43: X | AE43: X | AF43: X | AG43: X
B45: 1 | C45: OBRAS PRELIMINARES
B46: 1.01 | C46: Trazo y replanteo topográfico al inicio de obra | D46: mes | E46: 0.5 | O46: =1/30 -> 0.033333333 | P46: =1/30 -> 0.033333333 | Q46: =1/30 -> 0.033333333 | R46: =1/30 -> 0.033333333 | S46: =1/30 -> 0.033333333 | T46: =1/30 -> 0.033333333 | U46: =1/30 -> 0.033333333 | V46: =1/30 -> 0.033333333 | ... X46: =1/30 -> 0.033333333
B47: 1.02 | C47: Trazo y replanteo topográfico durante la ejecución de obra | D47: mes | E47: 17.33 | Y47: =1/30 -> 0.033333333 | Z47: =1/30 -> 0.033333333 | AA47: =1/30 -> 0.033333333 | AB47: =1/30 -> 0.033333333 | AC47: =1/30 -> 0.033333333 | AD47: =1/30 -> 0.033333333 | AE47: =1/30 -> 0.033333333 | AF47: =1/30 -> 0.033333333 | AG47: =1/30 -> 0.033333333
B48: 1.03 | C48: Levantamiento topografico final de obra | D48: mes | E48: 0.5
B49: 1.04 | C49: Cartel de Obra de 4.80 x 3.60 m | D49: und | E49: 1 | T49: 0.2 | U49: 0.2 | V49: 0.2 | W49: 0.2 | X49: 0.2
B50: 1.05 | C50: Construcción de acceso nuevo
B51: 1.0501 | C51: Excavación en material común para accesos | D51: m3 | E51: 2828.1046 | X51: 350 | Y51: 350 | Z51: 350 | AA51: 350 | AB51: 350 | AC51: 350 | AD51: 350 | AE51: 350
B52: 1.0504 | C52: Relleno compactado con equipo pesado para accesos | D52: m3 | E52: 1108.7387 | AC52: 250 | AD52: 250 | AE52: 250 | AF52: 250 | AG52: 100
B53: 1.0505 | C53: Proceso y selección de material propio | D53: m3 | E53: 1108.7387 | AA53: 250 | AB53: 250 | AC53: 250 | AD53: 250 | AE53: 100
B54: 1.0506 | C54: Transporte de material propio para relleno, d≤1km | D54: m3xkm | E54: 975.69002 | AA54: =+E54*AA53/E53 -> 220 | AB54: =+AA54 -> 220 | AC54: =+AB54 -> 220 | AD54: =+AC54 -> 220 | AE54: 100
B55: 1.0511 | C55: Transporte de material excedente a DME, d≤1km | D55: m3xkm | E55: 1513.0421 | AA55: =+E55*AA51/E51 -> 187.25075 | AB55: =+AA55 -> 187.25075 | AC55: =+AB55 -> 187.25075 | AD55: =+AC55 -> 187.25075 | AE55: =+AD55 -> 187.25075
B56: 1.0512 | C56: Transporte de material excedente a DME, d>1km | D56: m3xkm | E56: 68.774639
B57: 1.0513 | C57: Desbroce y remoción de suelo vegetal con equipo | D57: m2 | E57: 14415.948
B58: 1.0514 | C58: Transporte de material excedente a DMO, d≤1km | D58: m3xkm | E58: 6343.0173
B59: 1.0515 | C59: Transporte de material excedente a DMO, d>1km | D59: m3xkm | E59: 24708.936 | T59: =1/30 -> 0.033333333 | U59: =1/30 -> 0.033333333 | V59: =1/30 -> 0.033333333 | W59: =1/30 -> 0.033333333 | X59: =1/30 -> 0.033333333 | Y59: =1/30 -> 0.033333333 | Z59: =1/30 -> 0.033333333 | AA59: =1/30 -> 0.033333333 | ... AG59: =1/30 -> 0.033333333
B60: 1.0517 | C60: Habilitación de acceso temporal en cauce de río. (Inc. Colocación y Retiro de alcantarilla) | D60: mes | E60: 18.33
B61: 1.06 | C61: Rehabilitación de accesos existentes
B62: 1.0601 | C62: Rehabilitación de accesos existentes | D62: km | E62: 12.896679 | T62: 800 | U62: 800 | V62: 800 | W62: 800 | X62: 800 | Y62: 800 | Z62: 800 | AA62: 800 | AB62: 800 | AC62: 800 | AD62: 800 | AE62: 800 | AF62: 800 | AG62: 800
B63: 1.0602 | C63: Suministro, transporte e instalación de alcantarillas HDPE corrugada DN 375 mm, para cruce sobre canal | D63: und | E63: 1
B64: 1.0603 | C64: Suministro, transporte e instalación de alcantarillas HDPE corrugada DN 450 mm, para cruce sobre canal | D64: und | E64: 3
B65: 1.0604 | C65: Suministro, transporte e instalación de alcantarillas HDPE corrugada DN 750 mm, para cruce sobre canal | D65: und | E65: 4
B66: 1.0605 | C66: Suministro, transporte e instalación de alcantarillas HDPE corrugada DN 900 mm, para cruce sobre canal | D66: und | E66: 2
B67: 1.0606 | C67: Suministro, transporte e instalación de alcantarillas HDPE corrugada DN 1200 mm, para cruce sobre canal | D67: und | E67: 3
B68: 1.0607 | C68: Suministro, transporte e instalación de alcantarillas HDPE corrugada DN 1500 mm, para cruce sobre canal | D68: und | E68: 4
B69: 1.0608 | C69: Suministro y colocación de mamposteria de piedra en baden, para cruce sobre canal | D69: und | E69: 1
B70: 1.07 | C70: Mantenimiento de accesos (L<15 km) | D70: mes | E70: 18.33
B71: 1.08 | C71: Conformación de ataguía para desvío temporal de cauce de río | D71: m3 | E71: 167969
B72: 1.0801 | C72: Conformación de ataguía para desvío temporal de cauce de río | D72: m3 | E72: 268986.46
B73: 1.0802 | C73: Colocación de roca al volteo | D73: m3 | E73: 22842.6
B74: 1.0803 | C74: Transporte de roca seleccionada de cantera para enrocado de protección, d≤1km | D74: m3xkm | E74: 20101.488
... B78: 1.0807 | C78: Transporte de roca rechazada a DME, d>1km | D78: m3xkm | E78: 137055.6
B79: 1.09 | C79: Señalización de obra | D79: Glb | E79: 1 | T79: =1/30 -> 0.033333333 | U79: =1/30 -> 0.033333333 | V79: =1/30 -> 0.033333333 | W79: =1/30 -> 0.033333333 | X79: =1/30 -> 0.033333333 | Y79: =1/30 -> 0.033333333 | Z79: =1/30 -> 0.033333333 | AA79: =1/30 -> 0.033333333 | ... AG79: =1/30 -> 0.033333333
B80: 1.1 | C80: Movilización de equipos a obra | D80: Glb | E80: 1 | O80: =1/30 -> 0.033333333 | P80: =1/30 -> 0.033333333 | Q80: =1/30 -> 0.033333333 | R80: =1/30 -> 0.033333333 | S80: =1/30 -> 0.033333333 | T80: =1/30 -> 0.033333333 | U80: =1/30 -> 0.033333333 | V80: =1/30 -> 0.033333333 | ... AG80: =1/30 -> 0.033333333
B81: 1.11 | C81: Desmovilización de equipos a obra | D81: Glb | E81: 1
B82: 1.12 | C82: Construcción de campamentos (talleres, almacenes y oficinas)
B83: 1.1201 | C83: Conformación de terraplén para campamentos | D83: m2 | E83: 25925.82 | T83: 2500 | U83: 2500 | V83: 2500 | W83: 2500 | X83: 2500 | Y83: 2500 | Z83: 2500 | AA83: 2500 | AB83: 2500 | AC83: 2500 | AD83: 2500 | AE83: 2500 | AF83: 2500 | AG83: 2500
B84: 1.1202 | C84: Construcción de campamentos | D84: Glb | E84: 1 | T84: =1/30 -> 0.033333333 | U84: =1/30 -> 0.033333333 | V84: =1/30 -> 0.033333333 | W84: =1/30 -> 0.033333333 | X84: =1/30 -> 0.033333333 | Y84: =1/30 -> 0.033333333 | Z84: =1/30 -> 0.033333333 | AA84: =1/30 -> 0.033333333 | ... AG84: =1/30 -> 0.033333333
B85: 1.1203 | C85: Mantenimiento de campamentoss | D85: mes | E85: 18.33
B86: 1.1204 | C86: Desbroce y remoción de suelo vegetal con equipo | D86: m2 | E86: 25925.82 | T86: 1500 | U86: 1500 | V86: 1500 | W86: 1500 | X86: 1500 | Y86: 1500 | Z86: 1500 | AA86: 1500 | AB86: 1500 | AC86: 1500 | AD86: 1500 | AE86: 1500
B87: 1.1205 | C87: Transporte de material excedente a DMO, d≤1km | D87: m3xkm | E87: 4562.9443 | T87: 450 | U87: 450 | V87: 450 | W87: 450 | X87: 450 | Y87: 450 | Z87: 450 | AA87: 450 | AB87: 450 | AC87: 450 | AD87: 450 | AE87: 450
B88: 1.1206 | C88: Transporte de material excedente a DMO, d>1km | D88: m3xkm | E88: 38183.548 | T88: =+T87*7.5 -> 3375 | U88: =+U87*7.5 -> 3375 | V88: =+V87*7.5 -> 3375 | W88: =+W87*7.5 -> 3375 | X88: =+X87*7.5 -> 3375 | Y88: =+Y87*7.5 -> 3375 | Z88: =+Z87*7.5 -> 3375 | AA88: =+AA87*7.5 -> 3375 | ... AE88: =+AE87*7.5 -> 3375
B89: 1.13 | C89: Implementación de controles ambientales durante la construcción | D89: mes | E89: 18.33 | O89: =1/30 -> 0.033333333 | P89: =1/30 -> 0.033333333 | Q89: =1/30 -> 0.033333333 | R89: =1/30 -> 0.033333333 | S89: =1/30 -> 0.033333333 | T89: =1/30 -> 0.033333333 | U89: =1/30 -> 0.033333333 | V89: =1/30 -> 0.033333333 | ... AG89: =1/30 -> 0.033333333
B90: 1.14 | C90: Acondicionamiento de terrenos para DME y DMO | T90: 1000 | U90: 1000 | V90: 1000 | W90: 1000 | X90: 1000 | Y90: 1000 | Z90: 1000 | AA90: 1000 | AB90: 1000 | AC90: 1000 | AD90: 1000 | AE90: 1000 | AF90: 1000 | AG90: 1000
B91: 1.1401 | C91: Acondicionamiento de terrenos para DME y DMO | D91: m2 | E91: 653614.21
B92: 1.1402 | C92: Conformación de material excedente en DME y DMO | D92: m3 | E92: 754170.24
B93: 1.1403 | C93: Desbroce y remoción de suelo vegetal con equipo | D93: m2 | E93: 213553.65
B94: 1.1404 | C94: Transporte de material excedente a DMO, d≤1km | D94: m3xkm | E94: 144568.67
B95: 1.1405 | C95: Transporte de material excedente a DMO, d>1km | D95: m3xkm | E95: 1092386.7
B96: 1.16 | C96: Restauración y revegetación de áreas intervenidas | D96: m2 | E96: 25925.82
B97: 2 | C97: ENCAUZAMIENTO DE RÍO - SECTOR 1
B98: 2.0201 | C98: Desbroce y remoción de suelo vegetal con equipo | D98: m2 | E98: 65891.967 | Z98: 2000 | AA98: 2000 | AB98: 2000 | AC98: 2000 | AD98: 2000 | AE98: 2000 | AF98: 2000 | AG98: 2000
B99: 2.0202 | C99: Transporte de material excedente a DMO, d≤1km | D99: m3xkm | E99: 21934.18 | Z99: 600 | AA99: 600 | AB99: 600 | AC99: 600 | AD99: 600 | AE99: 600 | AF99: 600 | AG99: 600
B100: 2.0203 | C100: Transporte de material excedente a DMO, d>1km | D100: m3xkm | E100: 214331.95 | Z100: 2000 | AA100: 2000 | AB100: 2000 | AC100: 2000 | AD100: 2000 | AE100: 2000 | AF100: 2000 | AG100: 2000
B101: 2.0204 | C101: Excavación en material común | D101: m3 | E101: 155394.31 | Z101: 600 | AA101: 600 | AB101: 600 | AC101: 600 | AD101: 600 | AE101: 600 | AF101: 600 | AG101: 600
B102: 2.0205 | C102: Excavación para conformación de uña antisocavante | D102: m3 | E102: 93402.05 | Z102: 400 | AA102: 400 | AB102: 400 | AC102: 400 | AD102: 400 | AE102: 400 | AF102: 400 | AG102: 400
B103: 2.0206 | C103: Colocación de protección para geotextil | D103: m2 | E103: 76518.615 | Z103: 30 | AA103: 30 | AB103: 30 | AC103: 30 | AD103: 30 | AE103: 30 | AF103: 30 | AG103: 30

Sheet Análisis Restricciones
B1: ANÁLISIS DE RESTRICCIONES
B2: =+'Nivel 4 LookAhead P'!C3 -> REGISTRO DE PLANIFICACIÓN (JUNIO-2024)
A4: Proyecto | B4: ='Nivel 4 LookAhead P'!C5 -> : "DEFENSAS RIBEREÑAS DEL RÍO CHICAMA”
A5: Elaborado por | B5: ='Nivel 4 LookAhead P'!C7 -> ALTAVISTA IG SAC
A6: Fecha de Elaboración: | B6: =+'Nivel 4 LookAhead P'!C8 -> 45460
A8: =+'Nivel 4 LookAhead P'!B10 -> SEMANA DE CONTROL: N°01
A9: =+'Nivel 4 LookAhead P'!B11 -> Del: | B9: =+'Nivel 4 LookAhead P'!C11 -> 45491
A10: =+'Nivel 4 LookAhead P'!B12 -> Al: | B10: =+'Nivel 4 LookAhead P'!C12 -> 45497
A13: ID | B13: WORK DESCRIPCIÓN | C13: FECHA INICIO DE ACTIVIDAD | D13: CATEGORÍA | E13: DESCRIPCIÓN DE LA RESTRICCIÓN | F13: FECHA DE LEVANTAMIENTO | G13: RESPONSABLES
A14: 2.0.0 | B14: MOVIMIENTO DE TIERRAS
A15: 2.1.0 | B15: EXCAVACIÓN DE CANAL
A16: 2.1.1 | B16: Desbroce y limpieza del terreno
A17: 2.1.2 | B17: Excavación en Roca Fija
A30: 2.1.2A | B30: Excavación en Roca Suelta y Material Suelto
A34: 2.1.3 | B34: Transporte de material inadecuado/excedente, d = 5km
A35: 2.2.0 | B35: RECONFORMACIÓN DE ACCESO
A36: 2.1.1 | B36: Conformación y compactación con material propio (material granular)
A37: 3.0.0 | B37: TUBERÍA
A38: 3.0.1 | B38: Suministro e Instalación de tubería HDPE de 8" para continuación de canal
A45: 3.0.2 | B45: Suministro e Instalación de tubería HDPE de 36" para alcantarilla
A47: 3.0.3 | B47: Cama de apoyo
... A67: 4.2.3 | B67: Acero de refuerzo fy=4200 kg/cm2
D71: CATEGORÍA | E71: CATEGORÍA DE RESTRICCIÓN
D72: MO | E72: MANO DE OBRA
D73: MAT | E73: MATERIALES
D74: EQ | E74: EQUIPO MECÁNICO
D75: LOG | E75: LOGÍSTICA
D76: CAL | E76: CALIDAD
D77: ING | E77: INGENIERÍA
D78: CLI | E78: CLIENTE
