Workbook

Sheet Nivel 4 LookAhead P
C2: CRONOGRAMA NIVEL 4
C3: REGISTRO DE PLANIFICACIÓN (JUNIO-2024)
B5: Proyecto | C5: : "DEFENSAS RIBEREÑAS DEL RÍO CHICAMA”
C6: PY 03 – PAQUETE 06 – 45+000 – 64+430
B7: Elaborado por | C7: ALTAVISTA IG SAC
B8: Fecha de Elaboración: | C8: 45460
B10: SEMANA DE CONTROL: N°01
B11: Del: | C11: 45491
B12: Al: | C12: =+C11+6 -> 45497
B14: ID | C14: ACTIVIDADES | D14: UNIDAD | E14: METRADO CONTRACTUAL | F14: SEMANA ANTERIOR | M14: ESTA SEMANA | T14: SEMANA SIGUIENTE_1 | AA14: SEMANA SIGUIENTE_2
F15: J | G15: V | H15: S | I15: D | J15: L | K15: M | L15: X | M15: J | N15: V | O15: S | P15: D | Q15: L | R15: M | S15: X | T15: J | U15: V | V15: S | W15: D | X15: L | Y15: M | Z15: X | AA15: J | AB15: V | AC15: S | AD15: D | AE15: L | AF15: M | AG15: X | AH15: COMENTARIOS
F16: =+G16-1 -> 45484 | G16: =+H16-1 -> 45485 | H16: =+I16-1 -> 45486 | I16: =+J16-1 -> 45487 | J16: =+K16-1 -> 45488 | K16: =+L16-1 -> 45489 | L16: =+M16-1 -> 45490 | M16: =C11 -> 45491 | N16: =+M16+1 -> 45492 | O16: =+N16+1 -> 45493 | P16: =+O16+1 -> 45494 | Q16: =+P16+1 -> 45495 | R16: =+Q16+1 -> 45496 | S16: =+R16+1 -> 45497 | T16: =+S16+1 -> 45498 | U16: =+T16+1 -> 45499 | ... AG16: =+AF16+1 -> 45511
B17: 0 | C17: ARRANQUE DE GESTIÓN
C18: GERENCIAL
C19: Reclutamiento + Contratación + "Habilitación" de personal Equipo de Dirección del Proyecto | F19: X | G19: X | H19: X | I19: X | J19: X | K19: X | L19: X | M19: X | N19: X | O19: X | P19: X | Q19: X | R19: X | S19: X | T19: X | U19: X | V19: X | W19: X | X19: X | Y19: X | Z19: X | AA19: X | AB19: X | AC19: X | AD19: X | AE19: X | AF19: X | AG19: X
C20: Definicióno de Proveedores Maquinarias y Contratar Maquinarias de Avanzada: | F20: X | G20: X | H20: X | I20: X | J20: X | K20: X | L20: X | M20: X | N20: X | O20: X | P20: X | Q20: X | R20: X | S20: X | T20: X | U20: X | V20: X | W20: X | X20: X | Y20: X | Z20: X | AA20: X | AB20: X | AC20: X | AD20: X | AE20: X | AF20: X | AG20: X
C21: Movilizar: 02 Tract. + 02 Excav. + Chancadora + 01 Motoniv. + 01 Rod.Vib. + 04 Volquetes + 01 C.Cist.Agua + 01 C.C.Combustible | T21: X | U21: X | V21: X | W21: X | X21: X | Y21: X | Z21: X | AA21: X | AB21: X | AC21: X | AD21: X | AE21: X | AF21: X | AG21: X
C22: Definicióno de Proveedor de Combustibles | F22: X | G22: X | H22: X | I22: X | J22: X | K22: X | L22: X | M22: X | N22: X | O22: X | P22: X | Q22: X | R22: X | S22: X | T22: X | U22: X | V22: X | W22: X | X22: X | Y22: X | Z22: X | AA22: X | AB22: X | AC22: X | AD22: X | AE22: X | AF22: X | AG22: X
C23: Reunión Transferencia y del Equipo de Dirección de Proyecto. | F23: X | G23: X | H23: X | I23: X | J23: X | K23: X | L23: X | M23: X | N23: X | O23: X | P23: X | Q23: X | R23: X | S23: X
C24: Contratación de Seguros, Polizas y Fianzas del Proyecto, Firma de Contrato | F24: X | G24: X | H24: X | I24: X | J24: X | K24: X | L24: X | M24: X | N24: X | O24: X | P24: X | Q24: X | R24: X | S24: X | T24: X | U24: X | V24: X | W24: X | X24: X | Y24: X | Z24: X | AA24: X | AB24: X | AC24: X | AD24: X | AE24: X | AF24: X | AG24: X
C25: Contratar con Comunidad (Plataforma para Campamento Oficinas y Talleres) | T25: X | U25: X | V25: X | W25: X | X25: X | Y25: X | Z25: X | AA25: X | AB25: X | AC25: X | AD25: X | AE25: X | AF25: X | AG25: X
C26: Contratar con Comunidad (DME, DMO, Accesos, etc.) | F26: X | G26: X | H26: X | I26: X | J26: X | K26: X | L26: X | M26: X | N26: X | O26: X | P26: X | Q26: X | R26: X | S26: X | T26: X | U26: X | V26: X | W26: X | X26: X | Y26: X | Z26: X | AA26: X | AB26: X | AC26: X | AD26: X | AE26: X | AF26: X | AG26: X
C27: ADMINISTRACION
C28: Reclutamiento de Profesionales y MANO DE OBRA CALIFICADA (Operadores y Capataces) | M28: X | N28: X | O28: X | P28: X | Q28: X | R28: X | S28: X | T28: X | U28: X | V28: X | W28: X | X28: X | Y28: X | Z28: X | AA28: X | AB28: X | AC28: X | AD28: X | AE28: X | AF28: X | AG28: X
C29: Reclutamiento de Personal MANO DE OBRA "NO CALIFICADA" | M29: X | N29: X | O29: X | P29: X | Q29: X | R29: X | S29: X | T29: X | U29: X | V29: X | W29: X | X29: X | Y29: X | Z29: X | AA29: X | AB29: X | AC29: X | AD29: X | AE29: X | AF29: X | AG29: X
C30: Examen Médico | M30: X | N30: X | O30: X | P30: X | Q30: X | R30: X | S30: X | T30: X | U30: X | V30: X | W30: X | X30: X | Y30: X | Z30: X | AA30: X | AB30: X | AC30: X | AD30: X | AE30: X | AF30: X | AG30: X
C31: Capacitaciones e Inducciones (del Subcontratista y del Contratista) | M31: X | N31: X | O31: X | P31: X | Q31: X | R31: X | S31: X | T31: X | U31: X | V31: X | W31: X | X31: X | Y31: X | Z31: X | AA31: X | AB31: X | AC31: X | AD31: X | AE31: X | AF31: X | AG31: X
C32: Alquiler Servicios: Hospedajes y Vehículos de Transportes | M32: X | N32: X | O32: X | P32: X | Q32: X | R32: X | S32: X | T32: X | U32: X | V32: X | W32: X | X32: X | Y32: X | Z32: X
C33: _______Definir Proveedor de Combustible Local (temporario 1 mes) | M33: X | N33: X | O33: X | P33: X | Q33: X | R33: X | S33: X | T33: X | U33: X | V33: X | W33: X | X33: X | Y33: X | Z33: X
C34: Logística de EPPs, Sistemas de Protección Colectiva, Materiales Seguridad y Ambiente, repuestos y consumibles | T34: X | U34: X | V34: X | W34: X | X34: X | Y34: X | Z34: X | AA34: X | AB34: X | AC34: X | AD34: X | AE34: X | AF34: X | AG34: X
C35: OPERACIONES
C36: Reconocimiento de Terreno Personal Especializado y Desarrollo Plan Ejecución Proyecto y otros documentos p/aprobación | O36: X | P36: X | Q36: X | R36: X | S36: X | T36: X | U36: X | V36: X | W36: X | X36: X | Y36: X | Z36: X | AA36: X | AB36: X | AC36: X | AD36: X | AE36: X | AF36: X | AG36: X
C37: Identificación y Priorización de accesos, definición de actividades de intervención. | O37: X | P37: X | Q37: X | R37: X | S37: X | T37: X | U37: X | V37: X | W37: X | X37: X | Y37: X | Z37: X | AA37: X | AB37: X | AC37: X | AD37: X | AE37: X | AF37: X | AG37: X
C38: Desarrollo de Instructivos o Procedimientos Operativos | Q38: X | R38: X | S38: X | T38: X | U38: X | V38: X | W38: X | X38: X | Y38: X | Z38: X | AA38: X | AB38: X | AC38: X | AD38: X | AE38: X | AF38: X | AG38: X
C39: Desarrollo de Planes y Programas de Seguridad y Manejo Ambiental | M39: X | N39: X | O39: X | P39: X | Q39: X | R39: X | S39: X | T39: X | U39: X | V39: X | W39: X | X39: X | Y39: X | Z39: X | AA39: X | AB39: X | AC39: X | AD39: X | AE39: X | AF39: X | AG39: X
C40: Implementaciones y Equipamientos para Vehículos () | AA40: X | AB40: X | AC40: X | AD40: X | AE40: X | AF40: X | AG40: X
C41: Evaluaciones de Desempeño Semanal y Reportabilidad | T41: X | U41: X | V41: X | W41: X | X41: X | Y41: X | Z41: X | AA41: X | AB41: X | AC41: X | AD41: X | AE41: X | AF41: X | AG41: X
C42: ______Habilitación de Poza de Cisternas Estacionarias de Combustible (y seguranza) | AA42: X | AB42: X | AC42: X | AD42: X | AE42: X | AF42: X | AG42: X
C43: ______Movilización y Montaje de Cisternas Estacionarias de Combustibles | AA43: X | AB43: X | AC43: X | AD43: X | AE43: X | AF43: X | AG43: X
B45: 1 | C45: OBRAS PRELIMINARES
...

Sheet Análisis Restricciones
B1: ANÁLISIS DE RESTRICCIONES
B2: =+'Nivel 4 LookAhead P'!C3 -> REGISTRO DE PLANIFICACIÓN (JUNIO-2024)
A4: Proyecto | B4: ='Nivel 4 LookAhead P'!C5 -> : "DEFENSAS RIBEREÑAS DEL RÍO CHICAMA”
A5: Elaborado por | B5: ='Nivel 4 LookAhead P'!C7 -> ALTAVISTA IG SAC
A6: Fecha de Elaboración: | B6: =+'Nivel 4 LookAhead P'!C8 -> 45460
A8: =+'Nivel 4 LookAhead P'!B10 -> SEMANA DE CONTROL: N°01
A9: =+'Nivel 4 LookAhead P'!B11 -> Del: | B9: =+'Nivel 4 LookAhead P'!C11 -> 45491
A10: =+'Nivel 4 LookAhead P'!B12 -> Al: | B10: =+'Nivel 4 LookAhead P'!C12 -> 45497
A13: ID | B13: WORK DESCRIPCIÓN | C13: FECHA INICIO DE ACTIVIDAD | D13: CATEGORÍA | E13: DESCRIPCIÓN DE LA RESTRICCIÓN | F13: FECHA DE LEVANTAMIENTO | G13: RESPONSABLES
A14: 2.0.0 | B14: MOVIMIENTO DE TIERRAS
A15: 2.1.0 | B15: EXCAVACIÓN DE CANAL
A16: 2.1.1 | B16: Desbroce y limpieza del terreno
A17: 2.1.2 | B17: Excavación en Roca Fija
A30: 2.1.2A | B30: Excavación en Roca Suelta y Material Suelto
A34: 2.1.3 | B34: Transporte de material inadecuado/excedente, d = 5km
A35: 2.2.0 | B35: RECONFORMACIÓN DE ACCESO
A36: 2.1.1 | B36: Conformación y compactación con material propio (material granular)
A37: 3.0.0 | B37: TUBERÍA
A38: 3.0.1 | B38: Suministro e Instalación de tubería HDPE de 8" para continuación de canal
A45: 3.0.2 | B45: Suministro e Instalación de tubería HDPE de 36" para alcantarilla
A47: 3.0.3 | B47: Cama de apoyo
... A67: 4.2.3 | B67: Acero de refuerzo fy=4200 kg/cm2
D71: CATEGORÍA | E71: CATEGORÍA DE RESTRICCIÓN
D72: MO | E72: MANO DE OBRA
D73: MAT | E73: MATERIALES
D74: EQ | E74: EQUIPO MECÁNICO
D75: LOG | E75: LOGÍSTICA
D76: CAL | E76: CALIDAD
D77: ING | E77: INGENIERÍA
D78: CLI | E78: CLIENTE
