Workbook
Name \a: #REF!
Name _______CUN1: #REF!
Name _______DIS1: #REF!
Name _______DIS2: #REF!
Name ______CUN1: #REF!
Name ______CUN1: #REF!
Name ______DIS1: #REF!
Name ______DIS1: #REF!
Name ______DIS2: #REF!
Name ______DIS2: #REF!
Name _____CUN1: #REF!
Name _____CUN1: #REF!
Name _____CUN1: #REF!
Name _____DIS1: #REF!
Name _____DIS1: #REF!
Name _____DIS1: #REF!
Name _____DIS2: #REF!
Name _____DIS2: #REF!
Name _____DIS2: #REF!
Name ____CUN1: #REF!
Name ____CUN1: #REF!
Name ____CUN1: #REF!
Name ____DIS1: #REF!
Name ____DIS1: #REF!
Name ____DIS1: #REF!
Name ____DIS2: #REF!
Name ____DIS2: #REF!
Name ____DIS2: #REF!
Name ___CUN1: #REF!
Name ___CUN1: #REF!
Name ___CUN1: #REF!
Name ___CUN1: #REF!
Name ___CUN1: #REF!
Name ___DIS1: #REF!
Name ___DIS1: #REF!
Name ___DIS1: #REF!
Name ___DIS1: #REF!
Name ___DIS2: #REF!
Name ___DIS2: #REF!
Name ___DIS2: #REF!
Name ___DIS2: #REF!
Name __CUN1: #REF!
Name __CUN1: #REF!
Name __CUN1: #REF!
Name __CUN1: #REF!
Name __DIS1: #REF!
Name __DIS1: #REF!
Name __DIS1: #REF!
Name __DIS1: #REF!
Name __DIS1: #REF!
Name __DIS2: #REF!
Name __DIS2: #REF!
Name __DIS2: #REF!
Name __DIS2: #REF!
Name __DIS2: #REF!
Name _1: #REF!
Name _16Y__Extr: #REF!
Name _2: #REF!
Name _31Y__Crite: #REF!
Name _62Y__Extr: #REF!

Sheet C1
C2: PRESIDENCIA DEL CONSEJO DE MINISTROS | I2: Revisión:
C3: “AUTORIDAD PARA LA RECONSTRUCCIÓN CON CAMBIOS” | I3: R02
C4: CONTRATO: Proyecto “Entrega de las defensas ribereñas de los Ríos Casma y Huarmey (Paquete 4)” | I4: Emisión: 04/11/2022
C6: REGIÓN: ANCASH | I6: Página 1 de 118
B39: REV N° | C39: FECHA | D39: DESCRIPCIÓN | G39: ELAB. POR | H39: REV. POR | I39: APROB. POR
B40: R00 | C40: 44795 | D40: Emitido para Aprobación
B41: R01 | C41: 44851 | D41: Emitido para Aprobación
B42: R02 | C42: 44869 | D42: Emitido para Aprobación
F45: FIRMAS:

Sheet C2
C2: CONTRATO | I2: Revisión:
I3: V05
C4: ENTREGA DE LAS DEFENSAS RIBEREÑAS DE LOS RÍOS CASMA Y HUARMEY (PAQUETE 4) | I4: Emisión: 04/11/2022
C6: REGIÓN: ANCASH | I6: Página 2 de 118
B39: REV N° | C39: FECHA | D39: DESCRIPCIÓN | G39: ELAB. POR | H39: REV. POR | I39: APROB. POR
B40: V01 | C40: 44720 | D40: Emitido para Revisión y Comentarios | G40: Jorge Velásquez | H40: Máximo Hatta | I40: Máximo Hatta
B41: V02 | C41: 44795 | D41: Emitido para Aprobación | G41: Jorge Velásquez | H41: Máximo Hatta | I41: Máximo Hatta
B42: V03 | C42: 44832 | D42: Emitido para Aprobación | G42: Jorge Velásquez | H42: Máximo Hatta | I42: Máximo Hatta
B43: V04 | C43: 44851 | D43: Emitido para Aprobación | G43: Jorge Velásquez | H43: Máximo Hatta | I43: Máximo Hatta
B44: V05 | C44: 44869 | D44: Emitido para Aprobación | G44: Jorge Velásquez | H44: Máximo Hatta | I44: Máximo Hatta
F46: FIRMAS:

Sheet C3

Sheet C4
B13: Hoja de control de calidad
B14: Documento | C14: METRADOS DE LAS DEFENSAS RIBEREÑAS DEL PROYECTO 5 SAN DAMIÁN
B15: Proyecto: | C15: Proyecto 5: "Creación del servicio de protección frente a inundaciones en el Centro Poblado de San Damián, Distrito de Coris, Provincia de Aija, Departamento de Ancash"
B17: Código | C17: HY8212-400199-01-PC-BQ-PM-R_METRADO_P5-V05
B18: Autores: | C18: Firma: | D18: JVG | E18: JVG | F18: JVG | G18: JVG | H18: JVG
C19: Fecha: | D19: 44720 | E19: 44795 | F19: 44832 | G19: 44851 | H19: 44869
B20: Verificado | C20: Firma: | D20: MHS | E20: MHS | F20: MHS | G20: MHS | H20: MHS
C21: Fecha: | D21: 44720 | E21: 44795 | F21: 44832 | G21: 44851 | H21: 44869
B22: Destinatario | C22: Autoridad de la Reconstrucción con Cambios
B23: Notas

Sheet INDICE
B11: ÍNDICE
B13: RESUMEN METRADOS - DEFENSAS RIBEREÑAS DEL PROYECTO 5 SAN DAMIÁN ….......................................06
B14: SUSTENTO METRADOS - DEFENSAS RIBEREÑAS DEL PROYECTO 5 SAN DAMIÁN …......................................10

Sheet RESUMEN_SAN_DAMIAN
A5: RESUMEN METRADOS - DEFENSAS RIBEREÑAS DEL PROYECTO 5 SAN DAMIÁN
A7: Proyecto | B7: Proyecto 5: "Creación del servicio de protección frente a inundaciones en el Centro Poblado de San Damián, Distrito de Coris, Provincia de Aija, Departamento de Ancash"
A8: Ubicación | B8: : Huarmey
A9: Contratista
A10: Supervisor
A11: Región | B11: : Casma
A14: METRADOS DE LAS OBRAS DEL SECTOR SAN DAMIÁN
A15: SECCIÓN | B15: DESCRIPCIÓN DE LA ACTIVIDAD | C15: MEDIDA | D15: METRADO SALDO
A16: B | B16: CONSTRUCCIÓN DE DEFENSAS RIBEREÑAS
A17: 100 | B17: OBRAS PROVISIONALES
A18: 102.A1 | B18: ADAPTACION CARTEL DE IDENTIFICACION DE LA OBRA EXISTENTE 3.60M X 2.40M. | C18: und | D18: ='100'!J14 -> 1 | E18: El alcance no considera la estructura de soporte
A19: 103.B1 | B19: ACONDICIONAMIENTO DE FACILIDADES Y CAMPAMENTOS EXISTENTES | C19: glb | D19: ='100'!J15 -> 1 | E19: Se cuenta con losas de concreto a evaluar por el SC
A20: 200 | B20: OBRAS PRELIMINARES
A21: 201.B | B21: MOVILIZACIÓN Y DESMOVILIZACIÓN DE EQUIPOS Y/O MAQUINARIA | C21: glb | D21: ='200'!K14 -> 1
A22: 202.A | B22: TRAZO, NIVELACION Y REPLANTEO PRELIMINAR | C22: Km | D22: ='200'!K15 -> 1.51064
A23: 203.B | B23: CONTROL TOPOGRAFICO DURANTE LA EJECUCIÓN | C23: mes | D23: ='200'!K16 -> 3
A24: 204.B | B24: HABILITACIÓN DE ACCESOS | C24: km | D24: ='200'!K17 -> 0.64121
A25: 206.A | B25: DESVÍO Y MANEJO DE AGUAS SUPERFICIALES | C25: m3 | D25: ='200'!K18 -> 450
A26: 207.A | B26: MANTENIMIENTO DE TRÁNSITO Y SEGURIDAD VIAL EN ACCESOS A LA OBRA Y ÁREAS AUXILIARES (Canteras, DME/DMO, Fuentes de agua) | C26: mes | D26: ='200'!K19 -> 3
A27: 300 | B27: OPERACIÓN Y EXPLOTACION DE MATERIAL
A28: 304.C | B28: EXPLOTACION Y PREPARACION DE MATERIAL PARA AFIRMADO | C28: m3 | D28: ='300'!K14 -> 1162.811
A29: 305.B | B29: PREPARACIÓN DE MATERIAL PROPIO | C29: m3 | D29: ='300'!K15 -> 20213.794
A30: 400 | B30: MOVIMIENTO DE TIERRAS
A31: B1 | B31: CONSTRUCCIÓN DE DIQUE NUEVO
A32: 401.A | B32: DESBROCE Y LIMPIEZA | C32: ha | D32: ='400'!K14 -> 0.332
A33: 402.B | B33: EXCAVACIÓN MASIVA EN MATERIAL SUELTO, CON EQUIPO | C33: m3 | D33: ='400'!K15 -> 13315.976
A34: 402.C | B34: EXCAVACIÓN EN ROCA SUELTA CON EQUIPO | C34: m3 | D34: ='400'!K16 -> 135.87731
A35: 402.D | B35: EXCAVACIÓN DE ROCA FIJA CON MARTILLO HIDRÁULICO | C35: m3 | D35: ='400'!K17 -> 135.87731
A36: 402.E | B36: EXCAVACION DE UÑA EN MATERIAL CON NIVEL FREATICO | C36: m3 | D36: ='400'!K18 -> 14976.052
A37: 403.A | B37: CONFORMACIÓN Y COMPACTACIÓN DE DIQUE | C37: m3 | D37: ='400'!K19 -> 18876.339
A38: 404.B | B38: ENROCADO Y ACOMODO PARA PROTECCIÓN DE TALUD TIPO 2 | C38: m3 | D38: ='400'!K20 -> 11443.219
A39: 404.E | B39: ENROCADO Y ACOMODO EN UÑA ANTISOCAVANTE TIPO 2 | C39: m3 | D39: ='400'!K21 -> 10697.768
A40: 405.A | B40: DESCOLMATACIÓN DEL CAUCE | C40: m3 | D40: ='400'!K22 -> 13698.211
A41: 406.A | B41: REFINE Y PERFILADO DE TALUD | C41: m2 | D41: ='400'!K23 -> 4600.491
A42: 409.A | B42: GEOTEXTIL NO TEJIDO CLASE 1, INCLUYE INSTALACIÓN | C42: m2 | D42: ='400'!K24 -> 13684.198
A43: 410.A | B43: CONFORMACIÓN DE DME/DMO | C43: m3 | D43: ='[7]SAN DAMIAN'!$AD$93 -> 21412.552
A44: 412.A | B44: RELLENO COMPACTADO CON MATERIAL PARA AFIRMADO EN CORONA | C44: m3 | D44: ='400'!K25 -> 1074.231
A45: 413.A | B45: RELLENO CON MATERIAL PROPIO | C45: m3 | D45: ='400'!K26 -> 3551.3793
A46: 416.A | B46: PERFILADO Y COMPACTACIÓN PARA FUNDACIÓN DE DIQUE | C46: m2 | D46: ='400'!K27 -> 232.547
A47: 500 | B47: TRANSPORTES DE MATERIAL
A48: 501.A | B48: CARGUIO Y ACARREO DE MATERIAL PROPIO D≤1km | C48: m3-km | D48: ='500'!K14 -> 4314.87
A49: 501.B | B49: CARGUIO Y TRANSPORTE DE MATERIAL DE PRESTAMO D≤1KM | C49: m3-km | D49: ='500'!K15 -> 0
A50: 501.D | B50: CARGUIO Y TRANSPORTE DE MATERIAL AFIRMADO D≤1KM | C50: m3-km | D50: ='500'!K16 -> 1023.27
A51: 502.A | B51: ACARREO DE MATERIAL PROPIO D>1km | C51: m3-km | D51: ='500'!K17 -> 1153.27
A52: 502.D | B52: TRANSPORTE DE MATERIAL AFIRMADO D>1KM | C52: m3-km | D52: ='500'!K18 -> 5220.37
A53: 503.B | B53: CARGUIO Y TRANSPORTE DE MATERIAL EXCEDENTE CON EQUIPO D≤ 1km | C53: m3-km | D53: ='500'!K19 -> 6280
A54: 504.B | B54: TRANSPORTE DE MATERIAL EXCEDENTE CON EQUIPO D> 1km | C54: m3-km | D54: ='500'!K20 -> 0 | E54: Se considera la partida con metrado 0, esta sera aplicada en caso los transportes aumenten.
A55: 505.B | B55: CARGUIO Y TRANSPORTE DE ROCA SELECCIONADA D≤1km | C55: m3-km | D55: ='500'!K21 -> 19925.62
A56: 506.A | B56: TRANSPORTE DE ROCA SELECIONADA D >1km | C56: m3-km | D56: ='500'!K22 -> 41249.21
A57: 600 | B57: COMPONENTE DE INTERFERENCIAS
A58: C1 | B58: OBRAS DE RIEGO
A59: 402.A | B59: EXCAVACIÓN EN MATERIAL SUELTO, CON EQUIPO | C59: m3 | D59: ='600'!M14 -> 1779.38
A60: 403.C | B60: CONFORMACIÓN Y COMPACTACIÓN PARA ESTRUCTURA | C60: m3 | D60: ='600'!M15 -> 223.8921
A61: 404.F | B61: ENROCADO Y ACOMODO DE ROCA | C61: m3 | D61: ='600'!M16 -> 71.3239
A62: 609.A | B62: EMBOQUILLADO DE PIEDRA CON CONCRETO | C62: m3 | D62: ='600'!M17 -> 100.5
A63: 801.A | B63: CONCRETO PREMEZCLADO (f´c = 10 MPa) PARA SOLADO | C63: m3 | D63: ='600'!M18 -> 2.628
A64: 801.B | B64: CONCRETO CICLOPEO (f'c=14MPa) +30% P.M. | C64: m3 | D64: ='600'!M19 -> 64.3975
A65: 801.B1 | B65: CONCRETO (f'c = 14 MPa) | C65: m3 | D65: ='600'!M20 -> 51.509582
A66: 801.D | B66: CONCRETO (f'c = 28 MPa) EN MUROS Y ZAPATAS | C66: m3 | D66: ='600'!M21 -> 65.515767
A67: 802.A | B67: ACERO EN BARRAS CORRUGADAS (fy=420Mpa) | C67: kg | D67: ='600'!M22 -> 4401.595
A68: 803.A | B68: ENCOFRADO PLANO | C68: m2 | D68: ='600'!M23 -> 385.88496
A69: 803.B | B69: ENCOFRADO CURVO | C69: m2 | D69: ='600'!M24 -> 13.93808
A70: 805.A | B70: TUBERÍA HDPE 600 mm (SUMINISTRO E INSTALACIÓN) | C70: m | D70: ='600'!M25 -> 19.35
... A80: 808.A | B80: JUNTA DE DILATACIÓN ASFÁLTICA | C80: ml | D80: ='600'!M35 -> 14.82
A81: 700 | B81: OBRAS COMPLEMENTARIAS
A82: 402.A | B82: EXCAVACIÓN EN MATERIAL SUELTO, CON EQUIPO | C82: m3 | D82: ='700'!Q14 -> 79.306329
A83: 403.C | B83: CONFORMACIÓN Y COMPACTACIÓN PARA ESTRUCTURA | C83: m3 | D83: ='700'!Q15 -> 955.04861
A84: 404.F | B84: ENROCADO Y ACOMODO DE ROCA | C84: m3 | D84: ='700'!Q16 -> 485.6141
A85: 412.B | B85: RELLENO Y COMPACTACIÓN CON MATERIAL DE AFIRMADO | C85: m3 | D85: ='700'!Q17 -> 88.58
A86: 609.A | B86: EMBOQUILLADO DE PIEDRA CON CONCRETO | C86: m3 | D86: ='700'!Q18 -> 58.0138
A87: 701.A | B87: ESCARIFICADO DE SUPERFICIE DE CONCRETO | C87: m2 | D87: ='700'!Q19 -> 0
A88: 702.A | B88: REFORZAMIENTO CON PLATINAS DE FIBRA DE CARBONO CFRP | C88: m | D88: ='700'!Q20 -> 0
A89: 702.B | B89: REFORZAMIENTO CON TEJIDO FIBRA DE CARBONO CFRP | C89: m2 | D89: ='700'!Q21 -> 0
A90: 703.A | B90: PRUEBAS PULL OFF | C90: und | D90: ='700'!Q22 -> 0
A91: 801.B | B91: CONCRETO CICLOPEO (f'c=14MPa + 30% PM) | C91: m3 | D91: ='700'!Q23 -> 53.59833
A92: 803.A | B92: ENCOFRADO PLANO | C92: m2 | D92: ='700'!Q24 -> 76.8337
A93: 811.E | B93: ALCANTARILLA DE ACERO CORRUGADO 60" | C93: ml | D93: ='700'!Q25 -> 76.05
A94: 813.A | B94: JUNTA DE POLIESTIRENO EXPANDIDO | C94: ml | D94: ='700'!Q26 -> 8.1
A95: 900 | B95: TRABAJOS DE CIERRE
A96: 902.A | B96: MEDIDAS DE MANEJO AMBIENTAL | C96: glb | D96: ='900'!J14 -> 1
A97: 902.B | B97: MEDIDAS DE MANEJO DE RESIDUOS SÓLIDOS | C97: glb | D97: ='900'!J15 -> 1
A98: 902.C.1 | B98: MONITOREO DE CALIDAD AIRE | C98: und | D98: ='900'!J16 -> 6
A99: 902.C.2 | B99: MONITOREO DE CALIDAD RUIDO | C99: und | D99: ='900'!J17 -> 4
A100: 902.C.3 | B100: MONITOREO DE CALIDAD AGUA | C100: und | D100: ='900'!J18 -> 6
A101: 902.C.4 | B101: MONITOREO DE CALIDAD SUELO | C101: und | D101: ='900'!J19 -> 1
A102: 902.D | B102: MEDIDAS DE CONTINGENCIAS Y CIERRE DE OBRA | C102: glb | D102: ='900'!J20 -> 1

Sheet 100
A10: RESUMEN 100 - OBRAS PROVISIONALES
C13: ITEM | D13: DESCRIPCIÓN DE LA PARTIDA | I13: UND | J13: METRADO
C14: 102.A1 | D14: ADAPTACION CARTEL DE IDENTIFICACION DE LA OBRA EXISTENTE 3.60M X 2.40M. | I14: und | J14: =[8]RESUMEN!$J$14 -> 1
C15: 103.B1 | D15: ACONDICIONAMIENTO DE FACILIDADES Y CAMPAMENTOS EXISTENTES | I15: glb | J15: =[8]RESUMEN!$J$15 -> 1

Sheet 200
A10: RESUMEN 200 - OBRAS PRELIMINARES
C13: ITEM | D13: UNICLASS | E13: DESCRIPCIÓN DE LA PARTIDA | J13: UND | K13: METRADO
C14: 201.B | D14: #REF! | E14: MOVILIZACIÓN Y DESMOVILIZACIÓN DE EQUIPOS Y/O MAQUINARIA | J14: glb | K14: =[9]RESUMEN!$K$14 -> 1
C15: 202.A | D15: #REF! | E15: TRAZO, NIVELACION Y REPLANTEO PRELIMINAR | J15: Km | K15: =[9]RESUMEN!$K$15 -> 1.51064
C16: 203.B | D16: #REF! | E16: CONTROL TOPOGRAFICO DURANTE LA EJECUCIÓN | J16: mes | K16: =[9]RESUMEN!$K$16 -> 3
C17: 204.B | D17: #REF! | E17: HABILITACIÓN DE ACCESOS | J17: Km | K17: =[9]RESUMEN!$K$17 -> 0.64121
C18: 206.A | D18: #REF! | E18: DESVÍO Y MANEJO DE AGUAS SUPERFICIALES | J18: m3 | K18: =[9]RESUMEN!$K$18 -> 450
C19: 207.A | D19: #REF! | E19: MANTENIMIENTO DE TRÁNSITO Y SEGURIDAD VIAL EN ACCESOS A LA OBRA Y ÁREAS AUXILIARES (Canteras, DME/DMO, Fuentes de agua) | J19: mes | K19: =[9]RESUMEN!$K$19 -> 3

Sheet 300
A10: RESUMEN 300 - OPERACIÓN Y EXPLOTACIÓN DE CANTERA
C13: ITEM | D13: UNICLASS | E13: DESCRIPCIÓN DE LA PARTIDA | J13: UND | K13: Replanteo
C14: 304.C | D14: #REF! | E14: EXPLOTACION Y PREPARACION DE MATERIAL PARA AFIRMADO | J14: m3 | K14: =[10]RESUMEN!$K$14 -> 1162.811
C15: 305.A | D15: #REF! | E15: PREPARACIÓN DE MATERIAL PROPIO | J15: m3 | K15: =[10]RESUMEN!$K$15 -> 20213.794

Sheet 400
A10: RESUMEN 400 - MOVIMIENTO DE TIERRAS
C13: ITEM | D13: UNICLASS | E13: DESCRIPCIÓN DE LA PARTIDA | J13: UND | K13: Replanteo
C14: 401.A | D14: 0 | E14: DESBROCE Y LIMPIEZA | J14: ha | K14: =[11]RESUMEN!$K$14 -> 0.332
C15: 402.B | D15: 0 | E15: EXCAVACIÓN MASIVA EN MATERIAL SUELTO, CON EQUIPO | J15: m3 | K15: =[11]RESUMEN!$K$15 -> 13315.976
C16: 402.C | D16: 0 | E16: EXCAVACIÓN EN ROCA SUELTA CON EQUIPO | J16: m3 | K16: =[11]RESUMEN!$K$16 -> 135.87731
C17: 402.D | E17: EXCAVACIÓN DE ROCA FIJA CON MARTILLO HIDRÁULICO | J17: m3 | K17: =[11]RESUMEN!$K$17 -> 135.87731
C18: 402.E | D18: 0 | E18: EXCAVACIÓN DE UÑA EN MATERIAL CON NIVEL FREÁTICO | J18: m3 | K18: =[11]RESUMEN!$K$18 -> 14976.052
C19: 403.A | D19: 0 | E19: CONFORMACIÓN Y COMPACTACIÓN DE DIQUE | J19: m3 | K19: =[11]RESUMEN!$K$19 -> 18876.339
C20: 404.B | D20: 0 | E20: ENROCADO Y ACOMODO PARA PROTECCIÓN DE TALUD TIPO 2 | J20: m3 | K20: =[11]RESUMEN!$K$20 -> 11443.219
C21: 404.E | D21: 0 | E21: ENROCADO Y ACOMODO EN UÑA ANTISOCAVANTE TIPO 2 | J21: m3 | K21: =[11]RESUMEN!$K$21 -> 10697.768
C22: 405.A | D22: 0 | E22: DESCOLMATACIÓN DEL CAUCE | J22: m3 | K22: =[11]RESUMEN!$K$22 -> 13698.211
C23: 406.A | D23: 0 | E23: REFINE Y PERFILADO DE TALUD | J23: m2 | K23: =[11]RESUMEN!$K$23 -> 4600.491
C24: 409.A | D24: 0 | E24: GEOTEXTIL NO TEJIDO CLASE 1 | J24: m2 | K24: =[11]RESUMEN!$K$24 -> 13684.198
C25: 412.A | D25: 0 | E25: RELLENO COMPACTADO CON MATERIAL PARA AFIRMADO EN CORONA | J25: m3 | K25: =[11]RESUMEN!$K$25 -> 1074.231
C26: 413.A | D26: 0 | E26: RELLENO CON MATERIAL PROPIO | J26: m3 | K26: =[11]RESUMEN!$K$26 -> 3551.3793
C27: 416.A | E27: PERFILADO Y COMPACTACIÓN PARA FUNDACIÓN DE DIQUE | J27: m2 | K27: =[11]RESUMEN!$K$27 -> 232.547

Sheet 500
A10: RESUMEN 500 - TRANSPORTE
C13: ITEM | D13: UNICLASS | E13: DESCRIPCIÓN DE LA PARTIDA | J13: UND | K13: Replanteo
C14: 501.A | D14: 0 | E14: CARGUIO Y ACARREO DE MATERIAL PROPIO D≤1km | J14: m3-km | K14: =[12]RESUMEN!$K$14 -> 4314.87
C15: 501.B | E15: CARGUIO Y TRANSPORTE DE MATERIAL DE PRESTAMO D≤1KM | J15: m3-km | K15: =[12]RESUMEN!$K$15 -> 0
C16: 501.D | D16: 0 | E16: CARGUIO Y TRANSPORTE DE MATERIAL AFIRMADO D≤1KM | J16: m3-km | K16: =[12]RESUMEN!$K$16 -> 1023.27
C17: 502.A | D17: 0 | E17: ACARREO DE MATERIAL PROPIO D>1km | J17: m3-km | K17: =[12]RESUMEN!$K$17 -> 1153.27
C18: 502.D | D18: 0 | E18: TRANSPORTE DE MATERIAL AFIRMADO D>1KM | J18: m3-km | K18: =[12]RESUMEN!$K$18 -> 5220.37
C19: 503.B | D19: 0 | E19: CARGUIO Y TRANSPORTE DE MATERIAL EXCEDENTE CON EQUIPO D≤ 1km | J19: m3-km | K19: =[12]RESUMEN!$K$19 -> 6280
C20: 504.B | D20: 0 | E20: TRANSPORTE DE MATERIAL EXCEDENTE CON EQUIPO D> 1km | J20: m3-km | K20: =[12]RESUMEN!$K$20 -> 0
C21: 505.B | D21: 0 | E21: CARGUIO Y TRANSPORTE DE ROCA SELECCIONADA D≤1km | J21: m3-km | K21: =[12]RESUMEN!$K$21 -> 19925.62
C22: 506.A | D22: 0 | E22: TRANSPORTE DE ROCA SELECIONADA D >1km | J22: m3-km | K22: =[12]RESUMEN!$K$22 -> 41249.21

Sheet 600
C10: RESUMEN 600 - COMPONENTE INTERFERENCIAS
C13: ITEM | D13: DESCRIPCIÓN DE LA PARTIDA | I13: UND | J13: 19+194 | K13: 18+669 | L13: 18+120 | M13: TOTAL
C14: 402.A | D14: EXCAVACIÓN EN MATERIAL SUELTO, CON EQUIPO | I14: m3 | J14: =[13]RESUMEN!$J$14 -> 629.72 | K14: =[13]RESUMEN!$K$14 -> 824.15 | L14: =[13]RESUMEN!$L$14 -> 325.51 | M14: =SUM(J14:L14) -> 1779.38
C15: 403.C | D15: CONFORMACIÓN Y COMPACTACIÓN PARA ESTRUCTURA | I15: m3 | J15: =[13]RESUMEN!$J$15 -> 86.9925 | K15: =[13]RESUMEN!$K$15 -> 61.3649 | L15: =[13]RESUMEN!$L$15 -> 75.5347 | M15: =SUM(J15:L15) -> 223.8921
C16: 404.F | D16: ENROCADO Y ACOMODO DE ROCA | I16: m3 | J16: =[13]RESUMEN!$J$16 -> 24.2408 | K16: =[13]RESUMEN!$K$16 -> 15.8921 | L16: =[13]RESUMEN!$L$16 -> 31.191 | M16: =SUM(J16:L16) -> 71.3239
C17: 609.A | D17: EMBOQUILLADO DE PIEDRA CON CONCRETO | I17: m3 | J17: =[13]RESUMEN!$J$17 -> 27.6968 | K17: =[13]RESUMEN!$K$17 -> 61.1328 | L17: =[13]RESUMEN!$L$17 -> 11.6704 | M17: =SUM(J17:L17) -> 100.5
C18: 801.A | D18: CONCRETO PREMEZCLADO (f´c = 10 MPa) PARA SOLADO | I18: m3 | J18: =[13]RESUMEN!$J$18 -> 0.81 | K18: =[13]RESUMEN!$K$18 -> 0.909 | L18: =[13]RESUMEN!$L$18 -> 0.909 | M18: =SUM(J18:L18) -> 2.628
C19: 801.B | D19: CONCRETO CICLOPEO (f'c=14MPa) +30% P.M. | I19: m3 | J19: =[13]RESUMEN!$J$19 -> 19.572 | K19: =[13]RESUMEN!$K$19 -> 27.095 | L19: =[13]RESUMEN!$L$19 -> 17.7305 | M19: =SUM(J19:L19) -> 64.3975
C20: 801.B1 | D20: CONCRETO (f'c = 14 MPa) | I20: m3 | J20: =[13]RESUMEN!$J$20 -> 18.379917 | K20: =[13]RESUMEN!$K$20 -> 14.988425 | L20: =[13]RESUMEN!$L$20 -> 18.14124 | M20: =SUM(J20:L20) -> 51.509582
C21: 801.D | D21: CONCRETO (f'c = 28 MPa) EN MUROS Y ZAPATAS | I21: m3 | J21: =[13]RESUMEN!$J$21 -> 18.379917 | K21: =[13]RESUMEN!$K$21 -> 23.238975 | L21: =[13]RESUMEN!$L$21 -> 23.896875 | M21: =SUM(J21:L21) -> 65.515767
C22: 802.A | D22: ACERO EN BARRAS CORRUGADAS (fy=420Mpa) | I22: kg | J22: =[13]RESUMEN!$J$22 -> 1188.22 | K22: =[13]RESUMEN!$K$22 -> 1674.156 | L22: =[13]RESUMEN!$L$22 -> 1539.219 | M22: =SUM(J22:L22) -> 4401.595
C23: 803.A | D23: ENCOFRADO PLANO | I23: m2 | J23: =[13]RESUMEN!$J$23 -> 116.77596 | K23: =[13]RESUMEN!$K$23 -> 129.4229 | L23: =[13]RESUMEN!$L$23 -> 139.6861 | M23: =SUM(J23:L23) -> 385.88496
C24: 803.B | D24: ENCOFRADO CURVO | I24: m2 | J24: =[13]RESUMEN!$J$24 -> 5.65488 | K24: =[13]RESUMEN!$K$24 -> 8.2832 | L24: =[13]RESUMEN!$L$24 -> 0 | M24: =SUM(J24:L24) -> 13.93808
C25: 805.A | D25: TUBERÍA HDPE 600 mm (SUMINISTRO E INSTALACIÓN) | I25: m | J25: =[13]RESUMEN!$J$25 -> 0 | K25: =[13]RESUMEN!$K$25 -> 19.35 | L25: =[13]RESUMEN!$L$25 -> - | M25: =SUM(J25:L25) -> 19.35
C26: 805.C | D26: TUBERÍA HDPE 900 mm (SUMINISTRO E INSTALACIÓN) | I26: m | J26: =[13]RESUMEN!$J$26 -> 0 | K26: =[13]RESUMEN!$K$26 -> 0 | L26: =[13]RESUMEN!$L$26 -> 16.55 | M26: =SUM(J26:L26) -> 16.55
C27: 805.D | D27: TUBERÍA HDPE 1000 mm (SUMINISTRO E INSTALACIÓN) | I27: m | J27: =[13]RESUMEN!$J$27 -> 15.2 | K27: =[13]RESUMEN!$K$27 -> 0 | L27: =[13]RESUMEN!$L$27 -> 0 | M27: =SUM(J27:L27) -> 15.2
C28: 806.A | D28: COMPUERTA TIPO ARMCO 0.60 m x 0.60 m (INCLUYE SUMINISTRO E INSTALACIÓN) | I28: und | J28: =[13]RESUMEN!$J$28 -> - | K28: =[13]RESUMEN!$K$28 -> 1 | L28: =[13]RESUMEN!$L$28 -> - | M28: =SUM(J28:L28) -> 1
C29: 806.C | D29: COMPUERTA TIPO ARMCO 1.00 m x 1.00 m (INCLUYE SUMINISTRO E INSTALACIÓN) | I29: und | J29: =[13]RESUMEN!$J$29 -> 1 | K29: =[13]RESUMEN!$K$29 -> - | L29: =[13]RESUMEN!$L$29 -> - | M29: =SUM(J29:L29) -> 1
C30: 806.D | D30: COMPUERTA ANTIRRETORNO TIPO CLAPETA Ø 0.90 m (INCLUYE SUMINISTRO E INSTALACIÓN) | I30: und | J30: =[13]RESUMEN!$J$30 -> 0 | K30: =[13]RESUMEN!$K$30 -> 0 | L30: =[13]RESUMEN!$L$30 -> 1 | M30: =SUM(J30:L30) -> 1
C31: 806.F | D31: REJILLA METÁLICA 1.20 m X 1.50 m (INCLUYE SUMINISTRO E INSTALACIÓN) | I31: und | J31: =[13]RESUMEN!$J$31 -> 0 | K31: =[13]RESUMEN!$K$31 -> 1 | L31: =[13]RESUMEN!$L$31 -> 0 | M31: =SUM(J31:L31) -> 1
C32: 806.I | D32: REJILLA METÁLICA 1.60 m X 1.50 m (INCLUYE SUMINISTRO E INSTALACIÓN) | I32: und | J32: =[13]RESUMEN!$J$32 -> 1 | K32: =[13]RESUMEN!$K$32 -> - | L32: =[13]RESUMEN!$L$32 -> - | M32: =SUM(J32:L32) -> 1
C33: 806.L | D33: BARANDA METÁLICA (INCLUYE SUMINSTRO E INSTALACIÓN) | I33: ml | J33: =[13]RESUMEN!$J$33 -> 2.2 | K33: =[13]RESUMEN!$K$33 -> 1.8 | L33: =[13]RESUMEN!$L$33 -> - | M33: =SUM(J33:L33) -> 4
C34: 807.A | D34: JUNTA DE ESTANQUEIDAD WATERSTOP | I34: ml | J34: =[13]RESUMEN!$J$34 -> 6.2831853 | K34: =[13]RESUMEN!$K$34 -> 3.7699112 | L34: =[13]RESUMEN!$L$34 -> 5.6548668 | M34: =SUM(J34:L34) -> 15.707963
C35: 808.A | D35: JUNTA DE DILATACIÓN ASFÁLTICA | I35: ml | J35: =[13]RESUMEN!$J$35 -> 0 | K35: =[13]RESUMEN!$K$35 -> 0 | L35: =[13]RESUMEN!$L$35 -> 14.82 | M35: =SUM(J35:L35) -> 14.82

Sheet 700
A10: RESUMEN 700 - OBRAS COMPLEMENTARIAS
C12: ITEM | D12: DESCRIPCIÓN DE LA PARTIDA | I12: UND | J12: REPLANTEO
J13: MURO | K13: ACC CANTERA | L13: ACC DME | M13: REFUERZO A1 | N13: REFUERZO A2 | O13: ACCESO 17+900 | P13: ACCESO 18+700 | Q13: METRADO
C14: 402.A | D14: EXCAVACIÓN EN MATERIAL SUELTO, CON EQUIPO | I14: m3 | J14: =[14]RESUMEN!$J$14 -> 79.306329 | Q14: =SUM(J14:P14) -> 79.306329
C15: 403.C | D15: CONFORMACIÓN Y COMPACTACIÓN PARA ESTRUCTURA | I15: m3 | J15: =[14]RESUMEN!$J$15 -> 61.044438 | K15: =[14]RESUMEN!$K$15 -> 894.00418 | L15: =[14]RESUMEN!$L$15 -> 0 | Q15: =SUM(J15:P15) -> 955.04861
C16: 404.F | D16: ENROCADO Y ACOMODO DE ROCA | I16: m3 | K16: =[14]RESUMEN!$K$16 -> 485.6141 | L16: =[14]RESUMEN!$L$16 -> 0 | Q16: =SUM(J16:P16) -> 485.6141
C17: 412.B | D17: RELLENO Y COMPACTACIÓN CON MATERIAL DE AFIRMADO | I17: m3 | K17: =[14]RESUMEN!$K$17 -> 88.58 | L17: =[14]RESUMEN!$L$17 -> 0 | Q17: =SUM(J17:P17) -> 88.58
C18: 609.A | D18: EMBOQUILLADO DE PIEDRA CON CONCRETO | I18: m3 | J18: =[14]RESUMEN!$J$18 -> 43.443 | O18: =[14]RESUMEN!$O$18 -> 7.626 | P18: =[14]RESUMEN!$P$18 -> 6.9448 | Q18: =SUM(J18:P18) -> 58.0138
C19: 701.A | D19: ESCARIFICADO DE SUPERFICIE DE CONCRETO | I19: m2 | M19: =[14]RESUMEN!$M$19 -> 0 | N19: =[14]RESUMEN!$N$19 -> 0 | Q19: =SUM(J19:P19) -> 0
C20: 702.A | D20: REFORZAMIENTO CON PLATINAS DE FIBRA DE CARBONO CFRP | I20: m | M20: =[14]RESUMEN!$M$20 -> 0 | N20: =[14]RESUMEN!$N$20 -> 0 | Q20: =SUM(J20:P20) -> 0
C21: 702.B | D21: REFORZAMIENTO CON TEJIDO FIBRA DE CARBONO CFRP | I21: m2 | M21: =[14]RESUMEN!$M$21 -> 0 | Q21: =SUM(J21:P21) -> 0
C22: 703.A | D22: PRUEBAS PULL OFF | I22: und | M22: =[14]RESUMEN!$M$22 -> 0 | N22: =[14]RESUMEN!$N$22 -> 0 | Q22: =SUM(J22:P22) -> 0
C23: 801.B | D23: CONCRETO CICLOPEO (f'c=14MPa + 30% PM) | I23: m3 | J23: =[14]RESUMEN!$J$23 -> 53.59833 | Q23: =SUM(J23:P23) -> 53.59833
C24: 803.A | D24: ENCOFRADO PLANO | I24: m2 | J24: =[14]RESUMEN!$J$24 -> 76.8337 | Q24: =SUM(J24:P24) -> 76.8337
C25: 811.E | D25: ALCANTARILLA DE ACERO CORRUGADO 60" | I25: ml | K25: =[14]RESUMEN!$K$25 -> 76.05 | L25: =[14]RESUMEN!$L$25 -> 0 | Q25: =SUM(J25:P25) -> 76.05
C26: 813.A | D26: JUNTA DE POLIESTIRENO EXPANDIDO | I26: ml | J26: =[14]RESUMEN!$J$26 -> 8.1 | Q26: =SUM(J26:P26) -> 8.1

Sheet 900
A10: RESUMEN 900 - TRABAJOS DE CIERRE
C13: ITEM | D13: DESCRIPCIÓN DE LA PARTIDA | I13: UND | J13: METRADO
C14: 902.A | D14: MEDIDAS DE MANEJO AMBIENTAL | I14: glb | J14: =[15]RESUMEN!$J$14 -> 1
C15: 902.B | D15: MANEJO DE RESIDUOS SÓLIDOS | I15: glb | J15: =[15]RESUMEN!$J$15 -> 1
C16: 902.C.1 | D16: MONITOREO DE CALIDAD AIRE | I16: und | J16: =[15]RESUMEN!$J$16 -> 6
C17: 902.C.2 | D17: MONITOREO DE CALIDAD RUIDO | I17: und | J17: =[15]RESUMEN!$J$17 -> 4
C18: 902.C.3 | D18: MONITOREO DE CALIDAD AGUA | I18: und | J18: =[15]RESUMEN!$J$18 -> 6
C19: 902.C.4 | D19: MONITOREO DE CALIDAD SUELO | I19: und | J19: =[15]RESUMEN!$J$19 -> 1
C20: 902.D | D20: MEDIDAS DE CONTINGENCIAS Y CIERRE DE OBRA | I20: glb | J20: =[15]RESUMEN!$J$20 -> 1
