Workbook

Sheet Hoja2
A1: (S/.) | B1: CÓDIGO | C1: DETALLE
A2: 36000 | B2: 2.03 | C2: Alquiler de oficina (todo costo)
A3: 2700 | B3: 2.03 | C3: Alquiler de oficina (todo costo)
A4: 14400 | B4: 2.03 | C4: Alquiler de oficina (todo costo)
A5: 1062 | B5: 2.03 | C5: Alquiler de oficina (todo costo)
A6: 250 | B6: 2.03 | C6: Alquiler de oficina (todo costo)
A7: 522 | B7: 2.03 | C7: Alquiler de oficina (todo costo)
A8: 1000 | B8: 2.03 | C8: Alquiler de oficina (todo costo)
A9: 500 | B9: 2.03 | C9: Alquiler de oficina (todo costo)
A10: 2000 | B10: 2.03 | C10: Alquiler de oficina (todo costo)
A11: 400 | B11: 2.03 | C11: Alquiler de oficina (todo costo)
A12: 3600 | B12: 2.03 | C12: Alquiler de oficina (todo costo)
A13: 200 | B13: 2.03 | C13: Alquiler de oficina (todo costo)
... A64: 13500 | B64: 2.02 | C64: Viáticos y alojamiento de personal
A65: 4800
A66: 165
A67: 150
A68: 1250
A69: 250
A74: 330
A75: 132
A76: 54
A77: 2160
A78: 150
A79: 222
A80: 300
A81: 2400

Sheet Hoja1
A3: CÓDIGO | B3: DETALLE | C3: Suma de (S/.)
A4: 2.02 | B4: Viáticos y alojamiento de personal | C4: 125400
A5: 2.03 | B5: Alquiler de oficina (todo costo) | C5: 71969
A6: 2.04 | B6: Movilidad, combustible, repuestos, no incluye chofer (personal será chofer) | C6: 153000
A7: 2.06 | B7: Insumos varios, impresiones, informes | C7: 32030
A8: 2.07 | B8: Gastos implementación medidas anti Covid | C8: 12285
A9: 2.08 | B9: Equipos de cómputo | C9: 19000
A10: 2.09 | B10: Proyector multimedia | C10: 6000
A11: 2.1 | B11: Parlante | C11: 1000
A12: 2.11 | B12: Micrófono | C12: 300
A13: 2.12 | B13: Ecran | C13: 500
A14: (en blanco) | B14: (en blanco) | C14: 12363
A15: Total general | C15: 433847

Sheet Detalle
B1: SOCIAL CAPITAL GROUP SAC
B2: PROPUESTA ECONOMICA
B3: CLIENTE: OHLA
B4: SERVICIO: Plan de Buena Vecindad - Huarmey
A6: Equipo Consultor | D6: Planificación | F6: RELACIONAMIENTO VECINAL | AP6: TOTAL
F7: MES 1 | H7: MES 2 | J7: MES 3 | L7: MES 4 | N7: MES 5 | P7: MES 6 | R7: MES 7 | T7: MES 8 | V7: MES 9 | X7: MES 10 | Z7: MES 11 | AB7: MES 12 | AD7: MES 13 | AF7: MES 14 | AH7: MES 15 | AJ7: MES 16 | AL7: MES 17 | AN7: MES 18 | AP7: TOTAL
A8: Personal | B8: Cantidad | C8: Rate s/. | D8: Días | E8: Costo | F8: Días | G8: Costo | H8: Días | I8: Costo | J8: Días | K8: Costo | L8: Días | M8: Costo | N8: Días | O8: Costo | P8: Días | Q8: Costo | R8: Días | S8: Costo | T8: Días | U8: Costo | V8: Días | W8: Costo | X8: Días | Y8: Costo | Z8: Días | AA8: Costo | AB8: Días | AC8: Costo | AD8: Días | AE8: Costo | AF8: Días | AG8: Costo | AH8: Días | AI8: Costo | AJ8: Días | AK8: Costo | AL8: Días | AM8: Costo | AN8: Días | AO8: Costo | AP8: Días | AQ8: Mensual | AR8: Meses | AS8: Costo
E9: (S/.) | G9: (S/.) | I9: (S/.) | K9: (S/.) | M9: (S/.) | O9: (S/.) | Q9: (S/.) | S9: (S/.) | U9: (S/.) | W9: (S/.) | Y9: (S/.) | AA9: (S/.) | AC9: (S/.) | AE9: (S/.) | AG9: (S/.) | AI9: (S/.) | AK9: (S/.) | AM9: (S/.) | AO9: (S/.) | AS9: (S/.) | BB9: Total | BC9: Planificación | BD9: Total S/
AX10: =+AY10+D120 -> 19.73 | AY10: 17.73 | AZ10: 1 | BA10: =+AY10*AZ10 -> 17.73 | BB10: =+BA10*C120 -> 47339.1 | BC10: =+E120 -> 5340 | BD10: =+BB10+BC10 -> 52679.1 | BE10: =+BD10/AY10 -> 2971.1844
AX11: =+BA11+D121 -> 75.92 | AY11: 17.73 | AZ11: 4 | BA11: =+AY11*AZ11 -> 70.92 | BB11: =+BA11*C121 -> 70920 | BC11: =+E121 -> 5000 | BD11: =+BB11+BC11 -> 75920 | BE11: =+BD11/AY11 -> 4282.0079
A12: Coordinador | B12: 1 | C12: 646.35 | D12: 2 | E12: =+$B12*$C12*D12 -> 1292.7 | F12: 20 | G12: =+$B12*$C12*F12 -> 12927 | H12: 20 | I12: =+$B12*$C12*H12 -> 12927 | J12: 20 | K12: =+$B12*$C12*J12 -> 12927 | L12: 20 | M12: =+$B12*$C12*L12 -> 12927 | N12: 20 | O12: =+$B12*$C12*N12 -> 12927 | P12: 20 | Q12: =+$B12*$C12*P12 -> 12927 | R12: 20 | S12: =+$B12*$C12*R12 -> 12927 | T12: 20 | U12: =+$B12*$C12*T12 -> 12927 | V12: 20 | W12: =+$B12*$C12*V12 -> 12927 | X12: 20 | Y12: =+$B12*$C12*X12 -> 12927 | Z12: 20 | AA12: =+$B12*$C12*Z12 -> 12927 | AB12: 20 | AC12: =+$B12*$C12*AB12 -> 12927 | AD12: 20 | AE12: =+$B12*$C12*AD12 -> 12927 | AF12: 20 | AG12: =+$B12*$C12*AF12 -> 12927 | AH12: 20 | AI12: =+$B12*$C12*AH12 -> 12927 | AJ12: 20 | AK12: =+$B12*$C12*AJ12 -> 12927 | AL12: 20 | AM12: =+$B12*$C12*AL12 -> 12927 | AN12: 14.6 | AO12: =+$B12*$C12*AN12 -> 9436.71 | AP12: =+F12+H12+J12+L12+N12+P12+R12+T12+V12+X12+Z12+AB12+D12+AD12+AF12+AH12+AJ12+AL12+AN12 -> 356.6 | AQ12: =+AS12/AR12 -> 13000 | AR12: =+AY12 -> 17.73 | AS12: 230490 | AT12: =+AS12/AP12 -> 646.35446 | AX12: =+BA12+D12 -> 356.6 | AY12: 17.73 | AZ12: 20 | BA12: =+AY12*AZ12 -> 354.6 | BB12: =+BA12*C12 -> 229195.71 | BC12: =+E12 -> 1292.7 | BD12: =+BB12+BC12 -> 230488.41 | BE12: =+BD12/AY12 -> 12999.91 | BF12: =+BE12*0.8 -> 10399.928
A13: Relacionista | B13: 1 | C13: 462.39 | D13: 2 | E13: =+$B13*$C13*D13 -> 924.78 | F13: 20 | G13: =+$B13*$C13*F13 -> 9247.8 | H13: 20 | I13: =+$B13*$C13*H13 -> 9247.8 | J13: 20 | K13: =+$B13*$C13*J13 -> 9247.8 | L13: 20 | M13: =+$B13*$C13*L13 -> 9247.8 | N13: 20 | O13: =+$B13*$C13*N13 -> 9247.8 | P13: 20 | Q13: =+$B13*$C13*P13 -> 9247.8 | R13: 20 | S13: =+$B13*$C13*R13 -> 9247.8 | T13: 20 | U13: =+$B13*$C13*T13 -> 9247.8 | V13: 20 | W13: =+$B13*$C13*V13 -> 9247.8 | X13: 20 | Y13: =+$B13*$C13*X13 -> 9247.8 | Z13: 20 | AA13: =+$B13*$C13*Z13 -> 9247.8 | AB13: 20 | AC13: =+$B13*$C13*AB13 -> 9247.8 | AD13: 20 | AE13: =+$B13*$C13*AD13 -> 9247.8 | AF13: 20 | AG13: =+$B13*$C13*AF13 -> 9247.8 | AH13: 20 | AI13: =+$B13*$C13*AH13 -> 9247.8 | AJ13: 20 | AK13: =+$B13*$C13*AJ13 -> 9247.8 | AL13: 20 | AM13: =+$B13*$C13*AL13 -> 9247.8 | AN13: 14.6 | AO13: =+$B13*$C13*AN13 -> 6750.894 | AP13: =+F13+H13+J13+L13+N13+P13+R13+T13+V13+X13+Z13+AB13+D13+AD13+AF13+AH13+AJ13+AL13+AN13 -> 356.6 | AQ13: =+AS13/AR13 -> 9300 | AR13: =+AY13 -> 17.73 | AS13: 164889 | AT13: =+AS13/AP13 -> 462.39204 | AX13: =+BA13+D13 -> 356.6 | AY13: 17.73 | AZ13: 20 | BA13: =+AY13*AZ13 -> 354.6 | BB13: =+BA13*C13 -> 163963.49 | BC13: =+E13 -> 924.78 | BD13: =+BB13+BC13 -> 164888.27 | BE13: =+BD13/AY13 -> 9299.9591 | BF13: =+BE13*0.8 -> 7439.9672
A14: Relacionista | B14: 1 | C14: 447.06 | D14: 2 | E14: =+$B14*$C14*D14 -> 894.12 | F14: 20 | G14: =+$B14*$C14*F14 -> 8941.2 | H14: 20 | I14: =+$B14*$C14*H14 -> 8941.2 | J14: 20 | K14: =+$B14*$C14*J14 -> 8941.2 | L14: 20 | M14: =+$B14*$C14*L14 -> 8941.2 | N14: 20 | O14: =+$B14*$C14*N14 -> 8941.2 | P14: 20 | Q14: =+$B14*$C14*P14 -> 8941.2 | R14: 20 | S14: =+$B14*$C14*R14 -> 8941.2 | T14: 20 | U14: =+$B14*$C14*T14 -> 8941.2 | V14: 20 | W14: =+$B14*$C14*V14 -> 8941.2 | X14: 20 | Y14: =+$B14*$C14*X14 -> 8941.2 | Z14: 20 | AA14: =+$B14*$C14*Z14 -> 8941.2 | AB14: 20 | AC14: =+$B14*$C14*AB14 -> 8941.2 | AD14: 20 | AE14: =+$B14*$C14*AD14 -> 8941.2 | AF14: 20 | AG14: =+$B14*$C14*AF14 -> 8941.2 | AH14: 20 | AI14: =+$B14*$C14*AH14 -> 8941.2 | AJ14: =20-15.4 -> 4.6 | AK14: =+$B14*$C14*AJ14 -> 2056.476 | AM14: =+$B14*$C14*AL14 -> 0 | AO14: =+$B14*$C14*AN14 -> 0 | AP14: =+F14+H14+J14+L14+N14+P14+R14+T14+V14+X14+Z14+AB14+D14+AD14+AF14+AH14+AJ14+AL14+AN14 -> 306.6 | AQ14: =+AS14/AR14 -> 9000 | AR14: =+AY14 -> 15.23 | AS14: 137070 | AT14: =+AS14/AP14 -> 447.06458 | AX14: =+BA14+D14 -> 306.6 | AY14: 15.23 | AZ14: 20 | BA14: =+AY14*AZ14 -> 304.6 | BB14: =+BA14*C14 -> 136174.48 | BC14: =+E14 -> 894.12 | BD14: =+BB14+BC14 -> 137068.6 | BE14: =+BD14/AY14 -> 8999.9078
A15: Relacionista | B15: 1 | C15: 447.16 | D15: 2 | E15: =+$B15*$C15*D15 -> 894.32 | F15: 20 | G15: =+$B15*$C15*F15 -> 8943.2 | H15: 20 | I15: =+$B15*$C15*H15 -> 8943.2 | J15: 20 | K15: =+$B15*$C15*J15 -> 8943.2 | L15: 20 | M15: =+$B15*$C15*L15 -> 8943.2 | N15: 20 | O15: =+$B15*$C15*N15 -> 8943.2 | P15: 20 | Q15: =+$B15*$C15*P15 -> 8943.2 | R15: 20 | S15: =+$B15*$C15*R15 -> 8943.2 | T15: 20 | U15: =+$B15*$C15*T15 -> 8943.2 | V15: 20 | W15: =+$B15*$C15*V15 -> 8943.2 | X15: 20 | Y15: =+$B15*$C15*X15 -> 8943.2 | Z15: 20 | AA15: =+$B15*$C15*Z15 -> 8943.2 | AB15: 20 | AC15: =+$B15*$C15*AB15 -> 8943.2 | AD15: 20 | AE15: =+$B15*$C15*AD15 -> 8943.2 | AF15: 20 | AG15: =+$B15*$C15*AF15 -> 8943.2 | AH15: 20 | AI15: =+$B15*$C15*AH15 -> 8943.2 | AJ15: =20-5.4 -> 14.6 | AK15: =+$B15*$C15*AJ15 -> 6528.536 | AM15: =+$B15*$C15*AL15 -> 0 | AO15: =+$B15*$C15*AN15 -> 0 | AP15: =+F15+H15+J15+L15+N15+P15+R15+T15+V15+X15+Z15+AB15+D15+AD15+AF15+AH15+AJ15+AL15+AN15 -> 316.6 | AQ15: =+AS15/AR15 -> 9000 | AR15: =+AY15 -> 15.73 | AS15: 141570 | AT15: =+AS15/AP15 -> 447.1573 | AX15: =+BA15+D15 -> 316.6 | AY15: 15.73 | AZ15: 20 | BA15: =+AY15*AZ15 -> 314.6 | BB15: =+BA15*C15 -> 140676.54 | BC15: =+E15 -> 894.32 | BD15: =+BB15+BC15 -> 141570.86 | BE15: =+BD15/AY15 -> 9000.0544
A16: Comunicador | B16: 1 | C16: 462.39 | D16: 2 | E16: =+$B16*$C16*D16 -> 924.78 | F16: 20 | G16: =+$B16*$C16*F16 -> 9247.8 | H16: 20 | I16: =+$B16*$C16*H16 -> 9247.8 | J16: 20 | K16: =+$B16*$C16*J16 -> 9247.8 | L16: 20 | M16: =+$B16*$C16*L16 -> 9247.8 | N16: 20 | O16: =+$B16*$C16*N16 -> 9247.8 | P16: 20 | Q16: =+$B16*$C16*P16 -> 9247.8 | R16: 20 | S16: =+$B16*$C16*R16 -> 9247.8 | T16: 20 | U16: =+$B16*$C16*T16 -> 9247.8 | V16: 20 | W16: =+$B16*$C16*V16 -> 9247.8 | X16: 20 | Y16: =+$B16*$C16*X16 -> 9247.8 | Z16: 20 | AA16: =+$B16*$C16*Z16 -> 9247.8 | AB16: 20 | AC16: =+$B16*$C16*AB16 -> 9247.8 | AD16: 20 | AE16: =+$B16*$C16*AD16 -> 9247.8 | AF16: 20 | AG16: =+$B16*$C16*AF16 -> 9247.8 | AH16: 20 | AI16: =+$B16*$C16*AH16 -> 9247.8 | AJ16: 20 | AK16: =+$B16*$C16*AJ16 -> 9247.8 | AL16: 20 | AM16: =+$B16*$C16*AL16 -> 9247.8 | AN16: 14.6 | AO16: =+$B16*$C16*AN16 -> 6750.894 | AP16: =+F16+H16+J16+L16+N16+P16+R16+T16+V16+X16+Z16+AB16+D16+AD16+AF16+AH16+AJ16+AL16+AN16 -> 356.6 | AQ16: =+AS16/AR16 -> 9300 | AR16: =+AY16 -> 17.73 | AS16: 164889 | AT16: =+AS16/AP16 -> 462.39204 | AX16: =+BA16+D16 -> 356.6 | AY16: 17.73 | AZ16: 20 | BA16: =+AY16*AZ16 -> 354.6 | BB16: =+BA16*C16 -> 163963.49 | BC16: =+E16 -> 924.78 | BD16: =+BB16+BC16 -> 164888.27 | BE16: =+BD16/AY16 -> 9299.9591
AX17: =+BA17+D122 -> 354.6 | AY17: 17.73 | AZ17: 20 | BA17: =+AY17*AZ17 -> 354.6 | BB17: =+BA17*C122 -> 35460 | BC17: =+E122 -> 0 | BD17: =+BB17+BC17 -> 35460 | BE17: =+BD17/AY17 -> 2000
AX18: =+BA18+D123 -> 354.6 | AY18: 17.73 | AZ18: 20 | BA18: =+AY18*AZ18 -> 354.6 | BB18: =+BA18*C123 -> 60282 | BC18: =+E123 -> 0 | BD18: =+BB18+BC18 -> 60282 | BE18: =+BD18/AY18 -> 3400
A19: Total Equipo Consultor | E19: =SUM(E10:E123) -> 6200 | G19: =SUM(G10:G123) -> 67400 | I19: =SUM(I10:I123) -> 67400 | K19: =SUM(K10:K123) -> 67400 | M19: =SUM(M10:M123) -> 67400 | O19: =SUM(O10:O123) -> 67400 | Q19: =SUM(Q10:Q123) -> 67400 | S19: =SUM(S10:S123) -> 67400 | U19: =SUM(U10:U123) -> 67400 | W19: =SUM(W10:W123) -> 67400 | Y19: =SUM(Y10:Y123) -> 67400 | AA19: =SUM(AA10:AA123) -> 67400 | AC19: =SUM(AC10:AC123) -> 67400 | AE19: =SUM(AE10:AE123) -> 67400 | AG19: =SUM(AG10:AG123) -> 67400 | AI19: =SUM(AI10:AI123) -> 67400 | AK19: =SUM(AK10:AK123) -> 55960 | AM19: =SUM(AM10:AM123) -> 45400 | AO19: =SUM(AO10:AO123) -> 33142 | AS19: =+AS12+AS13+AS14+AS15+AS16 -> 838908 | AX19: =+AY19+D19 -> 0 | BB19: =SUM(BB10:BB18) -> 1047974.8 | BC19: =SUM(BC10:BC18) -> 15270.7 | BD19: =SUM(BD10:BD18) -> 1063245.5
A21: Gastos Operativos | D21: Planificación | F21: MES 1 | H21: MES 2 | J21: MES 3 | L21: MES 4 | N21: MES 5 | P21: MES 6 | R21: MES 7 | T21: MES 8 | V21: MES 9 | X21: MES 10 | Z21: MES 11 | AB21: MES 12 | AD21: MES 13 | AF21: MES 14 | AH21: MES 15 | AJ21: MES 16 | AL21: MES 17 | AN21: MES 18 | AP21: TOTAL | AT21: CODIGO
A22: Gastos Operativos | B22: Rate | C22: Unidad | D22: Cant. | E22: Costo | F22: Cant. | G22: Costo | H22: Cant. | I22: Costo | J22: Cant. | K22: Costo | L22: Cant. | M22: Costo | N22: Cant. | O22: Costo | P22: Cant. | Q22: Costo | R22: Cant. | S22: Costo | T22: Cant. | U22: Costo | V22: Cant. | W22: Costo | X22: Cant. | Y22: Costo | Z22: Cant. | AA22: Costo | AB22: Cant. | AC22: Costo | AD22: Cant. | AE22: Costo | AF22: Cant. | AG22: Costo | AH22: Cant. | AI22: Costo | AJ22: Cant. | AK22: Costo | AL22: Cant. | AM22: Costo | AN22: Cant. | AO22: Costo | AP22: Cant. | AS22: Costo | AT22: 0 | AU22: Otros
B23: (S/.) | E23: (S/.) | G23: (S/.) | I23: (S/.) | K23: (S/.) | M23: (S/.) | O23: (S/.) | Q23: (S/.) | S23: (S/.) | U23: (S/.) | W23: (S/.) | Y23: (S/.) | AA23: (S/.) | AC23: (S/.) | AE23: (S/.) | AG23: (S/.) | AI23: (S/.) | AK23: (S/.) | AM23: (S/.) | AO23: (S/.) | AS23: (S/.) | AT23: 0 | AU23: Otros
A24: Botiquín | B24: 200 | C24: por auto bimestral | D24: 0 | E24: =+D24*$B24 -> 0 | F24: 1 | G24: =+F24*$B24 -> 200 | H24: 0 | I24: =+H24*$B24 -> 0 | J24: 1 | K24: =+J24*$B24 -> 200 | L24: 0 | M24: =+L24*$B24 -> 0 | N24: 1 | O24: =+N24*$B24 -> 200 | P24: 0 | Q24: =+P24*$B24 -> 0 | R24: 1 | S24: =+R24*$B24 -> 200 | T24: 0 | U24: =+T24*$B24 -> 0 | V24: 1 | W24: =+V24*$B24 -> 200 | X24: 0 | Y24: =+X24*$B24 -> 0 | Z24: 1 | AA24: =+Z24*$B24 -> 200 | AB24: 0 | AC24: =+AB24*$B24 -> 0 | AD24: 1 | AE24: =+AD24*$B24 -> 200 | AF24: 0 | AG24: =+AF24*$B24 -> 0 | AH24: 1 | AI24: =+AH24*$B24 -> 200 | AJ24: 0 | AK24: =+AJ24*$B24 -> 0 | AL24: 1 | AM24: =+AL24*$B24 -> 200 | AN24: 0 | AO24: =+AN24*$B24 -> 0 | AP24: =+F24+H24+J24+L24+N24+P24+R24+T24+V24+X24+Z24+AB24+D24+AD24+AF24+AH24+AJ24+AL24+AN24 -> 9 | AS24: =E24+G24+I24+K24+M24+O24+Q24+S24+U24+W24+Y24+AA24+AC24+AE24+AG24+AI24+AK24+AM24+AO24 -> 1800 | AT24: 2.02 | AU24: Viáticos y alojamiento de personal
A25: Alimentación | B25: 35 | C25: por persona dia | D25: 0 | E25: =+D25*$B25 -> 0 | F25: 20 | G25: =+(F25*$B25)*5 -> 3500 | H25: 20 | I25: =(B25*H25)*5 -> 3500 | J25: 20 | K25: =+(J25*$B25)*5 -> 3500 | L25: 20 | M25: =+(L25*$B25)*5 -> 3500 | N25: 20 | O25: =+(N25*$B25)*5 -> 3500 | P25: 20 | Q25: =+(P25*$B25)*5 -> 3500 | R25: 20 | S25: =+(R25*$B25)*5 -> 3500 | T25: 20 | U25: =+(T25*$B25)*5 -> 3500 | V25: 20 | W25: =+(V25*$B25)*5 -> 3500 | X25: 20 | Y25: =+(X25*$B25)*5 -> 3500 | Z25: 20 | AA25: =+(Z25*$B25)*5 -> 3500 | AB25: 20 | AC25: =+(AB25*$B25)*5 -> 3500 | AD25: 20 | AE25: =+(AD25*$B25)*5 -> 3500 | AF25: 20 | AG25: =+(AF25*$B25)*5 -> 3500 | AH25: 20 | AI25: =+(AH25*$B25)*5 -> 3500 | AJ25: 20 | AK25: =+(AJ25*$B25)*5 -> 3500 | AL25: 20 | AM25: =+(AL25*$B25)*5 -> 3500 | AN25: 20 | AO25: =+(AN25*$B25)*5 -> 3500 | AP25: =+F25+H25+J25+L25+N25+P25+R25+T25+V25+X25+Z25+AB25+D25+AD25+AF25+AH25+AJ25+AL25+AN25 -> 360 | AS25: =E25+G25+I25+K25+M25+O25+Q25+S25+U25+W25+Y25+AA25+AC25+AE25+AG25+AI25+AK25+AM25+AO25 -> 63000 | AT25: 2.02 | AU25: Viáticos y alojamiento de personal
A26: Alquiler Vivienda | B26: 2500 | C26: por mes | D26: 0 | E26: =+D26*$B26 -> 0 | F26: 1 | G26: =+(F26*$B26) -> 2500 | H26: 1 | I26: =(B26*H26) -> 2500 | J26: 1 | K26: =+(J26*$B26) -> 2500 | L26: 1 | M26: =+(L26*$B26) -> 2500 | N26: 1 | O26: =+(N26*$B26) -> 2500 | P26: 1 | Q26: =+(P26*$B26) -> 2500 | R26: 1 | S26: =+(R26*$B26) -> 2500 | T26: 1 | U26: =+(T26*$B26) -> 2500 | V26: 1 | W26: =+(V26*$B26) -> 2500 | X26: 1 | Y26: =+(X26*$B26) -> 2500 | Z26: 1 | AA26: =+(Z26*$B26) -> 2500 | AB26: 1 | AC26: =+(AB26*$B26) -> 2500 | AD26: 1 | AE26: =+(AD26*$B26) -> 2500 | AF26: 1 | AG26: =+(AF26*$B26) -> 2500 | AH26: 1 | AI26: =+(AH26*$B26) -> 2500 | AJ26: 1 | AK26: =+(AJ26*$B26) -> 2500 | AL26: 1 | AM26: =+(AL26*$B26) -> 2500 | AN26: 1 | AO26: =+(AN26*$B26) -> 2500 | AP26: =+F26+H26+J26+L26+N26+P26+R26+T26+V26+X26+Z26+AB26+D26+AD26+AF26+AH26+AJ26+AL26+AN26 -> 18 | AS26: =E26+G26+I26+K26+M26+O26+Q26+S26+U26+W26+Y26+AA26+AC26+AE26+AG26+AI26+AK26+AM26+AO26 -> 45000 | AT26: 2.02 | AU26: Viáticos y alojamiento de personal
A27: Pasaje Gerente + alimentación y hospedaje | B27: 300 | C27: por persona trimestral | D27: 6 | E27: =+D27*$B27 -> 1800 | F27: 0 | G27: =(+F27*$B27) -> 0 | H27: 0 | I27: =+H27*$B27 -> 0 | J27: 0 | K27: =+J27*$B27 -> 0 | L27: 1 | M27: =+L27*$B27 -> 300 | N27: 0 | O27: =+N27*$B27 -> 0 | P27: 0 | Q27: =+P27*$B27 -> 0 | R27: 0 | S27: =+R27*$B27 -> 0 | T27: 0 | U27: =+T27*$B27 -> 0 | V27: 0 | W27: =+V27*$B27 -> 0 | X27: 0 | Y27: =+X27*$B27 -> 0 | Z27: 0 | AA27: =+Z27*$B27 -> 0 | AB27: 0 | AC27: =+AB27*$B27 -> 0 | AD27: 0 | AE27: =+AD27*$B27 -> 0 | AF27: 0 | AG27: =+AF27*$B27 -> 0 | AH27: 0 | AI27: =+AH27*$B27 -> 0 | AJ27: 0 | AK27: =+AJ27*$B27 -> 0 | AL27: 0 | AM27: =+AL27*$B27 -> 0 | AN27: 0 | AO27: =+AN27*$B27 -> 0 | AP27: =+F27+H27+J27+L27+N27+P27+R27+T27+V27+X27+Z27+AB27+D27+AD27+AF27+AH27+AJ27+AL27+AN27 -> 7 | AS27: =E27+G27+I27+K27+M27+O27+Q27+S27+U27+W27+Y27+AA27+AC27+AE27+AG27+AI27+AK27+AM27+AO27 -> 2100 | AT27: 2.02 | AU27: Viáticos y alojamiento de personal
A28: Pasaje terrestre | B28: 150 | C28: por persona/2 veces x mes | D28: 0 | E28: =+D28*$B28 -> 0 | F28: 5 | G28: =(+F28*$B28) -> 750 | H28: 5 | I28: =+H28*$B28 -> 750 | J28: 5 | K28: =+J28*$B28 -> 750 | L28: 5 | M28: =+L28*$B28 -> 750 | N28: 5 | O28: =+N28*$B28 -> 750 | P28: 5 | Q28: =+P28*$B28 -> 750 | R28: 5 | S28: =+R28*$B28 -> 750 | T28: 5 | U28: =+T28*$B28 -> 750 | V28: 5 | W28: =+V28*$B28 -> 750 | X28: 5 | Y28: =+X28*$B28 -> 750 | Z28: 5 | AA28: =+Z28*$B28 -> 750 | AB28: 5 | AC28: =+AB28*$B28 -> 750 | AD28: 5 | AE28: =+AD28*$B28 -> 750 | AF28: 5 | AG28: =+AF28*$B28 -> 750 | AH28: 5 | AI28: =+AH28*$B28 -> 750 | AJ28: 5 | AK28: =+AJ28*$B28 -> 750 | AL28: 5 | AM28: =+AL28*$B28 -> 750 | AN28: 5 | AO28: =+AN28*$B28 -> 750 | AP28: =+F28+H28+J28+L28+N28+P28+R28+T28+V28+X28+Z28+AB28+D28+AD28+AF28+AH28+AJ28+AL28+AN28 -> 90 | AS28: =E28+G28+I28+K28+M28+O28+Q28+S28+U28+W28+Y28+AA28+AC28+AE28+AG28+AI28+AK28+AM28+AO28 -> 13500 | AT28: 2.02 | AU28: Viáticos y alojamiento de personal
AS29: =SUM(AS24:AS28) -> 125400 | AT29: Total 2.02 | AW29: =SUBTOTAL(9,AW25:AW28) -> 0
A30: Alquiler de Oficina | B30: 2000 | C30: por mes | D30: 0 | E30: =+D30*$B30 -> 0 | F30: 1 | G30: =+F30*$B30 -> 2000 | H30: 1 | I30: =+H30*$B30 -> 2000 | J30: 1 | K30: =+J30*$B30 -> 2000 | L30: 1 | M30: =+L30*$B30 -> 2000 | N30: 1 | O30: =+N30*$B30 -> 2000 | P30: 1 | Q30: =+P30*$B30 -> 2000 | R30: 1 | S30: =+R30*$B30 -> 2000 | T30: 1 | U30: =+T30*$B30 -> 2000 | V30: 1 | W30: =+V30*$B30 -> 2000 | X30: 1 | Y30: =+X30*$B30 -> 2000 | Z30: 1 | AA30: =+Z30*$B30 -> 2000 | AB30: 1 | AC30: =+AB30*$B30 -> 2000 | AD30: 1 | AE30: =+AD30*$B30 -> 2000 | AF30: 1 | AG30: =+AF30*$B30 -> 2000 | AH30: 1 | AI30: =+AH30*$B30 -> 2000 | AJ30: 1 | AK30: =+AJ30*$B30 -> 2000 | AL30: 1 | AM30: =+AL30*$B30 -> 2000 | AN30: 1 | AO30: =+AN30*$B30 -> 2000 | AP30: =+F30+H30+J30+L30+N30+P30+R30+T30+V30+X30+Z30+AB30+D30+AD30+AF30+AH30+AJ30+AL30+AN30 -> 18 | AS30: =E30+G30+I30+K30+M30+O30+Q30+S30+U30+W30+Y30+AA30+AC30+AE30+AG30+AI30+AK30+AM30+AO30 -> 36000 | AT30: 2.03 | AU30: Alquiler de oficina (todo costo)
A31: Luz | B31: 150 | C31: por mes | D31: 0 | E31: =+D31*$B31 -> 0 | F31: 1 | G31: =+F31*$B31 -> 150 | H31: 1 | I31: =+H31*$B31 -> 150 | J31: 1 | K31: =+J31*$B31 -> 150 | L31: 1 | M31: =+L31*$B31 -> 150 | N31: 1 | O31: =+N31*$B31 -> 150 | P31: 1 | Q31: =+P31*$B31 -> 150 | R31: 1 | S31: =+R31*$B31 -> 150 | T31: 1 | U31: =+T31*$B31 -> 150 | V31: 1 | W31: =+V31*$B31 -> 150 | X31: 1 | Y31: =+X31*$B31 -> 150 | Z31: 1 | AA31: =+Z31*$B31 -> 150 | AB31: 1 | AC31: =+AB31*$B31 -> 150 | AD31: 1 | AE31: =+AD31*$B31 -> 150 | AF31: 1 | AG31: =+AF31*$B31 -> 150 | AH31: 1 | AI31: =+AH31*$B31 -> 150 | AJ31: 1 | AK31: =+AJ31*$B31 -> 150 | AL31: 1 | AM31: =+AL31*$B31 -> 150 | AN31: 1 | AO31: =+AN31*$B31 -> 150 | AP31: =+F31+H31+J31+L31+N31+P31+R31+T31+V31+X31+Z31+AB31+D31+AD31+AF31+AH31+AJ31+AL31+AN31 -> 18 | AS31: =E31+G31+I31+K31+M31+O31+Q31+S31+U31+W31+Y31+AA31+AC31+AE31+AG31+AI31+AK31+AM31+AO31 -> 2700 | AT31: 2.03 | AU31: Alquiler de oficina (todo costo)
A32: Limpieza de local | B32: 800 | C32: por mes | D32: 0 | E32: =+D32*$B32 -> 0 | F32: 1 | G32: =+F32*$B32 -> 800 | H32: 1 | I32: =+H32*$B32 -> 800 | J32: 1 | K32: =+J32*$B32 -> 800 | L32: 1 | M32: =+L32*$B32 -> 800 | N32: 1 | O32: =+N32*$B32 -> 800 | P32: 1 | Q32: =+P32*$B32 -> 800 | R32: 1 | S32: =+R32*$B32 -> 800 | T32: 1 | U32: =+T32*$B32 -> 800 | V32: 1 | W32: =+V32*$B32 -> 800 | X32: 1 | Y32: =+X32*$B32 -> 800 | Z32: 1 | AA32: =+Z32*$B32 -> 800 | AB32: 1 | AC32: =+AB32*$B32 -> 800 | AD32: 1 | AE32: =+AD32*$B32 -> 800 | AF32: 1 | AG32: =+AF32*$B32 -> 800 | AH32: 1 | AI32: =+AH32*$B32 -> 800 | AJ32: 1 | AK32: =+AJ32*$B32 -> 800 | AL32: 1 | AM32: =+AL32*$B32 -> 800 | AN32: 1 | AO32: =+AN32*$B32 -> 800 | AP32: =+F32+H32+J32+L32+N32+P32+R32+T32+V32+X32+Z32+AB32+D32+AD32+AF32+AH32+AJ32+AL32+AN32 -> 18 | AS32: =E32+G32+I32+K32+M32+O32+Q32+S32+U32+W32+Y32+AA32+AC32+AE32+AG32+AI32+AK32+AM32+AO32 -> 14400 | AT32: 2.03 | AU32: Alquiler de oficina (todo costo)
A33: Internet (Bitel) | B33: 59 | C33: por mes | D33: 0 | E33: =+D33*$B33 -> 0 | F33: 1 | G33: =+F33*$B33 -> 59 | H33: 1 | I33: =+H33*$B33 -> 59 | J33: 1 | K33: =+J33*$B33 -> 59 | L33: 1 | M33: =+L33*$B33 -> 59 | N33: 1 | O33: =+N33*$B33 -> 59 | P33: 1 | Q33: =+P33*$B33 -> 59 | R33: 1 | S33: =+R33*$B33 -> 59 | T33: 1 | U33: =+T33*$B33 -> 59 | V33: 1 | W33: =+V33*$B33 -> 59 | X33: 1 | Y33: =+X33*$B33 -> 59 | Z33: 1 | AA33: =+Z33*$B33 -> 59 | AB33: 1 | AC33: =+AB33*$B33 -> 59 | AD33: 1 | AE33: =+AD33*$B33 -> 59 | AF33: 1 | AG33: =+AF33*$B33 -> 59 | AH33: 1 | AI33: =+AH33*$B33 -> 59 | AJ33: 1 | AK33: =+AJ33*$B33 -> 59 | AL33: 1 | AM33: =+AL33*$B33 -> 59 | AN33: 1 | AO33: =+AN33*$B33 -> 59 | AP33: =+F33+H33+J33+L33+N33+P33+R33+T33+V33+X33+Z33+AB33+D33+AD33+AF33+AH33+AJ33+AL33+AN33 -> 18 | AS33: =E33+G33+I33+K33+M33+O33+Q33+S33+U33+W33+Y33+AA33+AC33+AE33+AG33+AI33+AK33+AM33+AO33 -> 1062 | AT33: 2.03 | AU33: Alquiler de oficina (todo costo)
A34: Teléfono Línea de atención permanente (Bitel) | B34: 250 | C34: una vez | D34: 1 | E34: =+D34*$B34 -> 250 | F34: 0 | G34: =+F34*$B34 -> 0 | H34: 0 | I34: =+H34*$B34 -> 0 | J34: 0 | K34: =+J34*$B34 -> 0 | L34: 0 | M34: =+L34*$B34 -> 0 | N34: 0 | O34: =+N34*$B34 -> 0 | P34: 0 | Q34: =+P34*$B34 -> 0 | R34: 0 | S34: =+R34*$B34 -> 0 | T34: 0 | U34: =+T34*$B34 -> 0 | V34: 0 | W34: =+V34*$B34 -> 0 | X34: 0 | Y34: =+X34*$B34 -> 0 | Z34: 0 | AA34: =+Z34*$B34 -> 0 | AB34: 0 | AC34: =+AB34*$B34 -> 0 | AD34: 0 | AE34: =+AD34*$B34 -> 0 | AF34: 0 | AG34: =+AF34*$B34 -> 0 | AH34: 0 | AI34: =+AH34*$B34 -> 0 | AJ34: 0 | AK34: =+AJ34*$B34 -> 0 | AL34: 0 | AM34: =+AL34*$B34 -> 0 | AN34: 0 | AO34: =+AN34*$B34 -> 0 | AP34: =+F34+H34+J34+L34+N34+P34+R34+T34+V34+X34+Z34+AB34+D34+AD34+AF34+AH34+AJ34+AL34+AN34 -> 1 | AS34: =E34+G34+I34+K34+M34+O34+Q34+S34+U34+W34+Y34+AA34+AC34+AE34+AG34+AI34+AK34+AM34+AO34 -> 250 | AT34: 2.03 | AU34: Alquiler de oficina (todo costo)
A35: Pago línea atención (Bitel) | B35: 29 | C35: por mes | D35: 0 | E35: =+D35*$B35 -> 0 | F35: 1 | G35: =+F35*$B35 -> 29 | H35: 1 | I35: =+H35*$B35 -> 29 | J35: 1 | K35: =+J35*$B35 -> 29 | L35: 1 | M35: =+L35*$B35 -> 29 | N35: 1 | O35: =+N35*$B35 -> 29 | P35: 1 | Q35: =+P35*$B35 -> 29 | R35: 1 | S35: =+R35*$B35 -> 29 | T35: 1 | U35: =+T35*$B35 -> 29 | V35: 1 | W35: =+V35*$B35 -> 29 | X35: 1 | Y35: =+X35*$B35 -> 29 | Z35: 1 | AA35: =+Z35*$B35 -> 29 | AB35: 1 | AC35: =+AB35*$B35 -> 29 | AD35: 1 | AE35: =+AD35*$B35 -> 29 | AF35: 1 | AG35: =+AF35*$B35 -> 29 | AH35: 1 | AI35: =+AH35*$B35 -> 29 | AJ35: 1 | AK35: =+AJ35*$B35 -> 29 | AL35: 1 | AM35: =+AL35*$B35 -> 29 | AN35: 1 | AO35: =+AN35*$B35 -> 29 | AP35: =+F35+H35+J35+L35+N35+P35+R35+T35+V35+X35+Z35+AB35+D35+AD35+AF35+AH35+AJ35+AL35+AN35 -> 18 | AS35: =E35+G35+I35+K35+M35+O35+Q35+S35+U35+W35+Y35+AA35+AC35+AE35+AG35+AI35+AK35+AM35+AO35 -> 522 | AT35: 2.03 | AU35: Alquiler de oficina (todo costo)
A36: Cámara fotográfica | B36: 1000 | C36: una vez | D36: 1 | E36: =+D36*$B36 -> 1000 | F36: 0 | G36: =+F36*$B36 -> 0 | H36: 0 | I36: =+H36*$B36 -> 0 | J36: 0 | K36: =+J36*$B36 -> 0 | L36: 0 | M36: =+L36*$B36 -> 0 | N36: 0 | O36: =+N36*$B36 -> 0 | P36: 0 | Q36: =+P36*$B36 -> 0 | R36: 0 | S36: =+R36*$B36 -> 0 | T36: 0 | U36: =+T36*$B36 -> 0 | V36: 0 | W36: =+V36*$B36 -> 0 | X36: 0 | Y36: =+X36*$B36 -> 0 | Z36: 0 | AA36: =+Z36*$B36 -> 0 | AB36: 0 | AC36: =+AB36*$B36 -> 0 | AD36: 0 | AE36: =+AD36*$B36 -> 0 | AF36: 0 | AG36: =+AF36*$B36 -> 0 | AH36: 0 | AI36: =+AH36*$B36 -> 0 | AJ36: 0 | AK36: =+AJ36*$B36 -> 0 | AL36: 0 | AM36: =+AL36*$B36 -> 0 | AN36: 0 | AO36: =+AN36*$B36 -> 0 | AP36: =+F36+H36+J36+L36+N36+P36+R36+T36+V36+X36+Z36+AB36+D36+AD36+AF36+AH36+AJ36+AL36+AN36 -> 1 | AS36: =E36+G36+I36+K36+M36+O36+Q36+S36+U36+W36+Y36+AA36+AC36+AE36+AG36+AI36+AK36+AM36+AO36 -> 1000 | AT36: 2.03 | AU36: Alquiler de oficina (todo costo)
A37: Cableado | B37: 500 | C37: una vez | D37: 1 | E37: =+D37*$B37 -> 500 | F37: 0 | G37: =+F37*$B37 -> 0 | H37: 0 | I37: =+H37*$B37 -> 0 | J37: 0 | K37: =+J37*$B37 -> 0 | L37: 0 | M37: =+L37*$B37 -> 0 | N37: 0 | O37: =+N37*$B37 -> 0 | P37: 0 | Q37: =+P37*$B37 -> 0 | R37: 0 | S37: =+R37*$B37 -> 0 | T37: 0 | U37: =+T37*$B37 -> 0 | V37: 0 | W37: =+V37*$B37 -> 0 | X37: 0 | Y37: =+X37*$B37 -> 0 | Z37: 0 | AA37: =+Z37*$B37 -> 0 | AB37: 0 | AC37: =+AB37*$B37 -> 0 | AD37: 0 | AE37: =+AD37*$B37 -> 0 | AF37: 0 | AG37: =+AF37*$B37 -> 0 | AH37: 0 | AI37: =+AH37*$B37 -> 0 | AJ37: 0 | AK37: =+AJ37*$B37 -> 0 | AL37: 0 | AM37: =+AL37*$B37 -> 0 | AN37: 0 | AO37: =+AN37*$B37 -> 0 | AP37: =+F37+H37+J37+L37+N37+P37+R37+T37+V37+X37+Z37+AB37+D37+AD37+AF37+AH37+AJ37+AL37+AN37 -> 1 | AS37: =E37+G37+I37+K37+M37+O37+Q37+S37+U37+W37+Y37+AA37+AC37+AE37+AG37+AI37+AK37+AM37+AO37 -> 500 | AT37: 2.03 | AU37: Alquiler de oficina (todo costo)
A38: Permiso Indeci | B38: 2000 | C38: una vez | D38: 1 | E38: =+D38*$B38 -> 2000 | F38: 0 | G38: =+F38*$B38 -> 0 | H38: 0 | I38: =+H38*$B38 -> 0 | J38: 0 | K38: =+J38*$B38 -> 0 | L38: 0 | M38: =+L38*$B38 -> 0 | N38: 0 | O38: =+N38*$B38 -> 0 | P38: 0 | Q38: =+P38*$B38 -> 0 | R38: 0 | S38: =+R38*$B38 -> 0 | T38: 0 | U38: =+T38*$B38 -> 0 | V38: 0 | W38: =+V38*$B38 -> 0 | X38: 0 | Y38: =+X38*$B38 -> 0 | Z38: 0 | AA38: =+Z38*$B38 -> 0 | AB38: 0 | AC38: =+AB38*$B38 -> 0 | AD38: 0 | AE38: =+AD38*$B38 -> 0 | AF38: 0 | AG38: =+AF38*$B38 -> 0 | AH38: 0 | AI38: =+AH38*$B38 -> 0 | AJ38: 0 | AK38: =+AJ38*$B38 -> 0 | AL38: 0 | AM38: =+AL38*$B38 -> 0 | AN38: 0 | AO38: =+AN38*$B38 -> 0 | AP38: =+F38+H38+J38+L38+N38+P38+R38+T38+V38+X38+Z38+AB38+D38+AD38+AF38+AH38+AJ38+AL38+AN38 -> 1 | AS38: =E38+G38+I38+K38+M38+O38+Q38+S38+U38+W38+Y38+AA38+AC38+AE38+AG38+AI38+AK38+AM38+AO38 -> 2000 | AT38: 2.03 | AU38: Alquiler de oficina (todo costo)
A39: Alarma (instalación) | B39: 400 | C39: una vez | D39: 1 | E39: =+D39*$B39 -> 400 | F39: 0 | G39: =+F39*$B39 -> 0 | H39: 0 | I39: =+H39*$B39 -> 0 | J39: 0 | K39: =+J39*$B39 -> 0 | L39: 0 | M39: =+L39*$B39 -> 0 | N39: 0 | O39: =+N39*$B39 -> 0 | P39: 0 | Q39: =+P39*$B39 -> 0 | R39: 0 | S39: =+R39*$B39 -> 0 | T39: 0 | U39: =+T39*$B39 -> 0 | V39: 0 | W39: =+V39*$B39 -> 0 | X39: 0 | Y39: =+X39*$B39 -> 0 | Z39: 0 | AA39: =+Z39*$B39 -> 0 | AB39: 0 | AC39: =+AB39*$B39 -> 0 | AD39: 0 | AE39: =+AD39*$B39 -> 0 | AF39: 0 | AG39: =+AF39*$B39 -> 0 | AH39: 0 | AI39: =+AH39*$B39 -> 0 | AJ39: 0 | AK39: =+AJ39*$B39 -> 0 | AL39: 0 | AM39: =+AL39*$B39 -> 0 | AN39: 0 | AO39: =+AN39*$B39 -> 0 | AP39: =+F39+H39+J39+L39+N39+P39+R39+T39+V39+X39+Z39+AB39+D39+AD39+AF39+AH39+AJ39+AL39+AN39 -> 1 | AS39: =E39+G39+I39+K39+M39+O39+Q39+S39+U39+W39+Y39+AA39+AC39+AE39+AG39+AI39+AK39+AM39+AO39 -> 400 | AT39: 2.03 | AU39: Alquiler de oficina (todo costo)
A40: Alarma mensualidad | B40: 200 | C40: por mes | D40: 0 | E40: =+D40*$B40 -> 0 | F40: 1 | G40: =+F40*$B40 -> 200 | H40: 1 | I40: =+H40*$B40 -> 200 | J40: 1 | K40: =+J40*$B40 -> 200 | L40: 1 | M40: =+L40*$B40 -> 200 | N40: 1 | O40: =+N40*$B40 -> 200 | P40: 1 | Q40: =+P40*$B40 -> 200 | R40: 1 | S40: =+R40*$B40 -> 200 | T40: 1 | U40: =+T40*$B40 -> 200 | V40: 1 | W40: =+V40*$B40 -> 200 | X40: 1 | Y40: =+X40*$B40 -> 200 | Z40: 1 | AA40: =+Z40*$B40 -> 200 | AB40: 1 | AC40: =+AB40*$B40 -> 200 | AD40: 1 | AE40: =+AD40*$B40 -> 200 | AF40: 1 | AG40: =+AF40*$B40 -> 200 | AH40: 1 | AI40: =+AH40*$B40 -> 200 | AJ40: 1 | AK40: =+AJ40*$B40 -> 200 | AL40: 1 | AM40: =+AL40*$B40 -> 200 | AN40: 1 | AO40: =+AN40*$B40 -> 200 | AP40: =+F40+H40+J40+L40+N40+P40+R40+T40+V40+X40+Z40+AB40+D40+AD40+AF40+AH40+AJ40+AL40+AN40 -> 18 | AS40: =E40+G40+I40+K40+M40+O40+Q40+S40+U40+W40+Y40+AA40+AC40+AE40+AG40+AI40+AK40+AM40+AO40 -> 3600 | AT40: 2.03 | AU40: Alquiler de oficina (todo costo)
A41: Señalética | B41: 200 | C41: una vez | D41: 1 | E41: =+D41*$B41 -> 200 | F41: 0 | G41: =+F41*$B41 -> 0 | H41: 0 | I41: =+H41*$B41 -> 0 | J41: 0 | K41: =+J41*$B41 -> 0 | L41: 0 | M41: =+L41*$B41 -> 0 | N41: 0 | O41: =+N41*$B41 -> 0 | P41: 0 | Q41: =+P41*$B41 -> 0 | R41: 0 | S41: =+R41*$B41 -> 0 | T41: 0 | U41: =+T41*$B41 -> 0 | V41: 0 | W41: =+V41*$B41 -> 0 | X41: 0 | Y41: =+X41*$B41 -> 0 | Z41: 0 | AA41: =+Z41*$B41 -> 0 | AB41: 0 | AC41: =+AB41*$B41 -> 0 | AD41: 0 | AE41: =+AD41*$B41 -> 0 | AF41: 0 | AG41: =+AF41*$B41 -> 0 | AH41: 0 | AI41: =+AH41*$B41 -> 0 | AJ41: 0 | AK41: =+AJ41*$B41 -> 0 | AL41: 0 | AM41: =+AL41*$B41 -> 0 | AN41: 0 | AO41: =+AN41*$B41 -> 0 | AP41: =+F41+H41+J41+L41+N41+P41+R41+T41+V41+X41+Z41+AB41+D41+AD41+AF41+AH41+AJ41+AL41+AN41 -> 1 | AS41: =E41+G41+I41+K41+M41+O41+Q41+S41+U41+W41+Y41+AA41+AC41+AE41+AG41+AI41+AK41+AM41+AO41 -> 200 | AT41: 2.03 | AU41: Alquiler de oficina (todo costo)
... A57: Bolsas de plastico para tachos de basura | B57: 30 | C57: por mes | D57: 0 | E57: =+D57*$B57 -> 0 | F57: 1 | G57: =+F57*$B57 -> 30 | H57: 1 | I57: =+H57*$B57 -> 30 | J57: 1 | K57: =+J57*$B57 -> 30 | L57: 1 | M57: =+L57*$B57 -> 30 | N57: 1 | O57: =+N57*$B57 -> 30 | P57: 1 | Q57: =+P57*$B57 -> 30 | R57: 1 | S57: =+R57*$B57 -> 30 | T57: 1 | U57: =+T57*$B57 -> 30 | V57: 1 | W57: =+V57*$B57 -> 30 | X57: 1 | Y57: =+X57*$B57 -> 30 | Z57: 1 | AA57: =+Z57*$B57 -> 30 | AB57: 1 | AC57: =+AB57*$B57 -> 30 | AD57: 1 | AE57: =+AD57*$B57 -> 30 | AF57: 1 | AG57: =+AF57*$B57 -> 30 | AH57: 1 | AI57: =+AH57*$B57 -> 30 | AJ57: 1 | AK57: =+AJ57*$B57 -> 30 | AL57: 1 | AM57: =+AL57*$B57 -> 30 | AN57: 1 | AO57: =+AN57*$B57 -> 30 | AP57: =+F57+H57+J57+L57+N57+P57+R57+T57+V57+X57+Z57+AB57+D57+AD57+AF57+AH57+AJ57+AL57+AN57 -> 18 | AS57: =E57+G57+I57+K57+M57+O57+Q57+S57+U57+W57+Y57+AA57+AC57+AE57+AG57+AI57+AK57+AM57+AO57 -> 540 | AT57: 2.03 | AU57: Alquiler de oficina (todo costo)
...

Sheet Plantilla OHLA
A1: Item | B1: Descripción | C1: Und | D1: Cant | E1: PU | F1: Total
A2: 1 | B2: Personal | F2: =SUM(F4:F8) -> 838908
B3: Huarmey
A4: 1.03 | B4: Coordinador RRCC | C4: Mes | D4: =+Detalle!AY12 -> 17.73 | E4: 13000 | F4: =+D4*E4 -> 230490
A5: 1.04 | B5: RRCC I | C5: Mes | D5: =+Detalle!AY13 -> 17.73 | E5: 9300 | F5: =+D5*E5 -> 164889
A6: 1.05 | B6: RRCC II | C6: Mes | D6: =+Detalle!AY14 -> 15.23 | E6: 9000 | F6: =+D6*E6 -> 137070
A7: 1.06 | B7: RRCC III | C7: Mes | D7: =+Detalle!AY15 -> 15.73 | E7: 9000 | F7: =+D7*E7 -> 141570
A8: 1.07 | B8: Comunicador | C8: Mes | D8: =+Detalle!AY16 -> 17.73 | E8: 9300 | F8: =+D8*E8 -> 164889
A9: 2 | B9: Gastos operativos | F9: =SUM(F10:F23) -> 429890
B10: Huarmey
A11: 2.01 | B11: Movilización y Desmovilización | C11: Glb
A12: 2.02 | B12: Viáticos y alojamiento de personal | C12: Unidad | F12: 125400
A13: 2.03 | B13: Alquiler de oficina (todo costo) | C13: Mes | F13: 71969
A14: 2.04 | B14: Movilidad, combustible, repuestos, no incluye chofer (personal será chofer) | C14: Mes | F14: 153000
A15: 2.05 | B15: Gastos reuniones y talleres | C15: Unidad
A16: 2.06 | B16: Insumos varios, impresiones, informes | C16: Unidad | F16: 32030
A17: 2.07 | B17: Gastos implementación medidas anti Covid | C17: Unidad | F17: 12285
A18: 2.08 | B18: Equipos de cómputo | C18: Unidad | F18: 19000
A19: 2.09 | B19: Proyector multimedia | C19: Unidad | F19: 6000
A20: 2.1 | B20: Parlante | C20: Unidad | F20: 1000
A21: 2.11 | B21: Micrófono | C21: Unidad | F21: 300
A22: 2.12 | B22: Ecran | C22: Unidad | F22: 500
A23: 2.25 | B23: Seguros SCTR | C23: Glb | F23: =8413-7 -> 8406
B25: Costo directo | D25: =+F9+F2 -> 1268798
B26: GASTOS GENERALES SUBCONTRATISTA | D26: =+Detalle!AS124 -> 198779 | E26: (Ver Detalle)
B27: UTILIDADES SUBCONTRATISTA | C27: 0.2 | D27: =+Detalle!AS126 -> 252078.4 | E27: (Ver Detalle)
B28: SUBTOTAL COSTOS | D28: =+D25+D26+D27 -> 1719655.4
B29: IGV | D29: =+D28*0.18 -> 309537.97
B30: PRESUPUESTO TOTAL DEL PROYECTO | D30: =+D28+D29 -> 2029193.4

Sheet PlantillaFinal
B2: Item | C2: Descripción | D2: Und | E2: Cant | F2: Duración mes | G2: PU S/. (Sin IGV) | H2: Total S/. (Sin IGV)
B3: 1 | C3: Personal | H3: =SUM(H5:H9) -> 813740.76
C4: Huarmey
B5: 1.06 | C5: Coordinador RRCC | D5: Mes | E5: 1 | F5: 17.73 | G5: =13000*0.97 -> 12610 | H5: =+F5*G5 -> 223575.3
B6: 1.07 | C6: Relacionista Comunitario I - Qda. Aija - San Damián | D6: Mes | E6: 1 | F6: 17.73 | G6: =9300*0.97 -> 9021 | H6: =+F6*G6 -> 159942.33
B7: 1.08 | C7: Relacionista Comunitario II - Qda. Malvas - Huamba baja | D7: Mes | E7: 1 | F7: 15.23 | G7: =9000*0.97 -> 8730 | H7: =+F7*G7 -> 132957.9
B8: 1.09 | C8: Relacionista Comunitario II - Qda. Huarmey (Huamba) | D8: Mes | E8: 1 | F8: 15.73 | G8: =9000*0.97 -> 8730 | H8: =+F8*G8 -> 137322.9
B9: 1.1 | C9: Comunicador - Huarmey | D9: Mes | E9: 1 | F9: 17.73 | G9: =9300*0.97 -> 9021 | H9: =+F9*G9 -> 159942.33
B10: 2 | C10: Gastos Operativos | H10: =SUM(H12:H23) -> 408862.57
C11: Huarmey
B12: 2.13 | C12: Movilización y Desmovilización (Huarmey) | D12: Und | F12: 2
B13: 2.14 | C13: Viáticos y alojamiento de personal (Huarmey) | D13: Mes | E13: 7 | F13: 84.15 | G13: =213*0.97 -> 206.61 | H13: =+E13*F13*G13 -> 121703.62
B14: 2.15 | C14: Alquiler de oficina - Huarmey | D14: Mes | E14: 1 | F14: 17.73 | G14: =4059*0.97 -> 3937.23 | H14: =+E14*F14*G14 -> 69807.088
B15: 2.16 | C15: Movilidad, combustible, repuestos, no incluye chofer (personal sera chofer) | D15: Mes | E15: 1 | F15: 34 | G15: =4500*0.97 -> 4365 | H15: =+E15*F15*G15 -> 148410
B16: 2.17 | C16: Gastos reuniones y talleres - Huarmey | D16: Und | F16: 84.15 | H16: =+E16*F16*G16 -> 0
B17: 2.18 | C17: Insumos varios, impresiones, informes (Huarmey) | D17: Mes | E17: 17 | F17: 17.73 | G17: =106*0.97 -> 102.82 | H17: =+E17*F17*G17 -> 30990.976
B18: 2.19 | C18: Gastos implementación medidas anti COVID | D18: Mes | E18: 7 | F18: 84.15 | G18: =21*0.97 -> 20.37 | H18: =+E18*F18*G18 -> 11998.949
B19: 2.2 | C19: Equipos de computo(Laptop) - Huarmey | D19: Mes | E19: 3 | F19: 17.73 | G19: =357*0.97 -> 346.29 | H19: =+E19*F19*G19 -> 18419.165
B20: 2.21 | C20: Proyector multimedia - Huarmey | D20: Und | E20: 1 | F20: 17.73 | G20: =338*0.97 -> 327.86 | H20: =+E20*F20*G20 -> 5812.9578
B21: 2.22 | C21: Parlante - Huarmey | D21: Und | E21: 2 | F21: 17.73 | G21: =28*0.97 -> 27.16 | H21: =+E21*F21*G21 -> 963.0936
B22: 2.23 | C22: Micrófonos - Huarmey | D22: Und | E22: 2 | F22: 17.73 | G22: =8*0.97 -> 7.76 | H22: =+E22*F22*G22 -> 275.1696
B23: 2.24 | C23: Ecran - Huarmey | D23: Und | E23: 1 | F23: 17.73 | G23: =28*0.97 -> 27.16 | H23: =+E23*F23*G23 -> 481.5468
C25: COSTO DIRECTO (HUARMEY) | H25: =+H3+H10 -> 1222603.3
C26: GASTOS GENERALES SUBCONTRATISTA | H26: =+Detalle!AS124*0.97-27.56 -> 192788.07
C27: UTILIDADES SUBCONTRATISTA | G27: 0.2 | H27: =+H25*G27 -> 244520.67
C28: SUBTOTAL COSTOS | H28: =+H25+H26+H27 -> 1659912.1
C29: IGV | H29: =+H28*0.18 -> 298784.17
C30: PRESUPUESTO TOTAL DEL PROYECTO | H30: =+H28+H29 -> 1958696.2
C33: * Sustentar la partida de Gastos Generales al momento de presentar la oferta ecónomica.
C34: Ver detalle

Sheet txt
B1: Gastos Operativos | G1: 1 | H1: 2 | I1: 3 | J1: 4 | K1: 5 | L1: 6 | M1: 7 | N1: 8 | O1: 9 | P1: 10 | Q1: 11 | R1: 12
B2: Gastos Operativos | E2: Rate | F2: Unidad | G2: Costo | H2: Costo | I2: Costo | J2: Costo | K2: Costo | L2: Costo | M2: Costo | N2: Costo | O2: Costo | P2: Costo | Q2: Costo | R2: Costo | S2: Costo
C3: cuenta | E3: (S/.) | G3: (S/.) | H3: (S/.) | I3: (S/.) | J3: (S/.) | K3: (S/.) | L3: (S/.) | M3: (S/.) | N3: (S/.) | O3: (S/.) | P3: (S/.) | Q3: (S/.) | R3: (S/.) | S3: (S/.)
B4: Alquiler de Vehìculo | C4: 9135400 | D4: Alquiler de Vehìculo | E4: 220 | F4: por dìa | G4: 13200 | H4: 13200 | I4: 13200 | J4: 13200 | K4: 13200 | L4: 11000 | M4: 6600 | N4: 6600 | O4: 6600 | P4: 6600 | Q4: 6600 | R4: 8800 | S4: 118800
B5: Pasaje Aereo | C5: 9131120 | D5: Pasaje Aereo | E5: 760 | F5: por persona | G5: 760 | H5: 760 | I5: 1520 | J5: 1520 | K5: 1520 | L5: 1520 | M5: 1520 | N5: 1520 | O5: 1520 | P5: 1520 | Q5: 1520 | R5: 1520 | S5: 16720
B6: Conductor | C6: 9139316 | D6: Conductor | E6: 3000 | F6: por mes por 02 personas | G6: 6000 | H6: 9000 | I6: 6000 | J6: 6000 | K6: 6000 | L6: 6000 | M6: 3000 | N6: 3000 | O6: 3000 | P6: 3000 | Q6: 3000 | R6: 3000 | S6: 57000
B7: Combustible | C7: 9131132 | D7: Combustible | E7: 75 | F7: por dìa | G7: 4500 | H7: 4500 | I7: 4500 | J7: 4500 | K7: 4500 | L7: 3750 | M7: 2250 | N7: 2250 | O7: 2250 | P7: 2250 | Q7: 2250 | R7: 3000 | S7: 40500
B8: Alimentacion | C8: 9131400 | D8: Alimentacion | E8: 40 | F8: por persona dia | G8: 7200 | H8: 7200 | I8: 7200 | J8: 7200 | K8: 7200 | L8: 7200 | M8: 7200 | N8: 7200 | O8: 7200 | P8: 7200 | Q8: 7200 | R8: 7200 | S8: 86400
B9: Alojamiento | C9: 9131300 | D9: Alojamiento | E9: 990 | F9: por mes | G9: 990 | H9: 990 | I9: 990 | J9: 990 | K9: 990 | L9: 990 | M9: 990 | N9: 990 | O9: 990 | P9: 990 | Q9: 990 | R9: 990 | S9: 11880
B10: Comunicaciones | C10: 9136401 | D10: Comunicaciones | E10: 100 | F10: por persona | G10: 300 | H10: 300 | I10: 300 | J10: 300 | K10: 300 | L10: 300 | M10: 300 | N10: 300 | O10: 300 | P10: 300 | Q10: 300 | R10: 300 | S10: 3600
B11: EPPs - Indumentaria para campo con protección UV | C11: 9156002 | D11: EPP | E11: 300 | F11: por persona | G11: 1800 | H11: 0 | I11: 0 | J11: 0 | K11: 0 | L11: 0 | M11: 0 | N11: 0 | O11: 0 | P11: 0 | Q11: 0 | R11: 0 | S11: 1800
B12: Examenes Medicos - Pre ocupacional para equipo de planta | C12: 9139315 | D12: examenes medicos | E12: 250 | F12: por persona | G12: 1500 | H12: 0 | I12: 0 | J12: 0 | K12: 0 | L12: 0 | M12: 0 | N12: 0 | O12: 0 | P12: 0 | Q12: 0 | R12: 0 | S12: 1500
B13: * Alquiler de Oficinas | C13: 9135200 | D13: * Alquiler de Oficinas | E13: 1600 | F13: por mes | G13: 1600 | H13: 1600 | I13: 1600 | J13: 1600 | K13: 1600 | L13: 1600 | M13: 1600 | N13: 1600 | O13: 1600 | P13: 1600 | Q13: 1600 | R13: 1600 | S13: 19200
B14: * Servicios | C14: 9139314 | D14: servicio de limpieza | E14: 270 | F14: por mes | G14: 270 | H14: 270 | I14: 270 | J14: 270 | K14: 270 | L14: 270 | M14: 270 | N14: 270 | O14: 270 | P14: 270 | Q14: 270 | R14: 270 | S14: 3240
B15: * Implementacion de Oficina y Equipos | C15: 3351100 | D15: activos y compra de activos menores | E15: 21900 | F15: total | G15: 21900 | H15: 0 | I15: 0 | J15: 0 | K15: 0 | L15: 0 | M15: 0 | N15: 0 | O15: 0 | P15: 0 | Q15: 0 | R15: 0 | S15: 21900
... B18: * Materiales | C18: 9159400 | D18: copias | E18: 300 | F18: por taller | G18: 3500 | H18: 3600 | I18: 3600 | J18: 3600 | K18: 0 | L18: 0 | M18: 0 | N18: 0 | O18: 0 | P18: 0 | Q18: 0 | R18: 0 | S18: 42900
C19: 9139317 | D19: impresiones | G19: 3500 | H19: 3600 | I19: 3600 | J19: 3600
C20: 9156004 | D20: material de oficina | G20: 3500 | H20: 3600 | I20: 3600 | J20: 3600
B21: * Registro visual | C21: 9139323 | D21: otros servicios | E21: 300 | F21: por taller | G21: 10500 | H21: 10800 | I21: 10800 | J21: 10800 | K21: 1000 | L21: 1000 | M21: 1000 | N21: 1000 | O21: 1000 | P21: 1000 | Q21: 1000 | R21: 1000 | S21: 42900
B22: * Comunicados por radios (nivel provincial) | C22: 9136402 | D22: otras comunicaciones | E22: 1500 | F22: por mes | G22: 1500 | H22: 1500 | I22: 1500 | J22: 3000 | K22: 1500 | L22: 0 | M22: 0 | N22: 0 | O22: 0 | P22: 0 | Q22: 0 | R22: 0 | S22: 9000
B23: Asistente de campo | C23: 9139318 | D23: Asistente de campo | E23: 1200 | F23: por mes | G23: 12000 | H23: 12000 | I23: 12000 | J23: 12000 | K23: 0 | L23: 0 | M23: 0 | N23: 0 | O23: 0 | P23: 0 | Q23: 0 | R23: 0 | S23: 48000
B26: Gastos Operativos | I26: 42795 | J26: 42826 | K26: 42856 | L26: 42887 | M26: 42917 | N26: 42948 | O26: 42979 | P26: 43009 | Q26: 43040 | R26: 43070 | S26: 43101 | T26: 43132
B27: n | C27: nombre | D27: cuenta | I27: (S/.) | J27: (S/.) | K27: (S/.) | L27: (S/.) | M27: (S/.) | N27: (S/.) | O27: (S/.) | P27: (S/.) | Q27: (S/.) | R27: (S/.) | S27: (S/.) | T27: (S/.)
B28: * Implementacion de Oficina y Equipos | C28: activos y compra de activos menores | D28: 3351100 | E28: 0001 | F28: CME-0100 | G28: 0 | H28: 0 | I28: 21900 | J28: 0 | K28: 0 | L28: 0 | M28: 0 | N28: 0 | O28: 0 | P28: 0 | Q28: 0 | R28: 0 | S28: 0 | T28: 0
B29: Pasaje Aereo | C29: Pasaje Aereo | D29: 9131120 | E29: 0001 | F29: CME-0100 | G29: 0 | H29: 0 | I29: 760 | J29: 760 | K29: 1520 | L29: 1520 | M29: 1520 | N29: 1520 | O29: 1520 | P29: 1520 | Q29: 1520 | R29: 1520 | S29: 1520 | T29: 1520
B30: Combustible | C30: Combustible | D30: 9131132 | E30: 0001 | F30: CME-0100 | G30: 0 | H30: 0 | I30: 4500 | J30: 4500 | K30: 4500 | L30: 4500 | M30: 4500 | N30: 3750 | O30: 2250 | P30: 2250 | Q30: 2250 | R30: 2250 | S30: 2250 | T30: 3000
B31: Alojamiento | C31: Alojamiento | D31: 9131300 | E31: 0001 | F31: CME-0100 | G31: 0 | H31: 0 | I31: 990 | J31: 990 | K31: 990 | L31: 990 | M31: 990 | N31: 990 | O31: 990 | P31: 990 | Q31: 990 | R31: 990 | S31: 990 | T31: 990
B32: Alimentacion | C32: Alimentacion | D32: 9131400 | E32: 0001 | F32: CME-0100 | G32: 0 | H32: 0 | I32: =7200+7952 -> 15152 | J32: =7200+7952 -> 15152 | K32: =7200+7952 -> 15152 | L32: =7200+7952 -> 15152 | M32: 7200 | N32: 7200 | O32: 7200 | P32: 7200 | Q32: 7200 | R32: 7200 | S32: 7200 | T32: 7200
B33: * Mantenimiento | C33: servicio de mantenimiento | D33: 9134304 | E33: 0001 | F33: CME-0100 | G33: 0 | H33: 0 | I33: 250 | J33: 250 | K33: 250 | L33: 250 | M33: 250 | N33: 250 | O33: 250 | P33: 250 | Q33: 250 | R33: 250 | S33: 250 | T33: 250
B34: * Alquiler de Oficinas | C34: * Alquiler de Oficinas | D34: 9135200 | E34: 0001 | F34: CME-0100 | G34: 0 | H34: 0 | I34: 1600 | J34: 1600 | K34: 1600 | L34: 1600 | M34: 1600 | N34: 1600 | O34: 1600 | P34: 1600 | Q34: 1600 | R34: 1600 | S34: 1600 | T34: 1600
B35: Alquiler de Vehìculo | C35: Alquiler de Vehìculo | D35: 9135400 | E35: 0001 | F35: CME-0100 | G35: 0 | H35: 0 | I35: 13200 | J35: 13200 | K35: 13200 | L35: 13200 | M35: 13200 | N35: 11000 | O35: 6600 | P35: 6600 | Q35: 6600 | R35: 6600 | S35: 6600 | T35: 8800
B36: Comunicaciones | C36: Comunicaciones | D36: 9136401 | E36: 0001 | F36: CME-0100 | G36: 0 | H36: 0 | I36: 300 | J36: 300 | K36: 300 | L36: 300 | M36: 300 | N36: 300 | O36: 300 | P36: 300 | Q36: 300 | R36: 300 | S36: 300 | T36: 300
B37: * Comunicados por radios (nivel provincial) | C37: otras comunicaciones | D37: 9136402 | E37: 0001 | F37: CME-0100 | G37: 0 | H37: 0 | I37: 1500 | J37: 1500 | K37: 1500 | L37: 3000 | M37: 1500 | N37: 0 | O37: 0 | P37: 0 | Q37: 0 | R37: 0 | S37: 0 | T37: 0
B38: * Servicios | C38: servicio de limpieza | D38: 9139314 | E38: 0001 | F38: CME-0100 | G38: 0 | H38: 0 | I38: 270 | J38: 270 | K38: 270 | L38: 270 | M38: 270 | N38: 270 | O38: 270 | P38: 270 | Q38: 270 | R38: 270 | S38: 270 | T38: 270
B39: Examenes Medicos - Pre ocupacional para equipo de planta | C39: examenes medicos | D39: 9139315 | E39: 0001 | F39: CME-0100 | G39: 0 | H39: 0 | I39: 1500 | J39: 0 | K39: 0 | L39: 0 | M39: 0 | N39: 0 | O39: 0 | P39: 0 | Q39: 0 | R39: 0 | S39: 0 | T39: 0
B40: Conductor | C40: Conductor | D40: 9139316 | E40: 0001 | F40: CME-0100 | G40: 0 | H40: 0 | I40: 6000 | J40: 9000 | K40: 6000 | L40: 6000 | M40: 6000 | N40: 6000 | O40: 3000 | P40: 3000 | Q40: 3000 | R40: 3000 | S40: 3000 | T40: 3000
C41: impresiones | D41: 9139317 | E41: 0001 | F41: CME-0100 | G41: 0 | H41: 0 | I41: 3500 | J41: 3600 | K41: 3600 | L41: 3600
B42: Asistente de campo | C42: Asistente de campo | D42: 9139318 | E42: 0001 | F42: CME-0100 | G42: 0 | H42: 0 | I42: 12000 | J42: 12000 | K42: 12000 | L42: 12000 | M42: 0 | N42: 0 | O42: 0 | P42: 0 | Q42: 0 | R42: 0 | S42: 0 | T42: 0
B43: * Registro visual | C43: otros servicios | D43: 9139323 | E43: 0001 | F43: CME-0100 | G43: 0 | H43: 0 | I43: 10500 | J43: 10800 | K43: 10800 | L43: 10800 | M43: 1000 | N43: 1000 | O43: 1000 | P43: 1000 | Q43: 1000 | R43: 1000 | S43: 1000 | T43: 1000
B44: EPPs - Indumentaria para campo con protección UV | C44: EPP | D44: 9156002 | E44: 0001 | F44: CME-0100 | G44: 0 | H44: 0 | I44: 1800 | J44: 0 | K44: 0 | L44: 0 | M44: 0 | N44: 0 | O44: 0 | P44: 0 | Q44: 0 | R44: 0 | S44: 0 | T44: 0
...
