Workbook

Sheet resumen x item
A3: CÓDIGO | B3: DETALLE | C3: Suma de (S/.) CT
A4: 2.02 | B4: Viáticos y alojamiento de personal | C4: 90650
A5: 2.03 | B5: Alquiler de oficina (todo costo) | C5: 54229
A6: 2.04 | B6: Movilidad, combustible, repuestos, no incluye chofer (personal será chofer) | C6: 110500
A7: 2.06 | B7: Insumos varios, impresiones, informes | C7: 26380
A8: 2.07 | B8: Gastos implementación medidas anti Covid | C8: 8885
A9: 2.08 | B9: Equipos de cómputo | C9: 19000
A10: 2.09 | B10: Proyector multimedia | C10: 6000
A11: 2.1 | B11: Parlante | C11: 1000
A12: 2.11 | B12: Micrófono | C12: 300
A13: 2.12 | B13: Ecran | C13: 500
A14: (en blanco) | B14: (en blanco) | C14: 11763
A15: Total general | C15: 329207

Sheet Plantilla OHLA
A1: Item | B1: Descripción | C1: Und | D1: Cant | E1: PU | F1: Total
A2: 1 | B2: Personal | F2: =SUM(F4:F12) -> 779144
B3: Casma
A4: 1.01 | B4: Gerente | C4: Mes | D4: 13 | E4: 2465 | F4: =+D4*E4 -> 32045
A5: 1.02 | B5: Coordinador In-House | C5: Mes | D5: 13 | E5: 2105 | F5: =+D5*E5 -> 27365
A6: 1.03 | B6: Coordinador RRCC | C6: Mes | D6: 13 | E6: 15801 | F6: =+D6*E6 -> 205413
A7: 1.04 | B7: RRCC I | C7: Mes | D7: 13 | E7: 8800 | F7: =+D7*E7 -> 114400
A8: 1.05 | B8: RRCC II | C8: Mes | D8: 13 | E8: 8800 | F8: =+D8*E8 -> 114400
A9: 1.06 | B9: RRCC III | C9: Mes | D9: 13 | E9: 8800 | F9: =+D9*E9 -> 114400
A10: 1.07 | B10: Comunicador | C10: Mes | D10: 13 | E10: 8800 | F10: =+D10*E10 -> 114400
A11: 1.08 | B11: Conductor | C11: Mes | D11: 13 | E11: 2763 | F11: =+D11*E11+2 -> 35921
A12: 1.09 | B12: Practicante | C12: Mes | D12: 13 | E12: 1600 | F12: =+D12*E12 -> 20800
A13: 2 | B13: Gastos operativos | F13: =SUM(F15:F27) -> 322644
B14: Casma
A15: 2.01 | B15: Movilización y Desmovilización | C15: Glb
A16: 2.02 | B16: Viáticos y alojamiento de personal | C16: Unidad | F16: =+GETPIVOTDATA("(S/.) CT",'resumen x item'!$A$3,"CÓDIGO",2.02,"DETALLE","Viáticos y alojamiento de personal") -> 90650
A17: 2.03 | B17: Alquiler de oficina (todo costo) | C17: Mes | F17: =+GETPIVOTDATA("(S/.) CT",'resumen x item'!$A$3,"CÓDIGO",2.03,"DETALLE","Alquiler de oficina (todo costo)") -> 54229
A18: 2.04 | B18: Movilidad, combustible, repuestos, no incluye chofer (personal será chofer) | C18: Mes | F18: =+GETPIVOTDATA("(S/.) CT",'resumen x item'!$A$3,"CÓDIGO",2.04,"DETALLE","Movilidad, combustible, repuestos, no incluye chofer (personal será chofer)") -> 110500
A19: 2.05 | B19: Gastos reuniones y talleres | C19: Unidad
A20: 2.06 | B20: Insumos varios, impresiones, informes | C20: Unidad | F20: =+GETPIVOTDATA("(S/.) CT",'resumen x item'!$A$3,"CÓDIGO",2.06,"DETALLE","Insumos varios, impresiones, informes") -> 26380
A21: 2.07 | B21: Gastos implementación medidas anti Covid | C21: Unidad | F21: =+GETPIVOTDATA("(S/.) CT",'resumen x item'!$A$3,"CÓDIGO",2.07,"DETALLE","Gastos implementación medidas anti Covid") -> 8885
A22: 2.08 | B22: Equipos de cómputo | C22: Unidad | F22: =+GETPIVOTDATA("(S/.) CT",'resumen x item'!$A$3,"CÓDIGO",2.08,"DETALLE","Equipos de cómputo") -> 19000
A23: 2.09 | B23: Proyector multimedia | C23: Unidad | F23: =+GETPIVOTDATA("(S/.) CT",'resumen x item'!$A$3,"CÓDIGO",2.09,"DETALLE","Proyector multimedia") -> 6000
A24: 2.1 | B24: Parlante | C24: Unidad | F24: =+GETPIVOTDATA("(S/.) CT",'resumen x item'!$A$3,"CÓDIGO",2.1,"DETALLE","Parlante") -> 1000
A25: 2.11 | B25: Micrófono | C25: Unidad | F25: =+GETPIVOTDATA("(S/.) CT",'resumen x item'!$A$3,"CÓDIGO",2.11,"DETALLE","Micrófono") -> 300
A26: 2.12 | B26: Ecran | C26: Unidad | F26: =+GETPIVOTDATA("(S/.) CT",'resumen x item'!$A$3,"CÓDIGO",2.12,"DETALLE","Ecran") -> 500
A27: 2.25 | B27: Seguros SCTR | C27: Glb | F27: 5200
B31: Costo directo | D31: =+F2+F13 -> 1101788
B32: GASTOS GENERALES SUBCONTRATISTA | D32: =+(GETPIVOTDATA("(S/.) CT",'resumen x item'!$A$3,"CÓDIGO",,"DETALLE",))+F13*0.12 -> 50480.28
B33: UTILIDADES SUBCONTRATISTA | C33: 0.2 | D33: =+C33*F2 -> 155828.8
B34: SUBTOTAL COSTOS | D34: =+D31+D32+D33 -> 1308097.1
B35: IGV | D35: =+D34*0.18 -> 235457.47
B36: PRESUPUESTO TOTAL DEL PROYECTO | D36: =+D34+D35 -> 1543554.6

Sheet txt
B1: Gastos Operativos | G1: 1 | H1: 2 | I1: 3 | J1: 4 | K1: 5 | L1: 6 | M1: 7 | N1: 8 | O1: 9 | P1: 10 | Q1: 11 | R1: 12
B2: Gastos Operativos | E2: Rate | F2: Unidad | G2: Costo | H2: Costo | I2: Costo | J2: Costo | K2: Costo | L2: Costo | M2: Costo | N2: Costo | O2: Costo | P2: Costo | Q2: Costo | R2: Costo | S2: Costo
C3: cuenta | E3: (S/.) | G3: (S/.) | H3: (S/.) | I3: (S/.) | J3: (S/.) | K3: (S/.) | L3: (S/.) | M3: (S/.) | N3: (S/.) | O3: (S/.) | P3: (S/.) | Q3: (S/.) | R3: (S/.) | S3: (S/.)
B4: Alquiler de Vehìculo | C4: 9135400 | D4: Alquiler de Vehìculo | E4: 220 | F4: por dìa | G4: 13200 | H4: 13200 | I4: 13200 | J4: 13200 | K4: 13200 | L4: 11000 | M4: 6600 | N4: 6600 | O4: 6600 | P4: 6600 | Q4: 6600 | R4: 8800 | S4: 118800
B5: Pasaje Aereo | C5: 9131120 | D5: Pasaje Aereo | E5: 760 | F5: por persona | G5: 760 | H5: 760 | I5: 1520 | J5: 1520 | K5: 1520 | L5: 1520 | M5: 1520 | N5: 1520 | O5: 1520 | P5: 1520 | Q5: 1520 | R5: 1520 | S5: 16720
B6: Conductor | C6: 9139316 | D6: Conductor | E6: 3000 | F6: por mes por 02 personas | G6: 6000 | H6: 9000 | I6: 6000 | J6: 6000 | K6: 6000 | L6: 6000 | M6: 3000 | N6: 3000 | O6: 3000 | P6: 3000 | Q6: 3000 | R6: 3000 | S6: 57000
B7: Combustible | C7: 9131132 | D7: Combustible | E7: 75 | F7: por dìa | G7: 4500 | H7: 4500 | I7: 4500 | J7: 4500 | K7: 4500 | L7: 3750 | M7: 2250 | N7: 2250 | O7: 2250 | P7: 2250 | Q7: 2250 | R7: 3000 | S7: 40500
B8: Alimentacion | C8: 9131400 | D8: Alimentacion | E8: 40 | F8: por persona dia | G8: 7200 | H8: 7200 | I8: 7200 | J8: 7200 | K8: 7200 | L8: 7200 | M8: 7200 | N8: 7200 | O8: 7200 | P8: 7200 | Q8: 7200 | R8: 7200 | S8: 86400
B9: Alojamiento | C9: 9131300 | D9: Alojamiento | E9: 990 | F9: por mes | G9: 990 | H9: 990 | I9: 990 | J9: 990 | K9: 990 | L9: 990 | M9: 990 | N9: 990 | O9: 990 | P9: 990 | Q9: 990 | R9: 990 | S9: 11880
B10: Comunicaciones | C10: 9136401 | D10: Comunicaciones | E10: 100 | F10: por persona | G10: 300 | H10: 300 | I10: 300 | J10: 300 | K10: 300 | L10: 300 | M10: 300 | N10: 300 | O10: 300 | P10: 300 | Q10: 300 | R10: 300 | S10: 3600
B11: EPPs - Indumentaria para campo con protección UV | C11: 9156002 | D11: EPP | E11: 300 | F11: por persona | G11: 1800 | H11: 0 | I11: 0 | J11: 0 | K11: 0 | L11: 0 | M11: 0 | N11: 0 | O11: 0 | P11: 0 | Q11: 0 | R11: 0 | S11: 1800
B12: Examenes Medicos - Pre ocupacional para equipo de planta | C12: 9139315 | D12: examenes medicos | E12: 250 | F12: por persona | G12: 1500 | H12: 0 | I12: 0 | J12: 0 | K12: 0 | L12: 0 | M12: 0 | N12: 0 | O12: 0 | P12: 0 | Q12: 0 | R12: 0 | S12: 1500
B13: * Alquiler de Oficinas | C13: 9135200 | D13: * Alquiler de Oficinas | E13: 1600 | F13: por mes | G13: 1600 | H13: 1600 | I13: 1600 | J13: 1600 | K13: 1600 | L13: 1600 | M13: 1600 | N13: 1600 | O13: 1600 | P13: 1600 | Q13: 1600 | R13: 1600 | S13: 19200
B14: * Servicios | C14: 9139314 | D14: servicio de limpieza | E14: 270 | F14: por mes | G14: 270 | H14: 270 | I14: 270 | J14: 270 | K14: 270 | L14: 270 | M14: 270 | N14: 270 | O14: 270 | P14: 270 | Q14: 270 | R14: 270 | S14: 3240
B15: * Implementacion de Oficina y Equipos | C15: 3351100 | D15: activos y compra de activos menores | E15: 21900 | F15: total | G15: 21900 | H15: 0 | I15: 0 | J15: 0 | K15: 0 | L15: 0 | M15: 0 | N15: 0 | O15: 0 | P15: 0 | Q15: 0 | R15: 0 | S15: 21900
... B18: * Materiales | C18: 9159400 | D18: copias | E18: 300 | F18: por taller | G18: 3500 | H18: 3600 | I18: 3600 | J18: 3600 | K18: 0 | L18: 0 | M18: 0 | N18: 0 | O18: 0 | P18: 0 | Q18: 0 | R18: 0 | S18: 42900
C19: 9139317 | D19: impresiones | G19: 3500 | H19: 3600 | I19: 3600 | J19: 3600
C20: 9156004 | D20: material de oficina | G20: 3500 | H20: 3600 | I20: 3600 | J20: 3600
B21: * Registro visual | C21: 9139323 | D21: otros servicios | E21: 300 | F21: por taller | G21: 10500 | H21: 10800 | I21: 10800 | J21: 10800 | K21: 1000 | L21: 1000 | M21: 1000 | N21: 1000 | O21: 1000 | P21: 1000 | Q21: 1000 | R21: 1000 | S21: 42900
B22: * Comunicados por radios (nivel provincial) | C22: 9136402 | D22: otras comunicaciones | E22: 1500 | F22: por mes | G22: 1500 | H22: 1500 | I22: 1500 | J22: 3000 | K22: 1500 | L22: 0 | M22: 0 | N22: 0 | O22: 0 | P22: 0 | Q22: 0 | R22: 0 | S22: 9000
B23: Asistente de campo | C23: 9139318 | D23: Asistente de campo | E23: 1200 | F23: por mes | G23: 12000 | H23: 12000 | I23: 12000 | J23: 12000 | K23: 0 | L23: 0 | M23: 0 | N23: 0 | O23: 0 | P23: 0 | Q23: 0 | R23: 0 | S23: 48000
B26: Gastos Operativos | I26: 42795 | J26: 42826 | K26: 42856 | L26: 42887 | M26: 42917 | N26: 42948 | O26: 42979 | P26: 43009 | Q26: 43040 | R26: 43070 | S26: 43101 | T26: 43132
B27: n | C27: nombre | D27: cuenta | I27: (S/.) | J27: (S/.) | K27: (S/.) | L27: (S/.) | M27: (S/.) | N27: (S/.) | O27: (S/.) | P27: (S/.) | Q27: (S/.) | R27: (S/.) | S27: (S/.) | T27: (S/.)
B28: * Implementacion de Oficina y Equipos | C28: activos y compra de activos menores | D28: 3351100 | E28: 0001 | F28: CME-0100 | G28: 0 | H28: 0 | I28: 21900 | J28: 0 | K28: 0 | L28: 0 | M28: 0 | N28: 0 | O28: 0 | P28: 0 | Q28: 0 | R28: 0 | S28: 0 | T28: 0
B29: Pasaje Aereo | C29: Pasaje Aereo | D29: 9131120 | E29: 0001 | F29: CME-0100 | G29: 0 | H29: 0 | I29: 760 | J29: 760 | K29: 1520 | L29: 1520 | M29: 1520 | N29: 1520 | O29: 1520 | P29: 1520 | Q29: 1520 | R29: 1520 | S29: 1520 | T29: 1520
B30: Combustible | C30: Combustible | D30: 9131132 | E30: 0001 | F30: CME-0100 | G30: 0 | H30: 0 | I30: 4500 | J30: 4500 | K30: 4500 | L30: 4500 | M30: 4500 | N30: 3750 | O30: 2250 | P30: 2250 | Q30: 2250 | R30: 2250 | S30: 2250 | T30: 3000
B31: Alojamiento | C31: Alojamiento | D31: 9131300 | E31: 0001 | F31: CME-0100 | G31: 0 | H31: 0 | I31: 990 | J31: 990 | K31: 990 | L31: 990 | M31: 990 | N31: 990 | O31: 990 | P31: 990 | Q31: 990 | R31: 990 | S31: 990 | T31: 990
B32: Alimentacion | C32: Alimentacion | D32: 9131400 | E32: 0001 | F32: CME-0100 | G32: 0 | H32: 0 | I32: =7200+7952 -> 15152 | J32: =7200+7952 -> 15152 | K32: =7200+7952 -> 15152 | L32: =7200+7952 -> 15152 | M32: 7200 | N32: 7200 | O32: 7200 | P32: 7200 | Q32: 7200 | R32: 7200 | S32: 7200 | T32: 7200
B33: * Mantenimiento | C33: servicio de mantenimiento | D33: 9134304 | E33: 0001 | F33: CME-0100 | G33: 0 | H33: 0 | I33: 250 | J33: 250 | K33: 250 | L33: 250 | M33: 250 | N33: 250 | O33: 250 | P33: 250 | Q33: 250 | R33: 250 | S33: 250 | T33: 250
B34: * Alquiler de Oficinas | C34: * Alquiler de Oficinas | D34: 9135200 | E34: 0001 | F34: CME-0100 | G34: 0 | H34: 0 | I34: 1600 | J34: 1600 | K34: 1600 | L34: 1600 | M34: 1600 | N34: 1600 | O34: 1600 | P34: 1600 | Q34: 1600 | R34: 1600 | S34: 1600 | T34: 1600
B35: Alquiler de Vehìculo | C35: Alquiler de Vehìculo | D35: 9135400 | E35: 0001 | F35: CME-0100 | G35: 0 | H35: 0 | I35: 13200 | J35: 13200 | K35: 13200 | L35: 13200 | M35: 13200 | N35: 11000 | O35: 6600 | P35: 6600 | Q35: 6600 | R35: 6600 | S35: 6600 | T35: 8800
B36: Comunicaciones | C36: Comunicaciones | D36: 9136401 | E36: 0001 | F36: CME-0100 | G36: 0 | H36: 0 | I36: 300 | J36: 300 | K36: 300 | L36: 300 | M36: 300 | N36: 300 | O36: 300 | P36: 300 | Q36: 300 | R36: 300 | S36: 300 | T36: 300
B37: * Comunicados por radios (nivel provincial) | C37: otras comunicaciones | D37: 9136402 | E37: 0001 | F37: CME-0100 | G37: 0 | H37: 0 | I37: 1500 | J37: 1500 | K37: 1500 | L37: 3000 | M37: 1500 | N37: 0 | O37: 0 | P37: 0 | Q37: 0 | R37: 0 | S37: 0 | T37: 0
B38: * Servicios | C38: servicio de limpieza | D38: 9139314 | E38: 0001 | F38: CME-0100 | G38: 0 | H38: 0 | I38: 270 | J38: 270 | K38: 270 | L38: 270 | M38: 270 | N38: 270 | O38: 270 | P38: 270 | Q38: 270 | R38: 270 | S38: 270 | T38: 270
B39: Examenes Medicos - Pre ocupacional para equipo de planta | C39: examenes medicos | D39: 9139315 | E39: 0001 | F39: CME-0100 | G39: 0 | H39: 0 | I39: 1500 | J39: 0 | K39: 0 | L39: 0 | M39: 0 | N39: 0 | O39: 0 | P39: 0 | Q39: 0 | R39: 0 | S39: 0 | T39: 0
B40: Conductor | C40: Conductor | D40: 9139316 | E40: 0001 | F40: CME-0100 | G40: 0 | H40: 0 | I40: 6000 | J40: 9000 | K40: 6000 | L40: 6000 | M40: 6000 | N40: 6000 | O40: 3000 | P40: 3000 | Q40: 3000 | R40: 3000 | S40: 3000 | T40: 3000
C41: impresiones | D41: 9139317 | E41: 0001 | F41: CME-0100 | G41: 0 | H41: 0 | I41: 3500 | J41: 3600 | K41: 3600 | L41: 3600
B42: Asistente de campo | C42: Asistente de campo | D42: 9139318 | E42: 0001 | F42: CME-0100 | G42: 0 | H42: 0 | I42: 12000 | J42: 12000 | K42: 12000 | L42: 12000 | M42: 0 | N42: 0 | O42: 0 | P42: 0 | Q42: 0 | R42: 0 | S42: 0 | T42: 0
B43: * Registro visual | C43: otros servicios | D43: 9139323 | E43: 0001 | F43: CME-0100 | G43: 0 | H43: 0 | I43: 10500 | J43: 10800 | K43: 10800 | L43: 10800 | M43: 1000 | N43: 1000 | O43: 1000 | P43: 1000 | Q43: 1000 | R43: 1000 | S43: 1000 | T43: 1000
B44: EPPs - Indumentaria para campo con protección UV | C44: EPP | D44: 9156002 | E44: 0001 | F44: CME-0100 | G44: 0 | H44: 0 | I44: 1800 | J44: 0 | K44: 0 | L44: 0 | M44: 0 | N44: 0 | O44: 0 | P44: 0 | Q44: 0 | R44: 0 | S44: 0 | T44: 0
...
