Workbook

Sheet resumen
B2: DEFENSA RIBEREÑA : CUENCA CASMA - HUARMEY
B4: RESUMEN DE PRESUPUESTO
B6: PROYECTO | C6: Entrega de las defensas ribereñas de los Ríos Casma y Huarmey – Paquete 4”
B7: UBICACIÓN : | C7: ANCASH
B8: Lugar | C8: ANCASH
B10: Item | C10: Descripción | D10: Und. | E10: CANT. | F10: Meses | G10: Precio S/. | H10: Parcial S/.
C11: CUENCA HUARMEY | H11: =+SUM(H13:H16) -> 1003375.1
B12: 1 | C12: PERSONAL | H12: =SUM(H13:H16) -> 1003375.1
B13: 1.03 | C13: AGENTE SIN ARMA OFICINA OHLA (TURNO DÍA 6:00 - 18:00) | D13: mes | E13: 1 | F13: 11 | G13: =+'A1'!C37 -> 22364.148 | H13: =F13*G13 -> 246005.62
B14: 1.02 | C14: AGENTE CON ARMA OFICINA OHLA (TURNO NOCHE 18:00 - 6:00) | D14: mes | E14: 1 | F14: 11 | G14: =+'A1'!D37 -> 22950.589 | H14: =F14*G14 -> 252456.48
B15: 1.03 | C15: AGENTE CON ARMA HOTEL ASHLEY (TURNO NOCHE 18:00 - 6:00)) | D15: mes | E15: 1 | F15: 11 | G15: =+'A1'!D37 -> 22950.589 | H15: =F15*G15 -> 252456.48
B16: 1.04 | C16: AGENTE CON ARMA HOTEL 2 (TURNO NOCHE 18:00 - 6:00) | D16: mes | E16: 1 | F16: 11 | G16: =+'A1'!D37 -> 22950.589 | H16: =F16*G16 -> 252456.48
C18: CUENCA CASMA | H18: =+SUM(H20:H23) -> 1003375.1
B19: 1 | C19: PERSONAL | H19: =SUM(H20:H23) -> 1003375.1
B20: 1.03 | C20: AGENTE SIN ARMA OFICINA OHLA (TURNO DÍA 6:00 - 18:00) | D20: mes | E20: 1 | F20: 11 | G20: =+'A1'!C37 -> 22364.148 | H20: =F20*G20 -> 246005.62
B21: 1.02 | C21: AGENTE CON ARMA OFICINA OHLA (TURNO NOCHE 18:00 - 6:00) | D21: mes | E21: 1 | F21: 11 | G21: =+'A1'!D37 -> 22950.589 | H21: =F21*G21 -> 252456.48
B22: 1.03 | C22: AGENTE CON ARMA HOTEL ASHLEY (TURNO NOCHE 18:00 - 6:00)) | D22: mes | E22: 1 | F22: 11 | G22: =+'A1'!D37 -> 22950.589 | H22: =F22*G22 -> 252456.48
B23: 1.04 | C23: AGENTE CON ARMA HOTEL 2 (TURNO NOCHE 18:00 - 6:00) | D23: mes | E23: 1 | F23: 11 | G23: =+'A1'!D37 -> 22950.589 | H23: =F23*G23 -> 252456.48
C25: SUB TOTAL | H25: =+H18+H11 -> 2006750.1
C26: IGV | G26: 0.18 | H26: =+H25*0.18 -> 361215.02
C27: TOTAL | H27: =+H26+H25 -> 2367965.1
C30: Para el presente proceso de licitación "Subcontratación de seguridad y Vigilancia privada en las Instalaciones del Proyecto - Defensa Ribereña de los Ríos Casma y Huarmey", no se está considerando supervisor de seguridad ni camioneta, sin embargo se requiere que la propuesta contemple supervisión en línea a los agentes de seguridad y reporte al coordinador de seguridad patrimonial de OHLA. Asimismo, deberán adjuntar plan de contigencia del servicio propuesto.

Sheet A1
A1: ANEXO A1
A2: ESTRUCTURA DE COSTOS MENSUAL DE LUNES A DOMINGO y FERIADOS
A3: SERVICIO DE SEGURIDAD Y VIGILANCIA PRIVADO EN LAS INSTALACIONES DEL PROYECTO - DEFENSA RIBEREÑA DE LOS RÍOS CASMA Y HUARMEY.R00
A4: (En Nuevos Soles)
B5: % | C5: AGENTE SIN ARMA | D5: AGENTE CON ARMA
C6: 6:00 - 18:00 HR | D6: 18:00 - 6:00 HR.
A7: COSTOS DIRECTOS
A8: 1.- Remuneraciones
A9: 1.1.Remuneración Mínima Mensual (RMM) | C9: 1025 | D9: 1025
A10: 1.2 Asignación Familiar (10% RMM) | B10: 10 | C10: =+C9*0.1 -> 102.5 | D10: =+D9*0.1 -> 102.5
A11: 1.3 Otras cargas laborales (Detallar todos los conceptos)
A12: * Bonificación Nocturna de Salario Básico | B12: 35 | D12: =+(D9+D10)*0.35 -> 394.625
A13: * Horas Extras dos primeras | B13: 25 | C13: =((C9+C10)/30/8)*2*26*1.25 -> 305.36458 | D13: =((D9+D10)/30/8)*2*26*1.25 -> 305.36458
A14: * Horas Extras dos siguientes horas | B14: 35 | C14: =((C9+C10)/30/8)*2*26*1.35 -> 329.79375 | D14: =((D9+D10)/30/8)*2*26*1.35 -> 329.79375
A15: 1.4 Feriados | C15: =+(C9+C10+C13+C14)/30 -> 58.755278 | D15: =+(D9+D10+D13+D14)/30 -> 58.755278
A16: 1.5 Descansero | C16: =+(C9+C10+C13+C14+C15)/6 -> 303.56894 | D16: =+(D9+D10+D13+D14+D15)/6 -> 303.56894
A17: 1.6 Otros
A18: COSTOS INDIRECTOS | C18: =SUM(C9:C16) -> 2124.9825 | D18: =SUM(D9:D16) -> 2519.6075
A19: 2.-Derecho Sociales.
A20: 2.1 Vacaciones | B20: 8.33 | C20: =(C18/12) -> 177.08188 | D20: =(D18/12) -> 209.9673
A21: 2.2 Gratificaciones | B21: 16.67 | C21: =((C18/6)+(C18/6)*0.09) -> 386.0385 | D21: =((D18/6)+(D18/6)*0.09) -> 457.7287
A22: 2.2.1 Bonificación Extraordinaria | B22: 9 | C22: =+C21*0.09 -> 34.743465 | D22: =+D21*0.09 -> 41.195583
A23: 2.3 CTS | B23: 9.72 | C23: =((C18+C18/6+C18/6*0.09)/12) -> 209.25175 | D23: =((D18+D18/6+D18/6*0.09)/12) -> 248.11135
A24: 2.4 Escolaridad
A25: 3.- Leyes Sociales
A26: 3.1 Aportes ESSALUD | B26: 9 | C26: =+(C18)*0.09 -> 191.24843 | D26: =+(D18)*0.09 -> 226.76468
A27: 3.2 Movilidad | C27: 100 | D27: 100
A28: 3.3 S.C.T.R. de (A+B+C) | B28: 1.5 | C28: =+(C18+C20)*1.5% -> 34.530966 | D28: =+(D18+D20)*1.5% -> 40.943623
A29: 3.4 Exámenes Preocupacionales | C29: 170 | D29: 170
A30: 4.- Uniformes y otros.
A31: 4.1 Uniformes, equipos y suministros relacionados | C31: 306.27 | D31: =+C31 -> 306.27
A32: 4.2 Examenes Covid-19 (mascarillas y pruebas serelógicas) ** | C32: 130 | D32: 130
A33: COSTOS INDIRECTOS | C33: =SUM(C19:C32) -> 1739.165 | D33: =SUM(D19:D32) -> 1930.9812
A34: TOTAL: COSTOS DIRECTOS E INDIRECTOS | C34: =+C18+C33 -> 3864.1475 | D34: =+D18+D33 -> 4450.5888
A35: Gastos Administrativos (póliza de seguros, y entre otros.) | C35: 18000 | D35: 18000
A36: Utilidad | C36: 500 | D36: 500
A37: VALOR DE VENTA DEL SERVICIO | C37: =SUM(C34:C36) -> 22364.148 | D37: =SUM(D34:D36) -> 22950.589
A38: Imuespto General a la Venta (IGV-18%) | C38: =+C37*0.18 -> 4025.5466 | D38: =+D37*0.18 -> 4131.106
A39: COSTO TOTAL POR PUESTO 12 H. INC. I.G.V. S/. | C39: =+C37+C38 -> 26389.694 | D39: =+D37+D38 -> 27081.695
A40: COSTO TOTAL POR PUESTO 24 H. INC. I.G.V. S/.
...
