Workbook
Name Bids: [1]Sheet3!$G$1:$G$2
Name Chuspiri: [1]Sheet3!#REF!
Name Forms: #REF!
Name Formulario: [1]Sheet3!$A$1:$A$44
Name proyectos: [1]Sheet3!$F$1:$F$3
Name Refs: [2]Sheet2!$A$1:$A$6
Name Relaves: [1]Sheet3!#REF!
Name TipoPgta: [1]Sheet3!$B$1:$B$3
Name ValidRefs: #REF!
Name ValidRefs.: 'Q&A'!#REF!

Sheet Q&A
B4: PAQUETE : | C4: 5 - Contratación del Servicio de Habilitación de Accesos, Plataformas y Movimiento de Tierras III Parte - Cuenca Huaura
B6: POSTOR : | C6: OBRASCÓN HUARTE LAIN S.A. SUCURSAL DEL PERÚ (OHLA)
A9: PLIEGO DE FORMULACION Y ABSOLUCION DE CONSULTAS
A12: Nro. | B12: Área | C12: Documento de Referencia | D12: Numeral y Literal | E12: Pág. | F12: Consultas y Observaciones | G12: Respuesta de OHLA
A13: 1 | B13: PROCURA | C13: TDR | D13: 21.1.2 B2 Organigrama y Personal clave | E13: 345 | F13: En referencia al numeral 21.1.2 B2 Organigrama y Personal clave / RESIDENTE DE OBRA "La experiencia requerida a ser acreditada debe ser la obtenida desde la colegiatura"; solicitamos que esta solicitud sea dejada sin efecto puesto que restringe la participación de los postores al no contar con los candidatos para asumir el cargo de Residente de Obra, se debe tener en cuenta que los profesionales pueden contar con experiencia relevante antes de haber obtenido la colegiatura. | G13: La experiencia del RESIDENTE DE OBRA será contabilizada desde su titulación.
A14: 2 | B14: PROCURA | C14: TDR | D14: 21.1.2 B2 Organigrama y Personal clave | E14: 346 | F14: En referencia al numeral 21.1.2 B2 Organigrama y Personal clave / RESPONSABLE SSOMA Se solicita que la experiencia especifica en cargos similares y obras similares sea mayor a 5 años; en tal sentido solicitamos que el Responsable de SSOMA no requiera experiencia especifica en la especialidad objeto de la convocatoria, bastando que tengan experiencia en general, puesto que el tratamiento que recibe este tipo de obra es la misma para todas las obras en general, de modo que solicitar experiencia en obras similares solo restringe la participación de los postores y no aporta experiencia adicional a la obra. Por lo que, solicitamos que se amplié y se considere la experiencia de 03 años obtenida en la ejecución de obras en específico. | G14: Según la información compartida a través de Tenderbill el 17/08 se remitió los términos de referencia actualizados donde se actualiza la definición de “obras similares”: Ejecución de obras hidráulicas u obras lineales sin considerar obras de mantenimiento que incluyan uno de los siguientes trabajos: • Movimiento de tierras • Excavaciones masivas • Rellenos masivos • Enrocados de protección • Obras Hidráulicas • Construcción de presas • Construcción de diques • Construcción ataguías • Protección de estructuras hidráulicas con concreto o con enrocado • Construcción de canales • Construcción de vertederos • Selección y/o acopio de roca • Carguío y/o transporte de roca • Conformación de Defensa Ribereña (enrocado) • Conformación de terraplenes • Refuerzo de taludes * No se considerará obras de mantenimiento de carreteras y asfaltado.
A15: 3 | B15: PROCURA | C15: TDR | D15: 21.1.2 B2 Organigrama y Personal clave | E15: 347 | F15: En referencia al numeral 21.1.2 B2 Organigrama y Personal clave / RELACIONISTA COMUNITARIO Se solicita que la experiencia general sea mayor a 7 años y la experiencia especifica en cargos similares y obras similares sea mayor a 5 años. En tal sentido, solicitamos que la experiencia requerida a ser acreditada debe ser la obtenida en la ejecución de obras similares; solicitamos que el Relacionista Comunitario no requiera experiencia general en la especialidad objeto de la convocatoria, bastando que tengan experiencia específica, puesto que el tratamiento que recibe este tipo de obra es la misma para todas las obras en general, de modo que solicitar lo expresado solo restringe la participación de los postores y no aporta experiencia adicional a la obra. Por lo que, solicitamos que se amplié y se considere la experiencia de 05 años obtenida en la ejecución de obras en general y solicitamos que se amplié y se considere la experiencia de 03 años obtenida en la ejecución de obras en específico. | G15: Se acepta lo solicitado por el postor sobre la experiencia general 05 años y experiencia específica 03 años.
A16: 4 | B16: PROCURA | C16: TDR | D16: 21.1.2 B2 Organigrama y Personal clave | E16: 348 | F16: En referencia al numeral 21.1.2 B2 Organigrama y Personal en la tabla 54 Criterios de evaluación del personal Clave se indica "La experiencia se contabilizará, de ser el caso, a partir de la titulación." se solicita que esto sea dejado sin efecto debido a que la experiencia de los profesionales debe ser contabilizada desde el egreso de la universidad con la finalidad de contar con un mayor número de postulantes y no restringir la participación de los postores. | G16: Se contabilizará la experiencia desde la titulación para el cargo de RESIDENTE DE OBRA y RESPONSABLE SSOMA, para el resto del personal clave se contabilizará desde el bachillerato. En caso el personal propuesto haya laborado para el estado, deberán presentar conformidad de servicios emitida por la entidad estatal.
A17: 5 | B17: PROCURA | C17: TDR | D17: 21.1.2 B2 Organigrama y Personal clave | E17: 348 | F17: Solicitamos confirmar que la experiencia para todos los profesionales regirá desde la titulación, con excepción del personal técnico. En caso de no ser acogida la consulta 4. | G17: Revisar consulta 1 y 4.
A18: 6 | B18: PROCURA | C18: TDR | D18: 21.1.2 B2 Organigrama y Personal clave | E18: 345 | F18: En referencia al numeral 21.1.2 B2 Organigrama y Personal clave en el párrafo 2 en donde indica: "El personal profesional clave, según la Tabla 54, no deberá variar en más del 30% cuando sea adjudicado como Subcontratista" se solicita que esto sea dejado sin efecto debido a que el periodo de adjudicación por lo general no es menor a 3 meses y los profesionales claves propuestos ya no estarán disponibles en el momento de la adjudicación. | G18: En la página 345 se indica que "Si el profesional clave no se encuentra disponible, podrá presentar otro CV, el cual debe cumplir con lo requerido en los documentos de la licitación." Los profesionales porpuestos en la declaración jurada A12 deberán estar disponible al menos 3 meses desde la invitación de licitación por Tenderbill.
A19: 7 | B19: PROCURA | C19: TDR | D19: 21.1.1 B.1 Experiencia similares internacionales y nacionales | E19: 344 | F19: Con relación a la acreditación de contratos, solicitamos incluir cualquier otro documento certificado, acta, constancia donde se conste la culminación de la obra, independientemente de su denominación. Ello debido a que las empresas privadas o entidades emiten certificados de acuerdo a sus políticas internas, en formatos libres. | G19: Se acepta la solicitud. Sin embargo, las actas, certificados o documentos sustentatorios que acrediten la culminación de obra deberán acreditar todas las labores que se indican en el contrato y adendas. En caso estos documentos no indiquen la frase "sin incurrir en penalidades" o similar, se deberá adjuntar el finiquito de obra.
A20: 8 | B20: PROCURA | C20: TDR | D20: 21.1.1 B1. Experiencias similares internacionales y nacionales | E20: 344 | F20: Se señala que la acreditación de los contratos será con copia de contratos u órdenes de servicio o de compra suscritas por el Cliente, en las que se especifique el objeto del contrato, la fecha de culminación y el monto ejecutado. Por ello, solicitamos aceptar documentos adicionales con cualquier otra denominación donde constante el monto ejecutado, teniendo en cuenta que las empresas privadas u entidades emiten certificados de acuerdo a sus políticas internas, en formatos libres. | G20: Revisar consulta 7
A21: 9 | B21: PROCURA | C21: TDR | D21: 21.1.1 B1. Experiencias similares internacionales y nacionales | E21: 344 | F21: Solicitamos confirmar que en la declaración jurada del Anexo 11 -de formato libre- relacionada a la experiencia similar, bastará con señalar que la empresa pertenece al mismo grupo empresarial (matriz, filial o sucursal) para acreditar la experiencia. | G21: Efectivamente se podra acreditar como experciencias similares las obras o los servicios de las empresas del grupo o de la matriz siempre en cuando presente las declaraciones juaradas indicadas en el anexo 11, asi mismo debera presentar la resolucion o constancia de culminacion de dicha obra, sin incurrir en penalidades.
A22: 10 | B22: PROCURA | C22: TDR | D22: 21.1.2 B2. Organigrama y Personal Clave | E22: 345 | F22: Se señala colocar un detalle de los CVs del personal clave que debe incluir "presupuesto", tiempo en meses, entre otros. Sin embargo, no todos los CVs de los profesionales cuentan con el dato del presupuesto de la obra ni las constancias que emiten las empresas, debido a que por política interna de éstas no colocan ese dato. Por ello solicitamos el dato de presupuesto sea opcional y no sea materia de descalificación. | G22: En caso no se indique el presupuesto de la obra en los certificados de trabajo, se debrá indicar en el CV del profesional o en el resumen de obras del profesional el presupuesto aproximado de la obra como dato adicional.
A23: =+A22+1 -> 11 | B23: PLANEAMIENTO | C23: TDR | D23: Item 17 Cronograma | F23: En la página 335 del TDR, Tabla 52. Hitos clave se indica como plazo referencial 456 dias (15 meses aproximadamente), sin embargo en la planilla del Formato C1 se indica que la duración de los trabajos de mantenimiento de accesos y Trazo y replanteo de obra es de 12 meses. Se solicita confirmar el plazo referencial de la obra | G23: El Plazo referencial de la obra es de 517 días (desde 01/03/2024 al 31/07/2025). El postor tiene la potestad de indicar mejoras del proceso o mejoras de tiempo al indicado en el plazo referencial.
A24: =+A23+1 -> 12 | B24: PROCURA | F24: Se solicita confirmar que ya no se deberá incluir el formato C3 Plazo de Pago | G24: Se confirma
A25: =+A24+1 -> 13 | B25: CONSTRUCCIÓN/INGENIERÍA | F25: En la información recibida con fecha 27.06.23 del Expediente Técnico en lo que corresponde a cuenca Alta, se indica que dichos documentos están en proceso de revisión. Se solicita confirmar que esta documentación es la versión con la que se debe elaborar la oferta. | G25: Se adjunta expediente técnico actualizado (Rev01) con el cual se deberá elaborar la oferta, de tener una actualización se informará oportunamente.
A26: =+A25+1 -> 14 | B26: CONSTRUCCIÓN/INGENIERÍA | F26: En la información recibida con fecha 27.06.23 del Expediente Técnico en lo que corresponde al MT3, se indica que dichos documentos están una parte aceptados por la ARCC y otras en revisión. Se solicita confirmar si con esta documentación se debe elaborar la oferta | G26: Se adjunta expediente técnico actualizado (Rev03) y documentos finales aceptados por ARCC con los cuales se deberá elaborar la oferta, de tener una actualizacion se informará oportunamente.
A27: =+A26+1 -> 15 | B27: CONSTRUCCIÓN | C27: Formato C1 TDR ANEXO 13 | D27: Partida 7.01 | F27: En el último formato C1 facilitado, en la planilla de Costo Directo, se encuentra la partida 7.01 Suministro de roca 622,013 ton. Se solicita aclaren si estará dentro del alcance de este paquete la producción de roca para uña y talud. | G27: La producción de roca no forma parte del alcance de la presente licitación.
A28: =+A27+1 -> 16 | B28: CONSTRUCCIÓN | F28: De la consulta anterior, en caso de confirmarse la necesidad de Producción de roca en este paquete, se solicita que aclaren el porcentaje de aprovechamiento de roca a considerar para cada una de las canteras de roca seleccionadas. | G28: La producción de roca no forma parte del alcance de la presente licitación.
A29: =+A28+1 -> 17 | B29: CONSTRUCCIÓN | C29: TDR | D29: Página 100 de 369 | F29: Se solicita confirmar que para las partidas 7.02 Colocación de roca en uña y 7.03 Colocación de roca en Talud, el diametro nominal de la roca es del Tipo II, donde se indica que para la uña el diametro oscial entre 1 a 2.50m y que además se debe tener en cuenta lo siguiente: - Talud: 20% tamaño nominal de 1.00 a 1.50m, 50% Tamaño nominal de 1.00m a 2.00m y - Uña el tamaño nominal es e 30% mayor a 2.00m | G29: Es conforme el tamaño nominal de roca para talud (de acuerdo a las EETT).
A30: =+A29+1 -> 18 | B30: CONSTRUCCIÓN | F30: Se solicita confirmar que se cuenta el Botadero cuenta con la capacidad para acopiar el material excedente | G30: Se confirma. Los botaderos se encuentran descritos en el item 5.3.3. Distancia Media a DME. (Pag. 48 del TDR), los cuales están en proceso de liberación. El postor podrá proponer alternativas de áreas de botaderos. En este caso, el SUBCONTRATISTA deberá proporcionar la información necesaria para que OHLA Gestor realice los análisis y trámites correspondientes.
A31: =+A30+1 -> 19 | B31: CONSTRUCCIÓN | F31: Confirmar si hay algún pago de derecho por transitar dentro del área de influencia. Y en caso lo hubiera, se solicita proporcionar el costo a fin de homologar la oferta entre todos los postores | G31: No se ha identificado ningún pago por tránsito para el área de influencia.
A32: =+A31+1 -> 20 | B32: COSTOS | F32: Se solicita confirmar si se contempla el reajuste de precios para la mano de obra bajo el regimen de construcción civil ya quede acuerdo a ley, aplicará un incremento de salario. | G32: no se considerá ningún tipo de reajuste, mano de obra, insumos, equipos, etc. No habrá fórmula polinómica.
A33: =+A32+1 -> 21 | B33: COSTOS | F33: Se solicita confirmar si se contempla el reajuste de precios para el combustible, pues en el ultimo año este precio ha sido fluctuante. | G33: ver respuesta consulta 20
A34: =+A33+1 -> 22 | B34: CONSTRUCCIÓN | C34: General | F34: Se solicita confirmar que la jornada de trabajo podrá ser definida por el Subcontratista. | G34: Se confirma. Es de acuerdo al regimen de construccion civil.
A35: =+A34+1 -> 23 | B35: CONSTRUCCIÓN | C35: General | F35: Dado a la dimension de la obra se prevee que se requerira realizar trabajos nocturnos. Se solicita confirmar que se podrá realizar trabajos nocturnos previa coordinación y las liberaciones de los trabajos se realicen en el turno diurno. | G35: Si se podrá realizar labores de turno noche previa coordinacion con OHLA. Se podrán realizar las liberaciones de turno diurno y nocturno, según las condiciones climáticas previa coordinación y autorización con OHLA Gestor.
A36: =+A35+1 -> 24 | B36: CONSTRUCCIÓN | C36: Formato C1 | D36: 11.08 | F36: Se solicita proporcionar el tamaño de la roca de la partida 11.08 Suministro de roca (Alcantarillas) | G36: El suministro de roca (alcantarillas) no forma parte de los alcances de la presente licitacion.
A37: =+A36+1 -> 25 | B37: CONSTRUCCIÓN | C37: Formato C1 | D37: 1.03 | F37: Se solicita confirmar que la partida 1.03. Mejoramiento y habilitación de camino de acceso debe incluir el costo del material de lastre incluyendo su transporte a obra. | G37: De acuerdo las EETT para esta partida describe que el precio unitario deberá incluir todos los costos y acciones necesarias para la habilitacion de los caminos.
A38: =+A37+1 -> 26 | B38: INGENIERIA | C38: Formato C1 | D38: 06.02.08.03 | F38: Enviar detalle de Cerco Perimetral De Alambre H=2.00 M Para Zona De Huerto | G38: Se remite expediente actualizado. Revisar archivos en nativo de la carpeta 5. ENVIO R03 PAQ 4_HUAURA_en Revisión por ARCC/6-NATIVOS y 7. EXP FAST TRACK C.A HUAURA R01_ENVÍO DE LEV OBS/6-NATIVOS
A39: =+A38+1 -> 27 | B39: INGENIERIA | C39: Formato C1 | D39: 06.02.08.04 | F39: Enviar detalle de Puerta De Dos Hojas Con Estructura De Madera De Dimensiones Totales 2.00x1.95 M En Cerco | G39: Se remite expediente actualizado. Revisar archivos en nativo de la carpeta 5. ENVIO R03 PAQ 4_HUAURA_en Revisión por ARCC/6-NATIVOS y 7. EXP FAST TRACK C.A HUAURA R01_ENVÍO DE LEV OBS/6-NATIVOS
A40: =+A39+1 -> 28 | B40: INGENIERIA | C40: Formato C1 | D40: 06.02.09.02 | F40: Enviar detalle de Juego Infantil Sube Y Baja Triple De Estructura De Tubos De Acero Pintados (Incluye Cimentación) | G40: Se remite expediente actualizado. Revisar archivos en nativo de la carpeta 5. ENVIO R03 PAQ 4_HUAURA_en Revisión por ARCC/6-NATIVOS y 7. EXP FAST TRACK C.A HUAURA R01_ENVÍO DE LEV OBS/6-NATIVOS
A41: =+A40+1 -> 29 | B41: INGENIERIA | C41: Formato C1 | D41: 06.02.09.03 | F41: Enviar detalle de Columpio Triple De Estructura Con Tubos De Acero Pintados (Incluye Cimentación) | G41: Se remite expediente actualizado. Revisar archivos en nativo de la carpeta 5. ENVIO R03 PAQ 4_HUAURA_en Revisión por ARCC/6-NATIVOS y 7. EXP FAST TRACK C.A HUAURA R01_ENVÍO DE LEV OBS/6-NATIVOS
A42: =+A41+1 -> 30 | B42: INGENIERIA | C42: Formato C1 | D42: 06.02.09.04 | F42: Enviar detalle de Juego Infantil Rueda Giratoria Con Barandales De Dimensiones Ø1.85x1.00 M | G42: Se remite expediente actualizado. Revisar archivos en nativo de la carpeta 5. ENVIO R03 PAQ 4_HUAURA_en Revisión por ARCC/6-NATIVOS y 7. EXP FAST TRACK C.A HUAURA R01_ENVÍO DE LEV OBS/6-NATIVOS
A43: =+A42+1 -> 31 | B43: INGENIERIA | C43: Formato C1 | D43: 06.02.09.05 | F43: Enviar detalle de Juego Infantil De Pasamanos Recto Con Acero Pintado. Dimensiones 2.05x0.55x2.03 M | G43: Se remite expediente actualizado. Revisar archivos en nativo de la carpeta 5. ENVIO R03 PAQ 4_HUAURA_en Revisión por ARCC/6-NATIVOS y 7. EXP FAST TRACK C.A HUAURA R01_ENVÍO DE LEV OBS/6-NATIVOS
A44: =+A43+1 -> 32 | B44: INGENIERIA | C44: Formato C1 | D44: 06.02.09.06 | F44: Enviar detalle de Juego Infantil Para Trepar Domo De Madera. Dimensiones Ø3.20 M, H=1.50 M | G44: Se remite expediente actualizado. Revisar archivos en nativo de la carpeta 5. ENVIO R03 PAQ 4_HUAURA_en Revisión por ARCC/6-NATIVOS y 7. EXP FAST TRACK C.A HUAURA R01_ENVÍO DE LEV OBS/6-NATIVOS
A45: =+A44+1 -> 33 | B45: INGENIERIA | C45: Formato C1 | D45: 06.02.09.11 | F45: Enviar detalle de Resbaladera Metálica De Dimensiones 0.70x3.65 M, H=1.80 M | G45: Se remite expediente actualizado. Revisar archivos en nativo de la carpeta 5. ENVIO R03 PAQ 4_HUAURA_en Revisión por ARCC/6-NATIVOS y 7. EXP FAST TRACK C.A HUAURA R01_ENVÍO DE LEV OBS/6-NATIVOS
A46: =+A45+1 -> 34 | B46: INGENIERIA | C46: Formato C1 | D46: 06.02.07.10 | F46: Enviar detalle de Borde De Troncos De Madera A Nivel De Piso Altura Total 35 Cm Diámetro 4" | G46: Se remite expediente actualizado. Revisar archivos en nativo de la carpeta 5. ENVIO R03 PAQ 4_HUAURA_en Revisión por ARCC/6-NATIVOS y 7. EXP FAST TRACK C.A HUAURA R01_ENVÍO DE LEV OBS/6-NATIVOS
A47: =+A46+1 -> 35 | B47: INGENIERIA | C47: Formato C1 | D47: 06.02.07.11 | F47: Enviar detalle de Borde De Troncos De Madera De Altura 15 Cm Sobre El Nivel De Piso Y Altura Total 50 Cm Diámetro 4" | G47: Se remite expediente actualizado. Revisar archivos en nativo de la carpeta 5. ENVIO R03 PAQ 4_HUAURA_en Revisión por ARCC/6-NATIVOS y 7. EXP FAST TRACK C.A HUAURA R01_ENVÍO DE LEV OBS/6-NATIVOS
A48: =+A47+1 -> 36 | B48: INGENIERIA | C48: Formato C1 | D48: 06.02.08.01 | F48: Enviar detalle de Baranda Rústica De Madera De Huayruro De Altura H=1.00 M En Terreno Natural | G48: Se remite expediente actualizado. Revisar archivos en nativo de la carpeta 5. ENVIO R03 PAQ 4_HUAURA_en Revisión por ARCC/6-NATIVOS y 7. EXP FAST TRACK C.A HUAURA R01_ENVÍO DE LEV OBS/6-NATIVOS
...

Sheet Aclaraciones
A1: Ítem | B1: Aclaratorias
A2: 1 | B2: El SUBCONTRATISTA deberá tener un redndimiento como mínimo por encima del 80% de lo propuesto en la oferta técnica económica. Se recalca que el incumplimiento injustificado de fecha clave o fecha clave final tienen penalidad según tabla 53. Penalidades del TDR.
A3: 2 | B3: En referencia al periodo de lluvias, se entiende que las condiciones climáticas, especialmente en la temporada de lluvias, pueden ser impredecibles. Por tanto, el SUBCONTRATRISTA deberá contemplar que es posible que se produzcan paralizaciones algunas de las actividades del servicio a contratar y que el tiempo de estas paralizaciones estará sujeto a las condiciones específicas del sitio. Para esto, el SUBCONTRATISTA deberá considerar una doble movilización como una doble desmovilización en relación con el periodo de lluvias, adaptándose según las circunstancias lo demanden. Durante este periodo climático, es imprescindible que en el sitio de construcción se mantenga el equipo esencial como contingencia ante eventualidades. Las actividades que se proyecta que sí continuarán con normalidad en este periodo son: construcción de muros del Paquete 4, así como en los Diques de Cuenca Alta, las partidas de Reforestación y de paisajismo. (Esto según las condiciones de sitio) Por último, el SUBCONTRATISTA deberá presentar un plan de contingencia detallado para el periodo de lluvias. Este plan deberá abordar el personal mínimo necesario, los recursos y equipos que se mantendrán en sitio para garantizar la continuidad de las operaciones en la medida de lo posible.
A4: 3 | B4: El uso de los equipos es exclusivo para beneficio del proyecto. Los recursos proporcionados por el contratista deberán abocarse a los fines de los trabajos de diques, quebradas, u otros indicado en los alcances del servicio. No se realizará pagos a labores que no estén contempladas dentro del alcance de los términos de referencia. La realización de otras labores será a cuenta y riesgo del SUBCONTRATISTA.
A5: 4 | B5: OHLA GESTOR deja claro que no se reconocerán ampliaciones de plazo en situaciones de crecidas del caudal de río que sean de menor magnitud. Sin embargo, se considerarán ampliaciones de plazo en casos de eventos extraordinarios de índole climatológica. Dado que se presupone que el postor adjudicado posee especialización en este tipo de servicios, cualquier retraso atribuido a eventos climatológicos deberá ser debidamente justificado y sustentado.
A6: 5 | B6: El SUBCONRATISTA deberá cumplir con tener en sitio con la maquinaria necesaria según el proceso constructivo y cronograma propuesto. Esto para poder llegar a los plazos indicados en la oferta adjudicada. Se aplicará las penalidades correspondientes al inclumplimiento.
A7: 6 | B7: El postor deberá en su propuesta un plan tanto preventivo como correctivo para el mantenimiento de equipos. Este aspecto no sólo es crucial desde el punto de vista operativo, sino que también tiene relevancia ambiental. Por ende, el plan medioambiental propuesto por el postor debe integrar y reflejar las acciones relacionadas con el mantenimiento preventivo y correctivo de equipos. Adicionalmente, para asegurar que estas tareas se lleven a cabo con la máxima eficiencia y diligencia, es esencial que el SUBCONTRATISTA considere la inclusión de un personal mecánico especializado dentro de su organigrama. Esta posición estará enfocada específicamente en las labores de mantenimiento preventivo y correctivo, garantizando que los equipos estén siempre en condiciones óptimas y en armonía con los protocolos medioambientales establecidos.

Sheet Hoja1
B3: ÁREA | C3: CONSULTAS
B4: CONSTRUCCIÓN | C4: =+COUNTIF('Q&A'!$B$13:$B$95,"CONSTRUCCIÓN")+COUNTIF('Q&A'!$B$13:$B$95,"CONSTRUCCIÓN/INGENIERÍA") -> 29
B5: INGENIERIA | C5: =+COUNTIF('Q&A'!$B$13:$B$95,"INGENIERIA") -> 36
B6: COSTOS | C6: =+COUNTIF('Q&A'!$B$13:$B$95,"COSTOS") -> 2
B7: MEDIO AMBIENTE | C7: =+COUNTIF('Q&A'!$B$13:$B$95,"MEDIO AMBIENTE") -> 1
B8: SOCIAL | C8: =+COUNTIF('Q&A'!$B$13:$B$95,"SOCIAL") -> 1
B9: PLANEAMIENTO | C9: =+COUNTIF('Q&A'!$B$13:$B$95,"PLANEAMIENTO") -> 1
B10: PROCURA | C10: =+COUNTIF('Q&A'!$B$13:$B$95,"PROCURA") -> 12
C11: =SUM(C4:C10) -> 82
